BEGIN:VCALENDAR
VERSION:2.0
PRODID:-//Asia Institute Crane House - ECPv6.15.20//NONSGML v1.0//EN
CALSCALE:GREGORIAN
METHOD:PUBLISH
X-WR-CALNAME:Asia Institute Crane House
X-ORIGINAL-URL:https://crane-house.org
X-WR-CALDESC:Events for Asia Institute Crane House
REFRESH-INTERVAL;VALUE=DURATION:PT1H
X-Robots-Tag:noindex
X-PUBLISHED-TTL:PT1H
BEGIN:VTIMEZONE
TZID:UTC
BEGIN:STANDARD
TZOFFSETFROM:+0000
TZOFFSETTO:+0000
TZNAME:UTC
DTSTART:20230101T000000
END:STANDARD
END:VTIMEZONE
BEGIN:VEVENT
DTSTART;TZID=UTC:20241113T163000
DTEND;TZID=UTC:20241113T173000
DTSTAMP:20260424T075841
CREATED:20240910T155815Z
LAST-MODIFIED:20240910T155815Z
UID:3211-1731515400-1731519000@crane-house.org
SUMMARY:Chinese Club @ Field Elementary
DESCRIPTION:
URL:https://crane-house.org/event/chinese-club-field-elementary-5/
LOCATION:Field Elementary\, 120 Sacred Heart Ln\, Louisville\, 40206\, United States
CATEGORIES:Additional Program,Event Calendar,Upcoming Event
ATTACH;FMTTYPE=image/jpeg:https://crane-house.org/wp-content/uploads/2023/10/ChineseClub_Fields.jpg
ORGANIZER;CN="Asia Institute - Crane House":MAILTO:khamm@crane-house.org
END:VEVENT
BEGIN:VEVENT
DTSTART;TZID=UTC:20241112T145000
DTEND;TZID=UTC:20241112T154500
DTSTAMP:20260424T075841
CREATED:20240910T154051Z
LAST-MODIFIED:20240910T154051Z
UID:3193-1731423000-1731426300@crane-house.org
SUMMARY:Chinese Club @ Sacred Heart School - Oragami
DESCRIPTION:
URL:https://crane-house.org/event/chinese-club-sacred-heart-school-oragami/
LOCATION:Sacred Heart Academy\, 3175 Lexington Rd\, Louisville\, 40206\, United States
CATEGORIES:Additional Program,Event Calendar,Upcoming Event
ATTACH;FMTTYPE=image/png:https://crane-house.org/wp-content/uploads/2024/09/Chinese-Club-Flyer_header.png
ORGANIZER;CN="Asia Institute - Crane House":MAILTO:khamm@crane-house.org
END:VEVENT
BEGIN:VEVENT
DTSTART;TZID=UTC:20241110T193000
DTEND;TZID=UTC:20241110T213000
DTSTAMP:20260424T075841
CREATED:20241022T132934Z
LAST-MODIFIED:20241022T133143Z
UID:3301-1731267000-1731274200@crane-house.org
SUMMARY:TAIKOPROJECT Drum Assemble
DESCRIPTION:BUY TICKETS
URL:https://crane-house.org/event/taikoproject-drum-assemble/
LOCATION:The Kentucky Center for the Arts\, 501 W Main St\, Louisville\, KY\, 40202\, United States
CATEGORIES:Event Calendar,Upcoming Event
ATTACH;FMTTYPE=image/jpeg:https://crane-house.org/wp-content/uploads/2024/10/Taiko.jpg
ORGANIZER;CN="Asia Institute - Crane House":MAILTO:khamm@crane-house.org
END:VEVENT
BEGIN:VEVENT
DTSTART;TZID=UTC:20241109T110000
DTEND;TZID=UTC:20241109T120000
DTSTAMP:20260424T075841
CREATED:20240612T133041Z
LAST-MODIFIED:20240612T133041Z
UID:3069-1731150000-1731153600@crane-house.org
SUMMARY:Girl Scouts The Festival of the Arts - Chinese Painting Class
DESCRIPTION: Girl Scouts The Festival of the Arts\, 9 -10 am Chinese Painting Class
URL:https://crane-house.org/event/girl-scouts-the-festival-of-the-arts-chinese-painting-class/
END:VEVENT
BEGIN:VEVENT
DTSTART;TZID=UTC:20241109T090000
DTEND;TZID=UTC:20241109T110000
DTSTAMP:20260424T075841
CREATED:20240612T132928Z
LAST-MODIFIED:20240612T132928Z
UID:3067-1731142800-1731150000@crane-house.org
SUMMARY:Girl Scouts The Festival of the Arts - Chinese Calligraphy Class
DESCRIPTION: Girl Scouts The Festival of the Arts\, 9 -10 am Chinese Calligraphy Class
URL:https://crane-house.org/event/girl-scouts-the-festival-of-the-arts-calligraphy/
END:VEVENT
BEGIN:VEVENT
DTSTART;TZID=UTC:20241106T183000
DTEND;TZID=UTC:20241106T193000
DTSTAMP:20260424T075841
CREATED:20240910T152505Z
LAST-MODIFIED:20240910T152505Z
UID:3185-1730917800-1730921400@crane-house.org
SUMMARY:Chinese Language Practice Meetings
DESCRIPTION:  \nREGISTRATION & MORE INFO\nming.wu@louisville.edu
URL:https://crane-house.org/event/chinese-language-practice-meetings-4/
LOCATION:Jasmine Szechuan Chinese Cuisine\, 13825 English Villa Dr.\, Louisville\, United States
CATEGORIES:Additional Program,Event Calendar,Upcoming Event
ATTACH;FMTTYPE=image/png:https://crane-house.org/wp-content/uploads/2024/09/6th-Stage-Chinese-Corner-BGEMS_header.png
ORGANIZER;CN="Asia Institute - Crane House":MAILTO:khamm@crane-house.org
END:VEVENT
BEGIN:VEVENT
DTSTART;TZID=UTC:20241106T163000
DTEND;TZID=UTC:20241106T173000
DTSTAMP:20260424T075841
CREATED:20240910T155728Z
LAST-MODIFIED:20240910T155728Z
UID:3209-1730910600-1730914200@crane-house.org
SUMMARY:Chinese Club @ Field Elementary
DESCRIPTION:
URL:https://crane-house.org/event/chinese-club-field-elementary-4/
LOCATION:Field Elementary\, 120 Sacred Heart Ln\, Louisville\, 40206\, United States
CATEGORIES:Additional Program,Event Calendar,Upcoming Event
ATTACH;FMTTYPE=image/jpeg:https://crane-house.org/wp-content/uploads/2023/10/ChineseClub_Fields.jpg
ORGANIZER;CN="Asia Institute - Crane House":MAILTO:khamm@crane-house.org
END:VEVENT
BEGIN:VEVENT
DTSTART;VALUE=DATE:20241101
DTEND;VALUE=DATE:20250101
DTSTAMP:20260424T075841
CREATED:20240621T161656Z
LAST-MODIFIED:20241031T125842Z
UID:3091-1730419200-1735689599@crane-house.org
SUMMARY:AICH End of Year Campaign
DESCRIPTION: Dear Friends of Asia Institute – Crane House\, \nAs a Chinese descendant who has lived in three countries on three continents\, I finally call Louisville my home. While the city of Louisville is not as bustling as Shanghai\, where I spent my early adulthood\, nor does it have breathtaking bay and ocean views of Melbourne\, Australia\, where I raised my young son with my Aussie husband\, I find peace of mind here. Working for Asia Institute – Crane House (AICH) as the Education Director makes me feel fulfilled in my daily rituals. I am grateful for the trust put on my shoulder and thankful for the opportunity to help spread Asian cultural awareness and make the voices of the Asian community heard!  \nThroughout my many years of volunteering and working at Crane House\, I saw the needs and desires of the local students\, seniors\, and community members who want to be educated on the understanding and heritage of Asian cultures. However\, the past pandemic years have been tough for us\, as they were for all nonprofits.  \nAs of last year\, we are finally reconnecting with the community to carry out more constructive and impactful work through various Asian educational programs and cultural events. In 2022\, we revived the STARTALK program which offers free Mandarin language learning to students in Louisville. Over a hundred K-12 students benefited from this federally funded program in 2023.  \nAICH’s long-standing signature education program\, TIA (Teach in Asia)\, resumed in 2022. In partnership with the TECRO (Taipei Economic Cultural Representative Office in Washington D.C) and MOE (Ministry of Education) Taiwan\, we proudly added Taiwan to TIA destination sites along with China\, Vietnam\, and South Korea. We worked closely with the Kentucky Department of Education and JCPS to select and train nearly 20 American teachers to teach English and American culture at the Taiwan TIA summer camp in 2023 and 2024.  \nAfter a successful TIA initiation in Taiwan\, our long-time educational partner in China\, Jiujiang Education Department resumed the TIA program this summer and welcomed American teachers to the TIA camp in Jiujiang. The educational exchange between AICH and the Jiujiang Education Department inevitably enhanced the friendship between the two sister cities.  \nAICH welcomed the Jiujiang Delegation and co-hosted the 20th-anniversary sister city relationship reception with WAC (World Affairs Council of Kentucky and Southern Indiana) at Crane House in August. I was honored to represent AICH and help interpret during the official meetings between the Delegation and the Louisville Metro Office to seek bilateral cooperation in commerce\, trade\, logistics\, agriculture\, import & export sectors.  \nThe Asian Language Corner Program is AICH’s new education initiative that has received warm responses from the community and benefited many Asian language learners young and old alike. It helps form a unique bond between AICH and those in the community keen to explore Asian cultures. To date\, this program has offered over 25 sessions with 15-20 participants each session covering Chinese\, Japanese\, and Korean languages. AICH also co-hosted the Chinese Club at various schools inviting K-12 students to learn Chinese language and culture through activities and projects.  \nAs you can see\, AICH is always in the making of more Asian educational programs and we celebrate Asian holidays and festivals throughout the year. Our annual Asian cultural events such as the Lunar New Year Gala (the Year of the Snake Gala will be on Saturday\, Feb 1st\, 2025 at Speed Art Museum)\, and the Asian  \nNight Market at the Fourth Street Live during the Moon Festival\, both feature Asian cuisine\, Asian visual art\, and live performances.  \nOur educational programs and cultural events are always created with you in mind and we believe education is the key to making great changes!  \nWith your support and donations\, our work is made possible. We are counting on you to make an end-of-year gift to support AICH before entering another prosperous and eventful new year!  \nFirst-time donors or long-time supporters can contribute to AICH at www.crane-house.org/donate at any time. You can also send a cheque to 1244 S. Third St\, Louisville\, KY 40203.  \nWe thank you so much for your support and belief in what we do for the community!  \nBest wishes from the AICH team!  \nSincerely\,  \nJoanne Zhou  \nEducation Director/ Asia Institute – Crane House 
URL:https://crane-house.org/event/aich-end-of-year-campaign/
LOCATION:Asia Institute – Crane House\, 1244 S. 3rd Street\, Louisville\, KY
CATEGORIES:Event Calendar,Upcoming Event
ATTACH;FMTTYPE=image/jpeg:https://crane-house.org/wp-content/uploads/2024/06/2024-EOY-Card-Header.jpg
END:VEVENT
BEGIN:VEVENT
DTSTART;TZID=UTC:20241023T183000
DTEND;TZID=UTC:20241023T193000
DTSTAMP:20260424T075841
CREATED:20240910T152423Z
LAST-MODIFIED:20240910T152423Z
UID:3183-1729708200-1729711800@crane-house.org
SUMMARY:Chinese Language Practice Meetings
DESCRIPTION:  \nREGISTRATION & MORE INFO\nming.wu@louisville.edu
URL:https://crane-house.org/event/chinese-language-practice-meetings-3/
LOCATION:Jasmine Szechuan Chinese Cuisine\, 13825 English Villa Dr.\, Louisville\, United States
CATEGORIES:Additional Program,Event Calendar,Upcoming Event
ATTACH;FMTTYPE=image/png:https://crane-house.org/wp-content/uploads/2024/09/6th-Stage-Chinese-Corner-BGEMS_header.png
ORGANIZER;CN="Asia Institute - Crane House":MAILTO:khamm@crane-house.org
END:VEVENT
BEGIN:VEVENT
DTSTART;TZID=UTC:20241023T163000
DTEND;TZID=UTC:20241023T173000
DTSTAMP:20260424T075841
CREATED:20240910T155635Z
LAST-MODIFIED:20240910T155635Z
UID:3207-1729701000-1729704600@crane-house.org
SUMMARY:Chinese Club @ Field Elementary
DESCRIPTION:
URL:https://crane-house.org/event/chinese-club-field-elementary-3/
LOCATION:Field Elementary\, 120 Sacred Heart Ln\, Louisville\, 40206\, United States
CATEGORIES:Additional Program,Event Calendar,Upcoming Event
ATTACH;FMTTYPE=image/jpeg:https://crane-house.org/wp-content/uploads/2023/10/ChineseClub_Fields.jpg
ORGANIZER;CN="Asia Institute - Crane House":MAILTO:khamm@crane-house.org
END:VEVENT
BEGIN:VEVENT
DTSTART;TZID=UTC:20241019T160000
DTEND;TZID=UTC:20241019T200000
DTSTAMP:20260424T075841
CREATED:20241022T133709Z
LAST-MODIFIED:20241022T133709Z
UID:3306-1729353600-1729368000@crane-house.org
SUMMARY:Filipino American Night
DESCRIPTION:
URL:https://crane-house.org/event/filipino-american-night/
LOCATION:625 W. Magnolia\, 625 W. Magnolia\, Louisville\, KY\, 40208\, United States
CATEGORIES:Event Calendar,Upcoming Event
ATTACH;FMTTYPE=image/jpeg:https://crane-house.org/wp-content/uploads/2024/10/unnamed-6-1.jpg
ORGANIZER;CN="Asia Institute - Crane House":MAILTO:khamm@crane-house.org
END:VEVENT
BEGIN:VEVENT
DTSTART;TZID=UTC:20241016T163000
DTEND;TZID=UTC:20241016T173000
DTSTAMP:20260424T075841
CREATED:20240910T154752Z
LAST-MODIFIED:20240910T155551Z
UID:3203-1729096200-1729099800@crane-house.org
SUMMARY:Chinese Club @ Field Elementary
DESCRIPTION:
URL:https://crane-house.org/event/chinese-club-field-elementary-2/
LOCATION:Field Elementary\, 120 Sacred Heart Ln\, Louisville\, 40206\, United States
CATEGORIES:Additional Program,Event Calendar,Upcoming Event
ATTACH;FMTTYPE=image/jpeg:https://crane-house.org/wp-content/uploads/2023/10/ChineseClub_Fields.jpg
ORGANIZER;CN="Asia Institute - Crane House":MAILTO:khamm@crane-house.org
END:VEVENT
BEGIN:VEVENT
DTSTART;TZID=UTC:20241015T145000
DTEND;TZID=UTC:20241015T154500
DTSTAMP:20260424T075841
CREATED:20240910T153929Z
LAST-MODIFIED:20240910T154133Z
UID:3191-1729003800-1729007100@crane-house.org
SUMMARY:Chinese Club @ Sacred Heart School - Calligraphy
DESCRIPTION:
URL:https://crane-house.org/event/chinese-club-sacred-heart-school-calligraphy/
LOCATION:Sacred Heart Academy\, 3175 Lexington Rd\, Louisville\, 40206\, United States
CATEGORIES:Additional Program,Event Calendar,Upcoming Event
ATTACH;FMTTYPE=image/png:https://crane-house.org/wp-content/uploads/2024/09/Chinese-Club-Flyer_header.png
ORGANIZER;CN="Asia Institute - Crane House":MAILTO:khamm@crane-house.org
END:VEVENT
BEGIN:VEVENT
DTSTART;TZID=UTC:20241009T183000
DTEND;TZID=UTC:20241009T193000
DTSTAMP:20260424T075841
CREATED:20240910T152332Z
LAST-MODIFIED:20240910T152332Z
UID:3181-1728498600-1728502200@crane-house.org
SUMMARY:Chinese Language Practice Meetings
DESCRIPTION:  \nREGISTRATION & MORE INFO\nming.wu@louisville.edu
URL:https://crane-house.org/event/chinese-language-practice-meetings-2/
LOCATION:Jasmine Szechuan Chinese Cuisine\, 13825 English Villa Dr.\, Louisville\, United States
CATEGORIES:Additional Program,Event Calendar,Upcoming Event
ATTACH;FMTTYPE=image/png:https://crane-house.org/wp-content/uploads/2024/09/6th-Stage-Chinese-Corner-BGEMS_header.png
ORGANIZER;CN="Asia Institute - Crane House":MAILTO:khamm@crane-house.org
END:VEVENT
BEGIN:VEVENT
DTSTART;TZID=UTC:20241009T163000
DTEND;TZID=UTC:20241009T173000
DTSTAMP:20260424T075841
CREATED:20240910T154654Z
LAST-MODIFIED:20240910T155447Z
UID:3201-1728491400-1728495000@crane-house.org
SUMMARY:Chinese Club @ Field Elementary
DESCRIPTION:
URL:https://crane-house.org/event/chinese-club-field-elementary/
LOCATION:Field Elementary\, 120 Sacred Heart Ln\, Louisville\, 40206\, United States
CATEGORIES:Additional Program,Event Calendar,Upcoming Event
ATTACH;FMTTYPE=image/jpeg:https://crane-house.org/wp-content/uploads/2023/10/ChineseClub_Fields.jpg
ORGANIZER;CN="Asia Institute - Crane House":MAILTO:khamm@crane-house.org
END:VEVENT
BEGIN:VEVENT
DTSTART;VALUE=DATE:20241004
DTEND;VALUE=DATE:20241007
DTSTAMP:20260424T075841
CREATED:20240208T183924Z
LAST-MODIFIED:20240208T183924Z
UID:2844-1728000000-1728259199@crane-house.org
SUMMARY:St. James Parking Lot Fundraiser
DESCRIPTION:
URL:https://crane-house.org/event/st-james-fundraiser/
LOCATION:Fourth Street Live\, 411 S Fourth St\, Louisville\, KY\, 40202\, United States
CATEGORIES:Event Calendar,Upcoming Event
ATTACH;FMTTYPE=image/jpeg:https://crane-house.org/wp-content/uploads/2024/02/st_james_fundraiser.jpg
ORGANIZER;CN="Asia Institute - Crane House":MAILTO:khamm@crane-house.org
END:VEVENT
BEGIN:VEVENT
DTSTART;TZID=UTC:20241002T180000
DTEND;TZID=UTC:20241002T200000
DTSTAMP:20260424T075841
CREATED:20240910T151324Z
LAST-MODIFIED:20240910T151324Z
UID:3173-1727892000-1727899200@crane-house.org
SUMMARY:Hanover College Information Session
DESCRIPTION:
URL:https://crane-house.org/event/hanover-college-information-session/
LOCATION:Asia Institute – Crane House\, 1244 S. 3rd Street\, Louisville\, KY
CATEGORIES:Additional Program,Event Calendar,Upcoming Event
ATTACH;FMTTYPE=image/png:https://crane-house.org/wp-content/uploads/2024/09/Hanover-Scholarship-Final-Flyer_header-.png
ORGANIZER;CN="Asia Institute - Crane House":MAILTO:khamm@crane-house.org
END:VEVENT
BEGIN:VEVENT
DTSTART;TZID=UTC:20240929T150000
DTEND;TZID=UTC:20240929T160000
DTSTAMP:20260424T075841
CREATED:20240919T173017Z
LAST-MODIFIED:20240919T173017Z
UID:3224-1727622000-1727625600@crane-house.org
SUMMARY:Mid-Autumn Festival - Lantern DIY Session
DESCRIPTION:
URL:https://crane-house.org/event/mid-autumn-festival-lantern-diy-session/
LOCATION:Northeast Regional Library\, 15 Bellevoir Circle\, Louisville\, KY\, United States
CATEGORIES:Event Calendar,Upcoming Event
ATTACH;FMTTYPE=image/jpeg:https://crane-house.org/wp-content/uploads/2024/09/Lantern-DIY-Session-Flyer_head.jpg
ORGANIZER;CN="Asia Institute - Crane House":MAILTO:khamm@crane-house.org
END:VEVENT
BEGIN:VEVENT
DTSTART;TZID=UTC:20240925T183000
DTEND;TZID=UTC:20240925T193000
DTSTAMP:20260424T075841
CREATED:20240910T152149Z
LAST-MODIFIED:20240910T152239Z
UID:3176-1727289000-1727292600@crane-house.org
SUMMARY:Chinese Language Practice Meetings
DESCRIPTION:  \nREGISTRATION & MORE INFO\nming.wu@louisville.edu
URL:https://crane-house.org/event/chinese-language-practice-meetings/
LOCATION:Jasmine Szechuan Chinese Cuisine\, 13825 English Villa Dr.\, Louisville\, United States
CATEGORIES:Additional Program,Event Calendar,Upcoming Event
ATTACH;FMTTYPE=image/png:https://crane-house.org/wp-content/uploads/2024/09/6th-Stage-Chinese-Corner-BGEMS_header.png
ORGANIZER;CN="Asia Institute - Crane House":MAILTO:khamm@crane-house.org
END:VEVENT
BEGIN:VEVENT
DTSTART;TZID=UTC:20240918T120000
DTEND;TZID=UTC:20240918T160000
DTSTAMP:20260424T075841
CREATED:20240924T160121Z
LAST-MODIFIED:20240924T160121Z
UID:3263-1726660800-1726675200@crane-house.org
SUMMARY:Chinese Club - Francis Parker School
DESCRIPTION:
URL:https://crane-house.org/event/chinese-club-francis-parker-school/
LOCATION:Francis Parker School\, 233 W Broadway\, Louisville\, 40202\, United States
CATEGORIES:Additional Program,Event Calendar,Upcoming Event
ATTACH;FMTTYPE=image/png:https://crane-house.org/wp-content/uploads/2024/09/image001-1.png
ORGANIZER;CN="Asia Institute - Crane House":MAILTO:khamm@crane-house.org
END:VEVENT
BEGIN:VEVENT
DTSTART;TZID=UTC:20240917T145000
DTEND;TZID=UTC:20240917T154500
DTSTAMP:20260424T075841
CREATED:20240910T153806Z
LAST-MODIFIED:20240910T154202Z
UID:3187-1726584600-1726587900@crane-house.org
SUMMARY:Chinese Club @ Sacred Heart School - Mahjong
DESCRIPTION:
URL:https://crane-house.org/event/chinese-club-sacred-heart-model-school-2/
LOCATION:Sacred Heart Academy\, 3175 Lexington Rd\, Louisville\, 40206\, United States
CATEGORIES:Additional Program,Event Calendar,Upcoming Event
ATTACH;FMTTYPE=image/png:https://crane-house.org/wp-content/uploads/2024/09/Chinese-Club-Flyer_header.png
ORGANIZER;CN="Asia Institute - Crane House":MAILTO:khamm@crane-house.org
END:VEVENT
BEGIN:VEVENT
DTSTART;TZID=UTC:20240914T170000
DTEND;TZID=UTC:20240914T220000
DTSTAMP:20260424T075841
CREATED:20240208T183430Z
LAST-MODIFIED:20240828T130401Z
UID:2841-1726333200-1726351200@crane-house.org
SUMMARY:Asian Night Market
DESCRIPTION:
URL:https://crane-house.org/event/asian-night-market-3/
LOCATION:Fourth Street Live\, 411 S Fourth St\, Louisville\, KY\, 40202\, United States
CATEGORIES:Event Calendar,QTAPI,Upcoming Event
ATTACH;FMTTYPE=image/jpeg:https://crane-house.org/wp-content/uploads/2024/08/ANM-final-.jpeg
ORGANIZER;CN="Asia Institute - Crane House":MAILTO:khamm@crane-house.org
END:VEVENT
BEGIN:VEVENT
DTSTART;TZID=UTC:20240905T180000
DTEND;TZID=UTC:20240905T200000
DTSTAMP:20260424T075841
CREATED:20240612T132620Z
LAST-MODIFIED:20240612T132642Z
UID:3065-1725559200-1725566400@crane-house.org
SUMMARY:Teach In Asia - 2025
DESCRIPTION:TIA 2025 Recruitment & Orientation Session\, Open to Public\, at 6 pm.
URL:https://crane-house.org/event/teach-in-asia-2025-4/
LOCATION:Asia Institute – Crane House\, 1244 S. 3rd Street\, Louisville\, KY
CATEGORIES:Event Calendar,Upcoming Event
ATTACH;FMTTYPE=image/jpeg:https://crane-house.org/wp-content/uploads/2024/06/TIA2025Header.jpg
ORGANIZER;CN="Asia Institute - Crane House":MAILTO:khamm@crane-house.org
END:VEVENT
BEGIN:VEVENT
DTSTART;TZID=UTC:20240802T180000
DTEND;TZID=UTC:20240802T200000
DTSTAMP:20260424T075841
CREATED:20240612T132336Z
LAST-MODIFIED:20240612T132336Z
UID:3063-1722621600-1722628800@crane-house.org
SUMMARY:Teach In Asia - 2024
DESCRIPTION:  \nTIA 2024 Teachers Reunion Dinner at 6 pm\, Location TBC
URL:https://crane-house.org/event/teach-in-asia-2024-3/
LOCATION:Asia Institute – Crane House\, 1244 S. 3rd Street\, Louisville\, KY
CATEGORIES:Event Calendar,Upcoming Event
ATTACH;FMTTYPE=image/jpeg:https://crane-house.org/wp-content/uploads/2024/06/Teach-in-Asia-2024-header.jpg
ORGANIZER;CN="Asia Institute - Crane House":MAILTO:khamm@crane-house.org
END:VEVENT
BEGIN:VEVENT
DTSTART;VALUE=DATE:20240701
DTEND;VALUE=DATE:20240702
DTSTAMP:20260424T075841
CREATED:20240612T132015Z
LAST-MODIFIED:20240612T132015Z
UID:3059-1719792000-1719878399@crane-house.org
SUMMARY:Teach In Asia - 2024
DESCRIPTION:  \nTIA 2024 China Cohort Departs the U.S.
URL:https://crane-house.org/event/teach-in-asia-2024-2/
LOCATION:Asia Institute – Crane House\, 1244 S. 3rd Street\, Louisville\, KY
CATEGORIES:Event Calendar,Upcoming Event
ATTACH;FMTTYPE=image/jpeg:https://crane-house.org/wp-content/uploads/2024/06/Teach-in-Asia-2024-header.jpg
ORGANIZER;CN="Asia Institute - Crane House":MAILTO:khamm@crane-house.org
END:VEVENT
BEGIN:VEVENT
DTSTART;TZID=UTC:20240629T210000
DTEND;TZID=UTC:20240630T010000
DTSTAMP:20260424T075841
CREATED:20240620T124103Z
LAST-MODIFIED:20240620T124103Z
UID:3086-1719694800-1719709200@crane-house.org
SUMMARY:K-Pop Night
DESCRIPTION:
URL:https://crane-house.org/event/k-pop-night/
LOCATION:Vernon Lanes\, 1575 Story Ave\, Louisville\, KY\, 40206
CATEGORIES:Event Calendar,Upcoming Event
ATTACH;FMTTYPE=image/jpeg:https://crane-house.org/wp-content/uploads/2024/06/Kpop-Night-Event-.jpg
ORGANIZER;CN="Asia Institute - Crane House":MAILTO:khamm@crane-house.org
END:VEVENT
BEGIN:VEVENT
DTSTART;VALUE=DATE:20240625
DTEND;VALUE=DATE:20240626
DTSTAMP:20260424T075841
CREATED:20240612T131646Z
LAST-MODIFIED:20240612T132441Z
UID:3054-1719273600-1719359999@crane-house.org
SUMMARY:Teach In Asia - 2024
DESCRIPTION:  \nTIA 2024 Taiwan Cohort Departs the U.S.
URL:https://crane-house.org/event/teach-in-asia-2024/
LOCATION:Asia Institute – Crane House\, 1244 S. 3rd Street\, Louisville\, KY
CATEGORIES:Event Calendar,Upcoming Event
ATTACH;FMTTYPE=image/jpeg:https://crane-house.org/wp-content/uploads/2024/06/Teach-in-Asia-2024-header.jpg
ORGANIZER;CN="Asia Institute - Crane House":MAILTO:khamm@crane-house.org
END:VEVENT
BEGIN:VEVENT
DTSTART;TZID=UTC:20240623T090000
DTEND;TZID=UTC:20240627T153000
DTSTAMP:20260424T075841
CREATED:20250317T133340Z
LAST-MODIFIED:20250527T161413Z
UID:3603-1719133200-1719502200@crane-house.org
SUMMARY:Crane House Explorers: A Chinese Adventure - Summer Camp
DESCRIPTION:
URL:https://crane-house.org/event/crane-house-explorers-a-chinese-adventure-summer-camp/
LOCATION:Asia Institute – Crane House\, 1244 S. 3rd Street\, Louisville\, KY
CATEGORIES:Additional Program,Event Calendar,Upcoming Event
ATTACH;FMTTYPE=image/png:https://crane-house.org/wp-content/uploads/2025/03/Summer-Camp-Flyer-2025_header.png
ORGANIZER;CN="Asia Institute - Crane House":MAILTO:khamm@crane-house.org
END:VEVENT
BEGIN:VEVENT
DTSTART;TZID=UTC:20240617T163000
DTEND;TZID=UTC:20240617T173000
DTSTAMP:20260424T075841
CREATED:20240208T181121Z
LAST-MODIFIED:20240530T161939Z
UID:2830-1718641800-1718645400@crane-house.org
SUMMARY:Teach In Asia - Training Date
DESCRIPTION:
URL:https://crane-house.org/event/teach-in-asia-training-date-6-20/
LOCATION:Asia Institute – Crane House\, 1244 S. 3rd Street\, Louisville\, KY
CATEGORIES:Event Calendar,Upcoming Event
ATTACH;FMTTYPE=image/jpeg:https://crane-house.org/wp-content/uploads/2023/08/Teach-in-Asia-2024.jpg
ORGANIZER;CN="Asia Institute - Crane House":MAILTO:khamm@crane-house.org
END:VEVENT
BEGIN:VEVENT
DTSTART;TZID=UTC:20240616T140000
DTEND;TZID=UTC:20240616T160000
DTSTAMP:20260424T075841
CREATED:20240529T165618Z
LAST-MODIFIED:20240529T165618Z
UID:3023-1718546400-1718553600@crane-house.org
SUMMARY:Mandoo-Making Class
DESCRIPTION:
URL:https://crane-house.org/event/mandoo-making-class-2/
LOCATION:Asia Institute – Crane House\, 1244 S. 3rd Street\, Louisville\, KY
CATEGORIES:Event Calendar,Upcoming Event
ATTACH;FMTTYPE=image/jpeg:https://crane-house.org/wp-content/uploads/2024/05/IG-size_header.jpg
ORGANIZER;CN="Asia Institute - Crane House":MAILTO:khamm@crane-house.org
END:VEVENT
END:VCALENDAR