BEGIN:VCALENDAR
VERSION:2.0
PRODID:-//Asia Institute Crane House - ECPv6.15.20//NONSGML v1.0//EN
CALSCALE:GREGORIAN
METHOD:PUBLISH
X-ORIGINAL-URL:https://crane-house.org
X-WR-CALDESC:Events for Asia Institute Crane House
REFRESH-INTERVAL;VALUE=DURATION:PT1H
X-Robots-Tag:noindex
X-PUBLISHED-TTL:PT1H
BEGIN:VTIMEZONE
TZID:UTC
BEGIN:STANDARD
TZOFFSETFROM:+0000
TZOFFSETTO:+0000
TZNAME:UTC
DTSTART:20250101T000000
END:STANDARD
END:VTIMEZONE
BEGIN:VEVENT
DTSTART;VALUE=DATE:20260531
DTEND;VALUE=DATE:20260601
DTSTAMP:20260423T231247
CREATED:20240620T123526Z
LAST-MODIFIED:20260320T133650Z
UID:3081-1780185600-1780271999@crane-house.org
SUMMARY:Bonsai Weekend
DESCRIPTION:Location: Waterfront Botanical Gardens – 1435 Frankfort Ave\, Louisville\, KY 40206\nAICH is excited to partner with Waterfront Botanical Gardens to host a special AICH Day on the Sunday (May 31) of Bonsai Weekend! Spend the day enjoying live performances\, browsing local vendors\, and celebrating Asian culture and community in a beautiful garden setting. (Tickets Required)
URL:https://crane-house.org/event/bonsai-weekend/
LOCATION:Waterfront Botanical Gardens\, 1435 Frankfort Ave\, Louisville\, KY\, 40206\, United States
CATEGORIES:Event Calendar,Upcoming Event
ATTACH;FMTTYPE=image/jpeg:https://crane-house.org/wp-content/uploads/2025/02/Bonsai_header.jpg
ORGANIZER;CN="Asia Institute - Crane House":MAILTO:khamm@crane-house.org
END:VEVENT
BEGIN:VEVENT
DTSTART;TZID=UTC:20260601T090000
DTEND;TZID=UTC:20260601T153000
DTSTAMP:20260423T231247
CREATED:20260107T145226Z
LAST-MODIFIED:20260423T170806Z
UID:4075-1780304400-1780327800@crane-house.org
SUMMARY:Kids Summer Camp
DESCRIPTION:
URL:https://crane-house.org/event/kids-summer-camp/
LOCATION:Asia Institute – Crane House\, 1244 S. 3rd Street\, Louisville\, KY
CATEGORIES:Additional Program,Event Calendar,Upcoming Event
ATTACH;FMTTYPE=image/png:https://crane-house.org/wp-content/uploads/2026/01/summercampheader.png
ORGANIZER;CN="Asia Institute - Crane House":MAILTO:khamm@crane-house.org
END:VEVENT
BEGIN:VEVENT
DTSTART;TZID=UTC:20260602T090000
DTEND;TZID=UTC:20260602T153000
DTSTAMP:20260423T231247
CREATED:20260107T145457Z
LAST-MODIFIED:20260423T170729Z
UID:4079-1780390800-1780414200@crane-house.org
SUMMARY:Kids Summer Camp
DESCRIPTION:
URL:https://crane-house.org/event/kids-summer-camp-2/
LOCATION:Asia Institute – Crane House\, 1244 S. 3rd Street\, Louisville\, KY
CATEGORIES:Additional Program,Event Calendar,Upcoming Event
ATTACH;FMTTYPE=image/png:https://crane-house.org/wp-content/uploads/2026/01/summercampheader.png
ORGANIZER;CN="Asia Institute - Crane House":MAILTO:khamm@crane-house.org
END:VEVENT
BEGIN:VEVENT
DTSTART;TZID=UTC:20260603T090000
DTEND;TZID=UTC:20260603T153000
DTSTAMP:20260423T231247
CREATED:20260107T145541Z
LAST-MODIFIED:20260423T170653Z
UID:4081-1780477200-1780500600@crane-house.org
SUMMARY:Kids Summer Camp
DESCRIPTION:
URL:https://crane-house.org/event/kids-summer-camp-3/
LOCATION:Asia Institute – Crane House\, 1244 S. 3rd Street\, Louisville\, KY
CATEGORIES:Additional Program,Event Calendar,Upcoming Event
ATTACH;FMTTYPE=image/png:https://crane-house.org/wp-content/uploads/2026/01/summercampheader.png
ORGANIZER;CN="Asia Institute - Crane House":MAILTO:khamm@crane-house.org
END:VEVENT
BEGIN:VEVENT
DTSTART;TZID=UTC:20260604T090000
DTEND;TZID=UTC:20260604T153000
DTSTAMP:20260423T231247
CREATED:20260107T145652Z
LAST-MODIFIED:20260423T170303Z
UID:4083-1780563600-1780587000@crane-house.org
SUMMARY:Kids Summer Camp
DESCRIPTION:
URL:https://crane-house.org/event/kids-summer-camp-4/
LOCATION:Asia Institute – Crane House\, 1244 S. 3rd Street\, Louisville\, KY
CATEGORIES:Additional Program,Event Calendar,Upcoming Event
ATTACH;FMTTYPE=image/png:https://crane-house.org/wp-content/uploads/2026/01/summercampheader.png
ORGANIZER;CN="Asia Institute - Crane House":MAILTO:khamm@crane-house.org
END:VEVENT
BEGIN:VEVENT
DTSTART;TZID=UTC:20260605T090000
DTEND;TZID=UTC:20260605T153000
DTSTAMP:20260423T231247
CREATED:20260107T145727Z
LAST-MODIFIED:20260423T170204Z
UID:4085-1780650000-1780673400@crane-house.org
SUMMARY:Kids Summer Camp
DESCRIPTION:
URL:https://crane-house.org/event/kids-summer-camp-5/
LOCATION:Asia Institute – Crane House\, 1244 S. 3rd Street\, Louisville\, KY
CATEGORIES:Additional Program,Event Calendar,Upcoming Event
ATTACH;FMTTYPE=image/png:https://crane-house.org/wp-content/uploads/2026/01/summercampheader.png
ORGANIZER;CN="Asia Institute - Crane House":MAILTO:khamm@crane-house.org
END:VEVENT
BEGIN:VEVENT
DTSTART;TZID=UTC:20260606T133000
DTEND;TZID=UTC:20260606T153000
DTSTAMP:20260423T231247
CREATED:20260319T190502Z
LAST-MODIFIED:20260319T190502Z
UID:4220-1780752600-1780759800@crane-house.org
SUMMARY:Mahjong Workshop
DESCRIPTION:Mahjong Workshop at Mercer County Public Library\n  \n 
URL:https://crane-house.org/event/mahjong-workshop-10/
LOCATION:Mercer County Public Library\, 109 W Lexington St\, Harrodsburg\, KY\, 40330\, United States
CATEGORIES:Event Calendar,Upcoming Event
ATTACH;FMTTYPE=image/png:https://crane-house.org/wp-content/uploads/2025/04/Mahjong_header.png
ORGANIZER;CN="Asia Institute - Crane House":MAILTO:khamm@crane-house.org
END:VEVENT
BEGIN:VEVENT
DTSTART;TZID=UTC:20260610T170000
DTEND;TZID=UTC:20260610T183000
DTSTAMP:20260423T231247
CREATED:20260107T144011Z
LAST-MODIFIED:20260116T215322Z
UID:4073-1781110800-1781116200@crane-house.org
SUMMARY:Teach In Asia – Training Date
DESCRIPTION: 
URL:https://crane-house.org/event/teach-in-asia-training-date-9/
LOCATION:Asia Institute – Crane House\, 1244 S. 3rd Street\, Louisville\, KY
CATEGORIES:Additional Program,Event Calendar,Upcoming Event
ORGANIZER;CN="Asia Institute - Crane House":MAILTO:khamm@crane-house.org
END:VEVENT
BEGIN:VEVENT
DTSTART;TZID=UTC:20260613T160000
DTEND;TZID=UTC:20260613T200000
DTSTAMP:20260423T231247
CREATED:20251203T164334Z
LAST-MODIFIED:20251203T164334Z
UID:4023-1781366400-1781380800@crane-house.org
SUMMARY:Philippines Independence Day Celebration
DESCRIPTION:  \n  \n  \n 
URL:https://crane-house.org/event/philippines-independence-day-celebration-2/
LOCATION:Fourth Street Live\, 411 S Fourth St\, Louisville\, KY\, 40202\, United States
CATEGORIES:Event Calendar,Upcoming Event
ATTACH;FMTTYPE=image/jpeg:https://crane-house.org/wp-content/uploads/2025/05/PhilippinesIndependenceDayCelebration_header.jpg
ORGANIZER;CN="Asia Institute - Crane House":MAILTO:khamm@crane-house.org
END:VEVENT
BEGIN:VEVENT
DTSTART;TZID=UTC:20260626T170000
DTEND;TZID=UTC:20260626T180000
DTSTAMP:20260423T231247
CREATED:20260422T183853Z
LAST-MODIFIED:20260422T183853Z
UID:4273-1782493200-1782496800@crane-house.org
SUMMARY:Kimbap Workshop I – AICH Asian Language Corner Special Event
DESCRIPTION:
URL:https://crane-house.org/event/kimbap-workshop-i-aich-asian-language-corner-special-event-2/
LOCATION:Asia Institute – Crane House\, 1244 S. 3rd Street\, Louisville\, KY
CATEGORIES:Asian Language Program,Event Calendar,Upcoming Event
ATTACH;FMTTYPE=image/jpeg:https://crane-house.org/wp-content/uploads/2026/04/Kimbap-Workshop-header.jpg
ORGANIZER;CN="Asia Institute - Crane House":MAILTO:khamm@crane-house.org
END:VEVENT
BEGIN:VEVENT
DTSTART;TZID=UTC:20260626T190000
DTEND;TZID=UTC:20260626T200000
DTSTAMP:20260423T231247
CREATED:20260422T183728Z
LAST-MODIFIED:20260422T183728Z
UID:4267-1782500400-1782504000@crane-house.org
SUMMARY:Kimbap Workshop I – AICH Asian Language Corner Special Event
DESCRIPTION:
URL:https://crane-house.org/event/kimbap-workshop-i-aich-asian-language-corner-special-event/
LOCATION:Asia Institute – Crane House\, 1244 S. 3rd Street\, Louisville\, KY
CATEGORIES:Asian Language Program,Event Calendar,Upcoming Event
ATTACH;FMTTYPE=image/jpeg:https://crane-house.org/wp-content/uploads/2026/04/Kimbap-Workshop-header.jpg
ORGANIZER;CN="Asia Institute - Crane House":MAILTO:khamm@crane-house.org
END:VEVENT
BEGIN:VEVENT
DTSTART;TZID=UTC:20260629T133000
DTEND;TZID=UTC:20260629T150000
DTSTAMP:20260423T231247
CREATED:20260422T185308Z
LAST-MODIFIED:20260422T185308Z
UID:4279-1782739800-1782745200@crane-house.org
SUMMARY:YMCA Summer Workshops – Asian Music Appreciation and Japanese Origami
DESCRIPTION:
URL:https://crane-house.org/event/ymca-summer-workshops-asian-music-appreciation-and-japanese-origami/
LOCATION:YMCA\, 555 S 2nd St\, Louisville\, KY\, 40202\, United States
CATEGORIES:Event Calendar,Upcoming Event
END:VEVENT
BEGIN:VEVENT
DTSTART;TZID=UTC:20260727T180000
DTEND;TZID=UTC:20260727T193000
DTSTAMP:20260423T231247
CREATED:20260323T154315Z
LAST-MODIFIED:20260323T154315Z
UID:4231-1785175200-1785180600@crane-house.org
SUMMARY:Mahjong Workshop
DESCRIPTION:Mahjong Workshop at Crescent Hill Library.\n  \n 
URL:https://crane-house.org/event/mahjong-workshop-11/
LOCATION:Crescent Hill Library\, 2762 Frankfort Ave\, Louisville\, 40206\, United States
CATEGORIES:Event Calendar,Upcoming Event
ATTACH;FMTTYPE=image/png:https://crane-house.org/wp-content/uploads/2025/04/Mahjong_header.png
ORGANIZER;CN="Asia Institute - Crane House":MAILTO:khamm@crane-house.org
END:VEVENT
BEGIN:VEVENT
DTSTART;TZID=UTC:20260925T170000
DTEND;TZID=UTC:20260925T220000
DTSTAMP:20260423T231247
CREATED:20251203T164736Z
LAST-MODIFIED:20251203T164736Z
UID:4025-1790355600-1790373600@crane-house.org
SUMMARY:Asian Night Market
DESCRIPTION:
URL:https://crane-house.org/event/asian-night-market-5/
LOCATION:Fourth Street Live\, 411 S Fourth St\, Louisville\, KY\, 40202\, United States
CATEGORIES:Event Calendar,QTAPI,Upcoming Event
ORGANIZER;CN="Asia Institute - Crane House":MAILTO:khamm@crane-house.org
END:VEVENT
END:VCALENDAR