BEGIN:VCALENDAR
VERSION:2.0
PRODID:-//Asia Institute Crane House - ECPv6.15.20//NONSGML v1.0//EN
CALSCALE:GREGORIAN
METHOD:PUBLISH
X-WR-CALNAME:Asia Institute Crane House
X-ORIGINAL-URL:https://crane-house.org
X-WR-CALDESC:Events for Asia Institute Crane House
REFRESH-INTERVAL;VALUE=DURATION:PT1H
X-Robots-Tag:noindex
X-PUBLISHED-TTL:PT1H
BEGIN:VTIMEZONE
TZID:UTC
BEGIN:STANDARD
TZOFFSETFROM:+0000
TZOFFSETTO:+0000
TZNAME:UTC
DTSTART:20240101T000000
END:STANDARD
END:VTIMEZONE
BEGIN:VEVENT
DTSTART;TZID=UTC:20250822T180000
DTEND;TZID=UTC:20250822T200000
DTSTAMP:20260424T000959
CREATED:20250730T141533Z
LAST-MODIFIED:20250730T141533Z
UID:3844-1755885600-1755892800@crane-house.org
SUMMARY:The Speed Cinema is showing Cloud
DESCRIPTION: 
URL:https://crane-house.org/event/the-speed-cinema-is-showing-cloud/
LOCATION:Speed Museum\, 2035 S Third St\, Louisville\, KY\, 40208\, United States
CATEGORIES:Event Calendar,Upcoming Event
ORGANIZER;CN="Asia Institute - Crane House":MAILTO:khamm@crane-house.org
END:VEVENT
BEGIN:VEVENT
DTSTART;TZID=UTC:20250821T180000
DTEND;TZID=UTC:20250821T190000
DTSTAMP:20260424T000959
CREATED:20250625T132030Z
LAST-MODIFIED:20250625T132722Z
UID:3765-1755799200-1755802800@crane-house.org
SUMMARY:Mahjong @ Crescent Hill Library
DESCRIPTION:
URL:https://crane-house.org/event/mahjong-crescent-hill-library/
LOCATION:Crescent Hill Library\, 2762 Frankfort Ave\, Louisville\, 40206\, United States
CATEGORIES:Event Calendar,Upcoming Event
ORGANIZER;CN="Asia Institute - Crane House":MAILTO:khamm@crane-house.org
END:VEVENT
BEGIN:VEVENT
DTSTART;TZID=UTC:20250713T140000
DTEND;TZID=UTC:20250713T160000
DTSTAMP:20260424T000959
CREATED:20250624T150640Z
LAST-MODIFIED:20250624T150640Z
UID:3763-1752415200-1752422400@crane-house.org
SUMMARY:Asian Film Series - An Unfinished Film
DESCRIPTION:GET TICKETS
URL:https://crane-house.org/event/asian-film-series-an-unfinished-film/
LOCATION:Speed Museum\, 2035 S Third St\, Louisville\, KY\, 40208\, United States
CATEGORIES:Event Calendar,Upcoming Event
ATTACH;FMTTYPE=image/png:https://crane-house.org/wp-content/uploads/2025/06/FINAL-Asian-Film-Series-An-Unfinished-Film.png
ORGANIZER;CN="Asia Institute - Crane House":MAILTO:khamm@crane-house.org
END:VEVENT
BEGIN:VEVENT
DTSTART;TZID=UTC:20250712T180000
DTEND;TZID=UTC:20250712T200000
DTSTAMP:20260424T000959
CREATED:20250624T150357Z
LAST-MODIFIED:20250624T150357Z
UID:3759-1752343200-1752350400@crane-house.org
SUMMARY:Asian Film Series - Caught by the Tides
DESCRIPTION:GET TICKETS
URL:https://crane-house.org/event/asian-film-series-caught-by-the-tides-2/
LOCATION:Speed Museum\, 2035 S Third St\, Louisville\, KY\, 40208\, United States
CATEGORIES:Event Calendar,Upcoming Event
ATTACH;FMTTYPE=image/png:https://crane-house.org/wp-content/uploads/2025/06/Asian-Film-Series-Caught-by-the-Tides.png
ORGANIZER;CN="Asia Institute - Crane House":MAILTO:khamm@crane-house.org
END:VEVENT
BEGIN:VEVENT
DTSTART;TZID=UTC:20250712T150000
DTEND;TZID=UTC:20250712T170000
DTSTAMP:20260424T000959
CREATED:20250624T150451Z
LAST-MODIFIED:20250624T150451Z
UID:3761-1752332400-1752339600@crane-house.org
SUMMARY:Asian Film Series - Caught by the Tides
DESCRIPTION:GET TICKETS
URL:https://crane-house.org/event/asian-film-series-caught-by-the-tides-3/
LOCATION:Speed Museum\, 2035 S Third St\, Louisville\, KY\, 40208\, United States
CATEGORIES:Event Calendar,Upcoming Event
ATTACH;FMTTYPE=image/png:https://crane-house.org/wp-content/uploads/2025/06/Asian-Film-Series-Caught-by-the-Tides.png
ORGANIZER;CN="Asia Institute - Crane House":MAILTO:khamm@crane-house.org
END:VEVENT
BEGIN:VEVENT
DTSTART;TZID=UTC:20250711T180000
DTEND;TZID=UTC:20250711T200000
DTSTAMP:20260424T000959
CREATED:20250624T150304Z
LAST-MODIFIED:20250624T150304Z
UID:3757-1752256800-1752264000@crane-house.org
SUMMARY:Asian Film Series - Caught by the Tides
DESCRIPTION:GET TICKETS
URL:https://crane-house.org/event/asian-film-series-caught-by-the-tides/
LOCATION:Speed Museum\, 2035 S Third St\, Louisville\, KY\, 40208\, United States
CATEGORIES:Event Calendar,Upcoming Event
ATTACH;FMTTYPE=image/png:https://crane-house.org/wp-content/uploads/2025/06/Asian-Film-Series-Caught-by-the-Tides.png
ORGANIZER;CN="Asia Institute - Crane House":MAILTO:khamm@crane-house.org
END:VEVENT
BEGIN:VEVENT
DTSTART;TZID=UTC:20250706T150000
DTEND;TZID=UTC:20250706T170000
DTSTAMP:20260424T000959
CREATED:20250624T150123Z
LAST-MODIFIED:20250624T150123Z
UID:3755-1751814000-1751821200@crane-house.org
SUMMARY:Asian Film Series - His Motorbike\, Her Island
DESCRIPTION:GET TICKETS
URL:https://crane-house.org/event/asian-film-series-his-motorbike-her-island/
LOCATION:Speed Museum\, 2035 S Third St\, Louisville\, KY\, 40208\, United States
CATEGORIES:Event Calendar,Upcoming Event
ATTACH;FMTTYPE=image/png:https://crane-house.org/wp-content/uploads/2025/06/Asian-Film-Series-His-Motorbike-Her-Island-.png
ORGANIZER;CN="Asia Institute - Crane House":MAILTO:khamm@crane-house.org
END:VEVENT
BEGIN:VEVENT
DTSTART;TZID=UTC:20250705T180000
DTEND;TZID=UTC:20250705T200000
DTSTAMP:20260424T000959
CREATED:20250624T145808Z
LAST-MODIFIED:20250624T145808Z
UID:3753-1751738400-1751745600@crane-house.org
SUMMARY:Asian Film Series - School in the Crosshairs
DESCRIPTION:GET TICKETS
URL:https://crane-house.org/event/asian-film-series-school-in-the-crosshairs/
LOCATION:Speed Museum\, 2035 S Third St\, Louisville\, KY\, 40208\, United States
CATEGORIES:Event Calendar,Upcoming Event
ATTACH;FMTTYPE=image/png:https://crane-house.org/wp-content/uploads/2025/06/Asian-Film-Series-School-in-the-Crosshairs-.png
ORGANIZER;CN="Asia Institute - Crane House":MAILTO:khamm@crane-house.org
END:VEVENT
BEGIN:VEVENT
DTSTART;TZID=UTC:20250705T150000
DTEND;TZID=UTC:20250705T170000
DTSTAMP:20260424T000959
CREATED:20250624T145553Z
LAST-MODIFIED:20250624T145553Z
UID:3751-1751727600-1751734800@crane-house.org
SUMMARY:Asian Film Series - The Girl Who Leapt Through Time
DESCRIPTION:GET TICKETS
URL:https://crane-house.org/event/asian-film-series-the-girl-who-leapt-through-time/
LOCATION:Speed Museum\, 2035 S Third St\, Louisville\, KY\, 40208\, United States
CATEGORIES:Event Calendar,Upcoming Event
ATTACH;FMTTYPE=image/png:https://crane-house.org/wp-content/uploads/2025/06/Asian-Film-Series-The-Girl-Who-Leapt-Through-Time-.png
ORGANIZER;CN="Asia Institute - Crane House":MAILTO:khamm@crane-house.org
END:VEVENT
BEGIN:VEVENT
DTSTART;TZID=UTC:20250703T180000
DTEND;TZID=UTC:20250703T200000
DTSTAMP:20260424T000959
CREATED:20250624T145333Z
LAST-MODIFIED:20250624T145333Z
UID:3749-1751565600-1751572800@crane-house.org
SUMMARY:Asian Film Series - House
DESCRIPTION:GET TICKETS
URL:https://crane-house.org/event/asian-film-series-house/
LOCATION:Speed Museum\, 2035 S Third St\, Louisville\, KY\, 40208\, United States
CATEGORIES:Event Calendar,Upcoming Event
ATTACH;FMTTYPE=image/png:https://crane-house.org/wp-content/uploads/2025/06/Asian-Film-Series-House-Hausu.png
ORGANIZER;CN="Asia Institute - Crane House":MAILTO:khamm@crane-house.org
END:VEVENT
BEGIN:VEVENT
DTSTART;TZID=UTC:20250614T160000
DTEND;TZID=UTC:20250614T200000
DTSTAMP:20260424T000959
CREATED:20250514T155224Z
LAST-MODIFIED:20250610T161430Z
UID:3714-1749916800-1749931200@crane-house.org
SUMMARY:Philippines Independence Day Celebration
DESCRIPTION:  \nLEARN MORE
URL:https://crane-house.org/event/philippines-independence-day-celebration/
LOCATION:Fourth Street Live\, 411 S Fourth St\, Louisville\, KY\, 40202\, United States
CATEGORIES:Event Calendar,Upcoming Event
ATTACH;FMTTYPE=image/jpeg:https://crane-house.org/wp-content/uploads/2025/05/PhilippinesIndependenceDayCelebration_header.jpg
ORGANIZER;CN="Asia Institute - Crane House":MAILTO:khamm@crane-house.org
END:VEVENT
BEGIN:VEVENT
DTSTART;TZID=UTC:20250611T170000
DTEND;TZID=UTC:20250611T183000
DTSTAMP:20260424T000959
CREATED:20250214T164518Z
LAST-MODIFIED:20250214T164518Z
UID:3470-1749661200-1749666600@crane-house.org
SUMMARY:Teach In Asia - Training Date
DESCRIPTION:
URL:https://crane-house.org/event/teach-in-asia-training-date-4/
LOCATION:Asia Institute – Crane House\, 1244 S. 3rd Street\, Louisville\, KY
CATEGORIES:Event Calendar,Upcoming Event
ATTACH;FMTTYPE=image/jpeg:https://crane-house.org/wp-content/uploads/2024/06/TIA2025Header.jpg
ORGANIZER;CN="Asia Institute - Crane House":MAILTO:khamm@crane-house.org
END:VEVENT
BEGIN:VEVENT
DTSTART;TZID=UTC:20250528T180000
DTEND;TZID=UTC:20250528T210000
DTSTAMP:20260424T000959
CREATED:20230310T162447Z
LAST-MODIFIED:20250430T160608Z
UID:2001-1748455200-1748466000@crane-house.org
SUMMARY:AAPI International Happy Hour
DESCRIPTION:Location: Asia Institute – Crane House\nAsia Institute – Crane House is excited to partner with the World Affairs Council to host an International Happy Hour! Meet and connect with professionals from all over the world! Light snacks and refreshments will be provided. Open to the public. Registration required/$10 per ticket. Must be 21 or older.
URL:https://crane-house.org/event/aapi-international-happy-hour/
LOCATION:Asia Institute – Crane House\, 1244 S. 3rd Street\, Louisville\, KY
CATEGORIES:Event Calendar,Upcoming Event
END:VEVENT
BEGIN:VEVENT
DTSTART;TZID=UTC:20250524T140000
DTEND;TZID=UTC:20250524T153000
DTSTAMP:20260424T000959
CREATED:20250402T151440Z
LAST-MODIFIED:20250430T155934Z
UID:3638-1748095200-1748100600@crane-house.org
SUMMARY:Mahjong Workshop
DESCRIPTION:  \nSOLD OUT
URL:https://crane-house.org/event/mahjong-workshop/
LOCATION:Asia Institute – Crane House\, 1244 S. 3rd Street\, Louisville\, KY
CATEGORIES:Event Calendar,Upcoming Event
ATTACH;FMTTYPE=image/png:https://crane-house.org/wp-content/uploads/2025/04/Mahjong_header.png
ORGANIZER;CN="Asia Institute - Crane House":MAILTO:khamm@crane-house.org
END:VEVENT
BEGIN:VEVENT
DTSTART;TZID=UTC:20250523T183000
DTEND;TZID=UTC:20250523T203000
DTSTAMP:20260424T000959
CREATED:20250425T165931Z
LAST-MODIFIED:20250425T165931Z
UID:3658-1748025000-1748032200@crane-house.org
SUMMARY:Painting Workshop - CHYP Paint and Sip Class
DESCRIPTION:
URL:https://crane-house.org/event/painting-workshop-chyp-paint-and-sip-class/
LOCATION:1815 Gardiners Lane\, 1815 Gardiner Lane\, Louisville\, KY\, 40205
CATEGORIES:CHYP,Event Calendar,Upcoming Event
ATTACH;FMTTYPE=image/jpeg:https://crane-house.org/wp-content/uploads/2025/04/CHYP-May-23-Event_header.jpg
ORGANIZER;CN="Asia Institute - Crane House":MAILTO:khamm@crane-house.org
END:VEVENT
BEGIN:VEVENT
DTSTART;TZID=UTC:20250521T180000
DTEND;TZID=UTC:20250521T200000
DTSTAMP:20260424T000959
CREATED:20250514T154813Z
LAST-MODIFIED:20250514T155441Z
UID:3708-1747850400-1747857600@crane-house.org
SUMMARY:International Family & Community Night @ Hartstern Elementary School
DESCRIPTION:International Family and Engagement Night\nWednesday\, May 21st@ 6:oo – 8:oo PM\nLocation: Hartstern Elementarx School\nAsia Institute – Crane House will showcase hands-on demonstrations of Chinese calligraphy and Japanese origami at Hartstern Elementary’s International Family and Engagement Night.
URL:https://crane-house.org/event/international-family-community-night-hartstern-elementary-school/
LOCATION:Hartstern Elementary School\, 5200 Morningside Way\, Louisville\, KY\, 40219
CATEGORIES:Additional Program,Event Calendar,Upcoming Event
ATTACH;FMTTYPE=image/jpeg:https://crane-house.org/wp-content/uploads/2025/05/International-School-Festival-header.jpg
ORGANIZER;CN="Asia Institute - Crane House":MAILTO:khamm@crane-house.org
END:VEVENT
BEGIN:VEVENT
DTSTART;TZID=UTC:20250521T160000
DTEND;TZID=UTC:20250521T173000
DTSTAMP:20260424T000959
CREATED:20250430T152545Z
LAST-MODIFIED:20250430T152545Z
UID:3676-1747843200-1747848600@crane-house.org
SUMMARY:Chinese Club After School @ Field Elementary School
DESCRIPTION:
URL:https://crane-house.org/event/chinese-club-after-school-field-elementary-school-6/
LOCATION:Field Elementary\, 120 Sacred Heart Ln\, Louisville\, 40206\, United States
CATEGORIES:Additional Program,Event Calendar,Upcoming Event
ATTACH;FMTTYPE=image/jpeg:https://crane-house.org/wp-content/uploads/2025/03/Spring-2025-Flyer_header.jpg
ORGANIZER;CN="Asia Institute - Crane House":MAILTO:khamm@crane-house.org
END:VEVENT
BEGIN:VEVENT
DTSTART;TZID=UTC:20250520T160000
DTEND;TZID=UTC:20250520T173000
DTSTAMP:20260424T000959
CREATED:20250430T185003Z
LAST-MODIFIED:20250430T185003Z
UID:3706-1747756800-1747762200@crane-house.org
SUMMARY:Chinese Club @ Francis Parker School
DESCRIPTION:
URL:https://crane-house.org/event/chinese-club-francis-parker-school-4/
LOCATION:Francis Parker School\, 233 W Broadway\, Louisville\, 40202\, United States
CATEGORIES:Additional Program,Event Calendar,Upcoming Event
ATTACH;FMTTYPE=image/jpeg:https://crane-house.org/wp-content/uploads/2025/04/parker_header.jpg
ORGANIZER;CN="Asia Institute - Crane House":MAILTO:khamm@crane-house.org
END:VEVENT
BEGIN:VEVENT
DTSTART;TZID=UTC:20250515T140000
DTEND;TZID=UTC:20250515T150000
DTSTAMP:20260424T000959
CREATED:20250430T152732Z
LAST-MODIFIED:20250430T152732Z
UID:3677-1747317600-1747321200@crane-house.org
SUMMARY:Chinese Club After School @ Trinity High School
DESCRIPTION:
URL:https://crane-house.org/event/chinese-club-after-school-trinity-high-school/
LOCATION:Trinity High School\, 4011 Shelbyville Road\, Louisville\, KY\, 40207\, United States
CATEGORIES:Additional Program,Event Calendar,Upcoming Event
ATTACH;FMTTYPE=image/jpeg:https://crane-house.org/wp-content/uploads/2025/03/Spring-2025-Flyer_header.jpg
ORGANIZER;CN="Asia Institute - Crane House":MAILTO:khamm@crane-house.org
END:VEVENT
BEGIN:VEVENT
DTSTART;TZID=UTC:20250514T183000
DTEND;TZID=UTC:20250514T193000
DTSTAMP:20260424T000959
CREATED:20250220T142431Z
LAST-MODIFIED:20250430T155326Z
UID:3493-1747247400-1747251000@crane-house.org
SUMMARY:Chinese Corner - Chinese Language Practice Meetings
DESCRIPTION:Location: Jasmine Asian Bistro\nThe last session of our biweekly Spring 2025 Chinese Language Corner Series. Enjoy free refreshments provided by Jasmine Bistro while practicing your Chinese. This is a welcoming space to practice\, learn\, and meet new people! Freea nd open to the public. Please email ming.wu@louisville.edu to\nRSVP.
URL:https://crane-house.org/event/chinese-corner-chinese-language-practice-meetings-2/
LOCATION:Jasmine Szechuan Chinese Cuisine\, 13825 English Villa Dr.\, Louisville\, United States
CATEGORIES:Asian Language Program,Event Calendar,Upcoming Event
ATTACH;FMTTYPE=image/jpeg:https://crane-house.org/wp-content/uploads/2025/02/langauge_practice_header.jpg
ORGANIZER;CN="Asia Institute - Crane House":MAILTO:khamm@crane-house.org
END:VEVENT
BEGIN:VEVENT
DTSTART;TZID=UTC:20250514T160000
DTEND;TZID=UTC:20250514T173000
DTSTAMP:20260424T000959
CREATED:20250430T184846Z
LAST-MODIFIED:20250430T184846Z
UID:3704-1747238400-1747243800@crane-house.org
SUMMARY:Chinese Club @ Francis Parker School
DESCRIPTION:
URL:https://crane-house.org/event/chinese-club-francis-parker-school-3/
LOCATION:Francis Parker School\, 233 W Broadway\, Louisville\, 40202\, United States
CATEGORIES:Additional Program,Event Calendar,Upcoming Event
ATTACH;FMTTYPE=image/jpeg:https://crane-house.org/wp-content/uploads/2025/04/parker_header.jpg
ORGANIZER;CN="Asia Institute - Crane House":MAILTO:khamm@crane-house.org
END:VEVENT
BEGIN:VEVENT
DTSTART;TZID=UTC:20250514T160000
DTEND;TZID=UTC:20250514T173000
DTSTAMP:20260424T000959
CREATED:20250430T152436Z
LAST-MODIFIED:20250430T152436Z
UID:3674-1747238400-1747243800@crane-house.org
SUMMARY:Chinese Club After School @ Field Elementary School
DESCRIPTION:
URL:https://crane-house.org/event/chinese-club-after-school-field-elementary-school-5/
LOCATION:Field Elementary\, 120 Sacred Heart Ln\, Louisville\, 40206\, United States
CATEGORIES:Additional Program,Event Calendar,Upcoming Event
ATTACH;FMTTYPE=image/jpeg:https://crane-house.org/wp-content/uploads/2025/03/Spring-2025-Flyer_header.jpg
ORGANIZER;CN="Asia Institute - Crane House":MAILTO:khamm@crane-house.org
END:VEVENT
BEGIN:VEVENT
DTSTART;TZID=UTC:20250514T110000
DTEND;TZID=UTC:20250514T130000
DTSTAMP:20260424T000959
CREATED:20250430T154538Z
LAST-MODIFIED:20250430T154736Z
UID:3684-1747220400-1747227600@crane-house.org
SUMMARY:AAPI Month Celebration with Humana
DESCRIPTION:AAPI Month Celebration with Humana\nWednesday\, May 14th @ 11:00 AM – 1:00 PM\nLocation: Humana Waterside\nHumana is honoring AAPI heritage month with a vibrant cultural showcase\nincluding dynamic performances and an interactive Language Cafe. Internal event.
URL:https://crane-house.org/event/aapi-month-celebration-with-humana/
LOCATION:Humana Waterside\, 201 N Brook St\, Louisville\, KY\, 40202
CATEGORIES:Asian Language Program,Event Calendar,Upcoming Event
ORGANIZER;CN="Asia Institute - Crane House":MAILTO:khamm@crane-house.org
END:VEVENT
BEGIN:VEVENT
DTSTART;TZID=UTC:20250513T180000
DTEND;TZID=UTC:20250513T190000
DTSTAMP:20260424T000959
CREATED:20250430T151240Z
LAST-MODIFIED:20250430T154030Z
UID:3664-1747159200-1747162800@crane-house.org
SUMMARY:Summer 2026 Tour to China with the Asia Institute - Information Session
DESCRIPTION:  \nRSVP
URL:https://crane-house.org/event/summer-2026-tour-to-china-with-the-asia-institute-information-session/
LOCATION:Asia Institute – Crane House\, 1244 S. 3rd Street\, Louisville\, KY
CATEGORIES:Event Calendar,Upcoming Event
ATTACH;FMTTYPE=image/jpeg:https://crane-house.org/wp-content/uploads/2025/04/China_2026_header.jpg
ORGANIZER;CN="Asia Institute - Crane House":MAILTO:khamm@crane-house.org
END:VEVENT
BEGIN:VEVENT
DTSTART;TZID=UTC:20250510T220000
DTEND;TZID=UTC:20250510T230000
DTSTAMP:20260424T000959
CREATED:20250430T153854Z
LAST-MODIFIED:20250430T153854Z
UID:3682-1746914400-1746918000@crane-house.org
SUMMARY:Louisville Orchestra: Louisville Creator Corps World Premiere
DESCRIPTION:  \nLouisville Orchestra: Louisville Creator Corps World Premiere\nSaturday\, May 10th@ 7:30 PM\nLocation: Whitney Hall at The Kentucky Center\nExperience the debut of powerful new works by Baldwin Giang\, Brittany\nGreen\, and Oswald Huynh-resident creators of the Louisville Orchestra\nCreator Corps. Conducted by Teddy Abrams\, this premiere celebrates\ninnovation\, community\, and the transformative power of music.\nOpen to the public. Tickets are available at louisvilleorchestra.org/concerts/.
URL:https://crane-house.org/event/louisville-orchestra-louisville-creator-corps-world-premiere-2/
LOCATION:The Kentucky Center for the Arts\, 501 W Main St\, Louisville\, KY\, 40202\, United States
CATEGORIES:Event Calendar,Upcoming Event
ORGANIZER;CN="Asia Institute - Crane House":MAILTO:khamm@crane-house.org
END:VEVENT
BEGIN:VEVENT
DTSTART;TZID=UTC:20250509T110000
DTEND;TZID=UTC:20250509T130000
DTSTAMP:20260424T000959
CREATED:20250430T153622Z
LAST-MODIFIED:20250430T153719Z
UID:3680-1746788400-1746795600@crane-house.org
SUMMARY:Louisville Orchestra: Louisville Creator Corps World Premiere
DESCRIPTION:  \nLouisville Orchestra: Louisville Creator Corps World Premiere\nFriday\, May 9th@ 11:00 AM\nLocation: Whitney Hall at The Kentucky Center\nExperience the debut of powerful new works by Baldwin Giang\, Brittany\nGreen\, and Oswald Huynh-resident creators of the Louisville Orchestra\nCreator Corps. Conducted by Teddy Abrams\, this premiere celebrates\ninnovation\, community\, and the transformative power of music.\nOpen to the public. Tickets are available at louisvilleorchestra.org/concerts/.
URL:https://crane-house.org/event/louisville-orchestra-louisville-creator-corps-world-premiere/
LOCATION:The Kentucky Center for the Arts\, 501 W Main St\, Louisville\, KY\, 40202\, United States
CATEGORIES:Event Calendar,Upcoming Event
ORGANIZER;CN="Asia Institute - Crane House":MAILTO:khamm@crane-house.org
END:VEVENT
BEGIN:VEVENT
DTSTART;TZID=UTC:20250507T190000
DTEND;TZID=UTC:20250507T203000
DTSTAMP:20260424T000959
CREATED:20250430T152028Z
LAST-MODIFIED:20250430T152240Z
UID:3669-1746644400-1746649800@crane-house.org
SUMMARY:An Evening with Susan Lieu
DESCRIPTION:  \nOPEN TO THE PUBLIC
URL:https://crane-house.org/event/an-evening-with-susan-lieu/
LOCATION:Americana World Community Center\, 4801 Southside Dr.\, Louisville\, 40204\, United States
CATEGORIES:Event Calendar,Upcoming Event
ATTACH;FMTTYPE=image/jpeg:https://crane-house.org/wp-content/uploads/2025/04/Susan-Lieu_English_header.jpg
ORGANIZER;CN="Asia Institute - Crane House":MAILTO:khamm@crane-house.org
END:VEVENT
BEGIN:VEVENT
DTSTART;TZID=UTC:20250507T170000
DTEND;TZID=UTC:20250507T183000
DTSTAMP:20260424T000959
CREATED:20250214T164421Z
LAST-MODIFIED:20250214T164421Z
UID:3468-1746637200-1746642600@crane-house.org
SUMMARY:Teach In Asia - Training Date
DESCRIPTION:
URL:https://crane-house.org/event/teach-in-asia-training-date-3/
LOCATION:Asia Institute – Crane House\, 1244 S. 3rd Street\, Louisville\, KY
CATEGORIES:Event Calendar,Upcoming Event
ATTACH;FMTTYPE=image/jpeg:https://crane-house.org/wp-content/uploads/2024/06/TIA2025Header.jpg
ORGANIZER;CN="Asia Institute - Crane House":MAILTO:khamm@crane-house.org
END:VEVENT
BEGIN:VEVENT
DTSTART;TZID=UTC:20250507T160000
DTEND;TZID=UTC:20250507T173000
DTSTAMP:20260424T000959
CREATED:20250430T184801Z
LAST-MODIFIED:20250430T184801Z
UID:3700-1746633600-1746639000@crane-house.org
SUMMARY:Chinese Club @ Francis Parker School
DESCRIPTION:
URL:https://crane-house.org/event/chinese-club-francis-parker-school-2/
LOCATION:Francis Parker School\, 233 W Broadway\, Louisville\, 40202\, United States
CATEGORIES:Additional Program,Event Calendar,Upcoming Event
ATTACH;FMTTYPE=image/jpeg:https://crane-house.org/wp-content/uploads/2025/04/parker_header.jpg
ORGANIZER;CN="Asia Institute - Crane House":MAILTO:khamm@crane-house.org
END:VEVENT
BEGIN:VEVENT
DTSTART;TZID=UTC:20250507T160000
DTEND;TZID=UTC:20250507T173000
DTSTAMP:20260424T000959
CREATED:20250310T135334Z
LAST-MODIFIED:20250310T135334Z
UID:3598-1746633600-1746639000@crane-house.org
SUMMARY:Chinese Club After School @ Field Elementary School
DESCRIPTION:
URL:https://crane-house.org/event/chinese-club-after-school-field-elementary-school-4/
LOCATION:Field Elementary\, 120 Sacred Heart Ln\, Louisville\, 40206\, United States
CATEGORIES:Additional Program,Event Calendar,Upcoming Event
ATTACH;FMTTYPE=image/jpeg:https://crane-house.org/wp-content/uploads/2025/03/Spring-2025-Flyer_header.jpg
ORGANIZER;CN="Asia Institute - Crane House":MAILTO:khamm@crane-house.org
END:VEVENT
END:VCALENDAR