BEGIN:VCALENDAR
VERSION:2.0
PRODID:-//Asia Institute Crane House - ECPv6.15.20//NONSGML v1.0//EN
CALSCALE:GREGORIAN
METHOD:PUBLISH
X-WR-CALNAME:Asia Institute Crane House
X-ORIGINAL-URL:https://crane-house.org
X-WR-CALDESC:Events for Asia Institute Crane House
REFRESH-INTERVAL;VALUE=DURATION:PT1H
X-Robots-Tag:noindex
X-PUBLISHED-TTL:PT1H
BEGIN:VTIMEZONE
TZID:UTC
BEGIN:STANDARD
TZOFFSETFROM:+0000
TZOFFSETTO:+0000
TZNAME:UTC
DTSTART:20240101T000000
END:STANDARD
END:VTIMEZONE
BEGIN:VEVENT
DTSTART;TZID=UTC:20250514T183000
DTEND;TZID=UTC:20250514T193000
DTSTAMP:20260424T021809
CREATED:20250220T142431Z
LAST-MODIFIED:20250430T155326Z
UID:3493-1747247400-1747251000@crane-house.org
SUMMARY:Chinese Corner - Chinese Language Practice Meetings
DESCRIPTION:Location: Jasmine Asian Bistro\nThe last session of our biweekly Spring 2025 Chinese Language Corner Series. Enjoy free refreshments provided by Jasmine Bistro while practicing your Chinese. This is a welcoming space to practice\, learn\, and meet new people! Freea nd open to the public. Please email ming.wu@louisville.edu to\nRSVP.
URL:https://crane-house.org/event/chinese-corner-chinese-language-practice-meetings-2/
LOCATION:Jasmine Szechuan Chinese Cuisine\, 13825 English Villa Dr.\, Louisville\, United States
CATEGORIES:Asian Language Program,Event Calendar,Upcoming Event
ATTACH;FMTTYPE=image/jpeg:https://crane-house.org/wp-content/uploads/2025/02/langauge_practice_header.jpg
ORGANIZER;CN="Asia Institute - Crane House":MAILTO:khamm@crane-house.org
END:VEVENT
BEGIN:VEVENT
DTSTART;TZID=UTC:20250514T160000
DTEND;TZID=UTC:20250514T173000
DTSTAMP:20260424T021809
CREATED:20250430T184846Z
LAST-MODIFIED:20250430T184846Z
UID:3704-1747238400-1747243800@crane-house.org
SUMMARY:Chinese Club @ Francis Parker School
DESCRIPTION:
URL:https://crane-house.org/event/chinese-club-francis-parker-school-3/
LOCATION:Francis Parker School\, 233 W Broadway\, Louisville\, 40202\, United States
CATEGORIES:Additional Program,Event Calendar,Upcoming Event
ATTACH;FMTTYPE=image/jpeg:https://crane-house.org/wp-content/uploads/2025/04/parker_header.jpg
ORGANIZER;CN="Asia Institute - Crane House":MAILTO:khamm@crane-house.org
END:VEVENT
BEGIN:VEVENT
DTSTART;TZID=UTC:20250514T160000
DTEND;TZID=UTC:20250514T173000
DTSTAMP:20260424T021809
CREATED:20250430T152436Z
LAST-MODIFIED:20250430T152436Z
UID:3674-1747238400-1747243800@crane-house.org
SUMMARY:Chinese Club After School @ Field Elementary School
DESCRIPTION:
URL:https://crane-house.org/event/chinese-club-after-school-field-elementary-school-5/
LOCATION:Field Elementary\, 120 Sacred Heart Ln\, Louisville\, 40206\, United States
CATEGORIES:Additional Program,Event Calendar,Upcoming Event
ATTACH;FMTTYPE=image/jpeg:https://crane-house.org/wp-content/uploads/2025/03/Spring-2025-Flyer_header.jpg
ORGANIZER;CN="Asia Institute - Crane House":MAILTO:khamm@crane-house.org
END:VEVENT
BEGIN:VEVENT
DTSTART;TZID=UTC:20250514T110000
DTEND;TZID=UTC:20250514T130000
DTSTAMP:20260424T021809
CREATED:20250430T154538Z
LAST-MODIFIED:20250430T154736Z
UID:3684-1747220400-1747227600@crane-house.org
SUMMARY:AAPI Month Celebration with Humana
DESCRIPTION:AAPI Month Celebration with Humana\nWednesday\, May 14th @ 11:00 AM – 1:00 PM\nLocation: Humana Waterside\nHumana is honoring AAPI heritage month with a vibrant cultural showcase\nincluding dynamic performances and an interactive Language Cafe. Internal event.
URL:https://crane-house.org/event/aapi-month-celebration-with-humana/
LOCATION:Humana Waterside\, 201 N Brook St\, Louisville\, KY\, 40202
CATEGORIES:Asian Language Program,Event Calendar,Upcoming Event
ORGANIZER;CN="Asia Institute - Crane House":MAILTO:khamm@crane-house.org
END:VEVENT
BEGIN:VEVENT
DTSTART;TZID=UTC:20250513T180000
DTEND;TZID=UTC:20250513T190000
DTSTAMP:20260424T021809
CREATED:20250430T151240Z
LAST-MODIFIED:20250430T154030Z
UID:3664-1747159200-1747162800@crane-house.org
SUMMARY:Summer 2026 Tour to China with the Asia Institute - Information Session
DESCRIPTION:  \nRSVP
URL:https://crane-house.org/event/summer-2026-tour-to-china-with-the-asia-institute-information-session/
LOCATION:Asia Institute – Crane House\, 1244 S. 3rd Street\, Louisville\, KY
CATEGORIES:Event Calendar,Upcoming Event
ATTACH;FMTTYPE=image/jpeg:https://crane-house.org/wp-content/uploads/2025/04/China_2026_header.jpg
ORGANIZER;CN="Asia Institute - Crane House":MAILTO:khamm@crane-house.org
END:VEVENT
BEGIN:VEVENT
DTSTART;TZID=UTC:20250510T220000
DTEND;TZID=UTC:20250510T230000
DTSTAMP:20260424T021809
CREATED:20250430T153854Z
LAST-MODIFIED:20250430T153854Z
UID:3682-1746914400-1746918000@crane-house.org
SUMMARY:Louisville Orchestra: Louisville Creator Corps World Premiere
DESCRIPTION:  \nLouisville Orchestra: Louisville Creator Corps World Premiere\nSaturday\, May 10th@ 7:30 PM\nLocation: Whitney Hall at The Kentucky Center\nExperience the debut of powerful new works by Baldwin Giang\, Brittany\nGreen\, and Oswald Huynh-resident creators of the Louisville Orchestra\nCreator Corps. Conducted by Teddy Abrams\, this premiere celebrates\ninnovation\, community\, and the transformative power of music.\nOpen to the public. Tickets are available at louisvilleorchestra.org/concerts/.
URL:https://crane-house.org/event/louisville-orchestra-louisville-creator-corps-world-premiere-2/
LOCATION:The Kentucky Center for the Arts\, 501 W Main St\, Louisville\, KY\, 40202\, United States
CATEGORIES:Event Calendar,Upcoming Event
ORGANIZER;CN="Asia Institute - Crane House":MAILTO:khamm@crane-house.org
END:VEVENT
BEGIN:VEVENT
DTSTART;TZID=UTC:20250509T110000
DTEND;TZID=UTC:20250509T130000
DTSTAMP:20260424T021809
CREATED:20250430T153622Z
LAST-MODIFIED:20250430T153719Z
UID:3680-1746788400-1746795600@crane-house.org
SUMMARY:Louisville Orchestra: Louisville Creator Corps World Premiere
DESCRIPTION:  \nLouisville Orchestra: Louisville Creator Corps World Premiere\nFriday\, May 9th@ 11:00 AM\nLocation: Whitney Hall at The Kentucky Center\nExperience the debut of powerful new works by Baldwin Giang\, Brittany\nGreen\, and Oswald Huynh-resident creators of the Louisville Orchestra\nCreator Corps. Conducted by Teddy Abrams\, this premiere celebrates\ninnovation\, community\, and the transformative power of music.\nOpen to the public. Tickets are available at louisvilleorchestra.org/concerts/.
URL:https://crane-house.org/event/louisville-orchestra-louisville-creator-corps-world-premiere/
LOCATION:The Kentucky Center for the Arts\, 501 W Main St\, Louisville\, KY\, 40202\, United States
CATEGORIES:Event Calendar,Upcoming Event
ORGANIZER;CN="Asia Institute - Crane House":MAILTO:khamm@crane-house.org
END:VEVENT
BEGIN:VEVENT
DTSTART;TZID=UTC:20250507T190000
DTEND;TZID=UTC:20250507T203000
DTSTAMP:20260424T021809
CREATED:20250430T152028Z
LAST-MODIFIED:20250430T152240Z
UID:3669-1746644400-1746649800@crane-house.org
SUMMARY:An Evening with Susan Lieu
DESCRIPTION:  \nOPEN TO THE PUBLIC
URL:https://crane-house.org/event/an-evening-with-susan-lieu/
LOCATION:Americana World Community Center\, 4801 Southside Dr.\, Louisville\, 40204\, United States
CATEGORIES:Event Calendar,Upcoming Event
ATTACH;FMTTYPE=image/jpeg:https://crane-house.org/wp-content/uploads/2025/04/Susan-Lieu_English_header.jpg
ORGANIZER;CN="Asia Institute - Crane House":MAILTO:khamm@crane-house.org
END:VEVENT
BEGIN:VEVENT
DTSTART;TZID=UTC:20250507T170000
DTEND;TZID=UTC:20250507T183000
DTSTAMP:20260424T021809
CREATED:20250214T164421Z
LAST-MODIFIED:20250214T164421Z
UID:3468-1746637200-1746642600@crane-house.org
SUMMARY:Teach In Asia - Training Date
DESCRIPTION:
URL:https://crane-house.org/event/teach-in-asia-training-date-3/
LOCATION:Asia Institute – Crane House\, 1244 S. 3rd Street\, Louisville\, KY
CATEGORIES:Event Calendar,Upcoming Event
ATTACH;FMTTYPE=image/jpeg:https://crane-house.org/wp-content/uploads/2024/06/TIA2025Header.jpg
ORGANIZER;CN="Asia Institute - Crane House":MAILTO:khamm@crane-house.org
END:VEVENT
BEGIN:VEVENT
DTSTART;TZID=UTC:20250507T160000
DTEND;TZID=UTC:20250507T173000
DTSTAMP:20260424T021809
CREATED:20250430T184801Z
LAST-MODIFIED:20250430T184801Z
UID:3700-1746633600-1746639000@crane-house.org
SUMMARY:Chinese Club @ Francis Parker School
DESCRIPTION:
URL:https://crane-house.org/event/chinese-club-francis-parker-school-2/
LOCATION:Francis Parker School\, 233 W Broadway\, Louisville\, 40202\, United States
CATEGORIES:Additional Program,Event Calendar,Upcoming Event
ATTACH;FMTTYPE=image/jpeg:https://crane-house.org/wp-content/uploads/2025/04/parker_header.jpg
ORGANIZER;CN="Asia Institute - Crane House":MAILTO:khamm@crane-house.org
END:VEVENT
BEGIN:VEVENT
DTSTART;TZID=UTC:20250507T160000
DTEND;TZID=UTC:20250507T173000
DTSTAMP:20260424T021809
CREATED:20250310T135334Z
LAST-MODIFIED:20250310T135334Z
UID:3598-1746633600-1746639000@crane-house.org
SUMMARY:Chinese Club After School @ Field Elementary School
DESCRIPTION:
URL:https://crane-house.org/event/chinese-club-after-school-field-elementary-school-4/
LOCATION:Field Elementary\, 120 Sacred Heart Ln\, Louisville\, 40206\, United States
CATEGORIES:Additional Program,Event Calendar,Upcoming Event
ATTACH;FMTTYPE=image/jpeg:https://crane-house.org/wp-content/uploads/2025/03/Spring-2025-Flyer_header.jpg
ORGANIZER;CN="Asia Institute - Crane House":MAILTO:khamm@crane-house.org
END:VEVENT
BEGIN:VEVENT
DTSTART;TZID=UTC:20250430T183000
DTEND;TZID=UTC:20250430T193000
DTSTAMP:20260424T021809
CREATED:20250220T142627Z
LAST-MODIFIED:20250306T200932Z
UID:3497-1746037800-1746041400@crane-house.org
SUMMARY:Chinese Corner - Chinese Language Practice Meetings
DESCRIPTION:
URL:https://crane-house.org/event/chinese-corner-chinese-language-practice-meetings-4/
LOCATION:Jasmine Szechuan Chinese Cuisine\, 13825 English Villa Dr.\, Louisville\, United States
CATEGORIES:Asian Language Program,Event Calendar,Upcoming Event
ATTACH;FMTTYPE=image/jpeg:https://crane-house.org/wp-content/uploads/2025/02/langauge_practice_header.jpg
ORGANIZER;CN="Asia Institute - Crane House":MAILTO:khamm@crane-house.org
END:VEVENT
BEGIN:VEVENT
DTSTART;TZID=UTC:20250430T160000
DTEND;TZID=UTC:20250430T173000
DTSTAMP:20260424T021809
CREATED:20250310T135241Z
LAST-MODIFIED:20250310T135241Z
UID:3596-1746028800-1746034200@crane-house.org
SUMMARY:Chinese Club After School @ Field Elementary School
DESCRIPTION:
URL:https://crane-house.org/event/chinese-club-after-school-field-elementary-school-3/
LOCATION:Field Elementary\, 120 Sacred Heart Ln\, Louisville\, 40206\, United States
CATEGORIES:Additional Program,Event Calendar,Upcoming Event
ATTACH;FMTTYPE=image/jpeg:https://crane-house.org/wp-content/uploads/2025/03/Spring-2025-Flyer_header.jpg
ORGANIZER;CN="Asia Institute - Crane House":MAILTO:khamm@crane-house.org
END:VEVENT
BEGIN:VEVENT
DTSTART;TZID=UTC:20250429T180000
DTEND;TZID=UTC:20250429T193000
DTSTAMP:20260424T021809
CREATED:20250425T165415Z
LAST-MODIFIED:20250425T165415Z
UID:3654-1745949600-1745955000@crane-house.org
SUMMARY:Respecting the Disrespected
DESCRIPTION:
URL:https://crane-house.org/event/respecting-the-disrespected/
LOCATION:Filson Historical Society\, 1310 South 3rd St.\, Louisville\, KY\, 40208\, United States
CATEGORIES:Event Calendar,Upcoming Event
ATTACH;FMTTYPE=image/jpeg:https://crane-house.org/wp-content/uploads/2025/04/Respecting-the-disrespected-1_header.jpg
ORGANIZER;CN="Asia Institute - Crane House":MAILTO:khamm@crane-house.org
END:VEVENT
BEGIN:VEVENT
DTSTART;TZID=UTC:20250427T130000
DTEND;TZID=UTC:20250427T160000
DTSTAMP:20260424T021809
CREATED:20250425T170210Z
LAST-MODIFIED:20250425T170210Z
UID:3662-1745758800-1745769600@crane-house.org
SUMMARY:Community Day at the Speed Art Museum
DESCRIPTION:
URL:https://crane-house.org/event/community-day-at-the-speed-art-museum/
LOCATION:Speed Museum\, 2035 S Third St\, Louisville\, KY\, 40208\, United States
CATEGORIES:Event Calendar,Upcoming Event
ATTACH;FMTTYPE=image/jpeg:https://crane-house.org/wp-content/uploads/2025/04/April-25-Flier_header.jpg
ORGANIZER;CN="Asia Institute - Crane House":MAILTO:khamm@crane-house.org
END:VEVENT
BEGIN:VEVENT
DTSTART;TZID=UTC:20250417T170000
DTEND;TZID=UTC:20250417T190000
DTSTAMP:20260424T021809
CREATED:20250218T145131Z
LAST-MODIFIED:20250218T145131Z
UID:3487-1744909200-1744916400@crane-house.org
SUMMARY:AICH Participating in Eisenhower Elementary School Culture Fair Night
DESCRIPTION:
URL:https://crane-house.org/event/aich-participating-in-eisenhower-elementary-school-culture-fair-night/
LOCATION:Eisenhower Elementary School\, 5300 Jessamine Ln\, Louisville\, KY\, 40258\, United States
CATEGORIES:Event Calendar,Upcoming Event
ATTACH;FMTTYPE=image/jpeg:https://crane-house.org/wp-content/uploads/2025/02/fair_night.jpg
ORGANIZER;CN="Asia Institute - Crane House":MAILTO:khamm@crane-house.org
END:VEVENT
BEGIN:VEVENT
DTSTART;TZID=UTC:20250416T183000
DTEND;TZID=UTC:20250416T193000
DTSTAMP:20260424T021809
CREATED:20250220T142535Z
LAST-MODIFIED:20250306T201603Z
UID:3495-1744828200-1744831800@crane-house.org
SUMMARY:Chinese Corner - Chinese Language Practice Meetings
DESCRIPTION:
URL:https://crane-house.org/event/chinese-corner-chinese-language-practice-meetings-3/
LOCATION:Jasmine Szechuan Chinese Cuisine\, 13825 English Villa Dr.\, Louisville\, United States
CATEGORIES:Asian Language Program,Event Calendar,Upcoming Event
ATTACH;FMTTYPE=image/jpeg:https://crane-house.org/wp-content/uploads/2025/02/langauge_practice_header.jpg
ORGANIZER;CN="Asia Institute - Crane House":MAILTO:khamm@crane-house.org
END:VEVENT
BEGIN:VEVENT
DTSTART;TZID=UTC:20250415T145000
DTEND;TZID=UTC:20250415T154500
DTSTAMP:20260424T021809
CREATED:20240910T154517Z
LAST-MODIFIED:20240910T154517Z
UID:3199-1744728600-1744731900@crane-house.org
SUMMARY:Chinese Club @ Sacred Heart School - Mahjong
DESCRIPTION:
URL:https://crane-house.org/event/chinese-club-sacred-heart-school-mahjong/
LOCATION:Sacred Heart Academy\, 3175 Lexington Rd\, Louisville\, 40206\, United States
CATEGORIES:Additional Program,Event Calendar,Upcoming Event
ATTACH;FMTTYPE=image/png:https://crane-house.org/wp-content/uploads/2024/09/Chinese-Club-Flyer_header.png
ORGANIZER;CN="Asia Institute - Crane House":MAILTO:khamm@crane-house.org
END:VEVENT
BEGIN:VEVENT
DTSTART;TZID=UTC:20250409T170000
DTEND;TZID=UTC:20250409T183000
DTSTAMP:20260424T021809
CREATED:20250214T164320Z
LAST-MODIFIED:20250214T164320Z
UID:3466-1744218000-1744223400@crane-house.org
SUMMARY:Teach In Asia - Training Date
DESCRIPTION:
URL:https://crane-house.org/event/teach-in-asia-training-date/
LOCATION:Asia Institute – Crane House\, 1244 S. 3rd Street\, Louisville\, KY
CATEGORIES:Event Calendar,Upcoming Event
ATTACH;FMTTYPE=image/jpeg:https://crane-house.org/wp-content/uploads/2024/06/TIA2025Header.jpg
ORGANIZER;CN="Asia Institute - Crane House":MAILTO:khamm@crane-house.org
END:VEVENT
BEGIN:VEVENT
DTSTART;TZID=UTC:20250409T160000
DTEND;TZID=UTC:20250409T173000
DTSTAMP:20260424T021809
CREATED:20250310T135142Z
LAST-MODIFIED:20250310T135142Z
UID:3594-1744214400-1744219800@crane-house.org
SUMMARY:Chinese Club After School @ Field Elementary School
DESCRIPTION:
URL:https://crane-house.org/event/chinese-club-after-school-field-elementary-school-2/
LOCATION:Field Elementary\, 120 Sacred Heart Ln\, Louisville\, 40206\, United States
CATEGORIES:Additional Program,Event Calendar,Upcoming Event
ATTACH;FMTTYPE=image/jpeg:https://crane-house.org/wp-content/uploads/2025/03/Spring-2025-Flyer_header.jpg
ORGANIZER;CN="Asia Institute - Crane House":MAILTO:khamm@crane-house.org
END:VEVENT
BEGIN:VEVENT
DTSTART;TZID=UTC:20250407T180000
DTEND;TZID=UTC:20250407T190000
DTSTAMP:20260424T021809
CREATED:20250328T143405Z
LAST-MODIFIED:20250328T143405Z
UID:3634-1744048800-1744052400@crane-house.org
SUMMARY:Silk Road Conversations: A Central Asia Reception
DESCRIPTION:
URL:https://crane-house.org/event/silk-road-conversations-a-central-asia-reception/
LOCATION:Asia Institute – Crane House\, 1244 S. 3rd Street\, Louisville\, KY
CATEGORIES:Event Calendar,Upcoming Event
ATTACH;FMTTYPE=image/jpeg:https://crane-house.org/wp-content/uploads/2025/03/silk_road_header.jpg
END:VEVENT
BEGIN:VEVENT
DTSTART;TZID=UTC:20250402T183000
DTEND;TZID=UTC:20250402T193000
DTSTAMP:20260424T021809
CREATED:20250402T172625Z
LAST-MODIFIED:20250402T172758Z
UID:3643-1743618600-1743622200@crane-house.org
SUMMARY:CANCELED - Chinese Corner - Chinese Language Practice Meetings - CANCELED
DESCRIPTION:––––  CANCELED DUE TO WEATHER––––\n \n––––  CANCELED DUE TO WEATHER––––
URL:https://crane-house.org/event/chinese-corner-chinese-language-practice-meetings-5/
LOCATION:Jasmine Szechuan Chinese Cuisine\, 13825 English Villa Dr.\, Louisville\, United States
CATEGORIES:Asian Language Program,Event Calendar,Upcoming Event
ATTACH;FMTTYPE=image/jpeg:https://crane-house.org/wp-content/uploads/2025/02/langauge_practice_header.jpg
ORGANIZER;CN="Asia Institute - Crane House":MAILTO:khamm@crane-house.org
END:VEVENT
BEGIN:VEVENT
DTSTART;TZID=UTC:20250326T160000
DTEND;TZID=UTC:20250326T173000
DTSTAMP:20260424T021809
CREATED:20250310T134750Z
LAST-MODIFIED:20250310T134750Z
UID:3592-1743004800-1743010200@crane-house.org
SUMMARY:Chinese Club After School @ Field Elementary School
DESCRIPTION:
URL:https://crane-house.org/event/chinese-club-after-school-field-elementary-school-7/
LOCATION:Field Elementary\, 120 Sacred Heart Ln\, Louisville\, 40206\, United States
CATEGORIES:Additional Program,Event Calendar,Upcoming Event
ATTACH;FMTTYPE=image/jpeg:https://crane-house.org/wp-content/uploads/2025/03/Spring-2025-Flyer_header.jpg
ORGANIZER;CN="Asia Institute - Crane House":MAILTO:khamm@crane-house.org
END:VEVENT
BEGIN:VEVENT
DTSTART;TZID=UTC:20250325T160000
DTEND;TZID=UTC:20250325T170000
DTSTAMP:20260424T021809
CREATED:20250218T144926Z
LAST-MODIFIED:20250306T201833Z
UID:3485-1742918400-1742922000@crane-house.org
SUMMARY:Calligraphy Class at Eisenhower Elementary School Culture Club
DESCRIPTION:
URL:https://crane-house.org/event/calligraphy-class-at-eisenhower-elementary-school-culture-club-2/
LOCATION:Eisenhower Elementary School\, 5300 Jessamine Ln\, Louisville\, KY\, 40258\, United States
CATEGORIES:Additional Program,Event Calendar,Upcoming Event
ATTACH;FMTTYPE=image/jpeg:https://crane-house.org/wp-content/uploads/2025/02/calligraphy_header.jpg
ORGANIZER;CN="Asia Institute - Crane House":MAILTO:khamm@crane-house.org
END:VEVENT
BEGIN:VEVENT
DTSTART;TZID=UTC:20250319T183000
DTEND;TZID=UTC:20250319T193000
DTSTAMP:20260424T021809
CREATED:20250220T142339Z
LAST-MODIFIED:20250306T201718Z
UID:3489-1742409000-1742412600@crane-house.org
SUMMARY:Chinese Corner - Chinese Language Practice Meetings
DESCRIPTION:
URL:https://crane-house.org/event/chinese-corner-chinese-language-practice-meetings/
LOCATION:Jasmine Szechuan Chinese Cuisine\, 13825 English Villa Dr.\, Louisville\, United States
CATEGORIES:Asian Language Program,Event Calendar,Upcoming Event
ATTACH;FMTTYPE=image/jpeg:https://crane-house.org/wp-content/uploads/2025/02/langauge_practice_header.jpg
ORGANIZER;CN="Asia Institute - Crane House":MAILTO:khamm@crane-house.org
END:VEVENT
BEGIN:VEVENT
DTSTART;TZID=UTC:20250318T160000
DTEND;TZID=UTC:20250318T170000
DTSTAMP:20260424T021809
CREATED:20250218T144828Z
LAST-MODIFIED:20250306T201858Z
UID:3483-1742313600-1742317200@crane-house.org
SUMMARY:Calligraphy Class at Eisenhower Elementary School Culture Club
DESCRIPTION:
URL:https://crane-house.org/event/calligraphy-class-at-eisenhower-elementary-school-culture-club/
LOCATION:Eisenhower Elementary School\, 5300 Jessamine Ln\, Louisville\, KY\, 40258\, United States
CATEGORIES:Additional Program,Event Calendar,Upcoming Event
ATTACH;FMTTYPE=image/jpeg:https://crane-house.org/wp-content/uploads/2025/02/calligraphy_header.jpg
ORGANIZER;CN="Asia Institute - Crane House":MAILTO:khamm@crane-house.org
END:VEVENT
BEGIN:VEVENT
DTSTART;TZID=UTC:20250313T120000
DTEND;TZID=UTC:20250313T140000
DTSTAMP:20260424T021809
CREATED:20250218T144614Z
LAST-MODIFIED:20250218T144614Z
UID:3481-1741867200-1741874400@crane-house.org
SUMMARY:Virginia Chance School Field Trip to AICH
DESCRIPTION:
URL:https://crane-house.org/event/virginia-chance-school-field-trip-to-aich/
LOCATION:Asia Institute – Crane House\, 1244 S. 3rd Street\, Louisville\, KY
CATEGORIES:Event Calendar,Upcoming Event
ATTACH;FMTTYPE=image/jpeg:https://crane-house.org/wp-content/uploads/2025/02/chance_school.jpg
ORGANIZER;CN="Asia Institute - Crane House":MAILTO:khamm@crane-house.org
END:VEVENT
BEGIN:VEVENT
DTSTART;TZID=UTC:20250312T170000
DTEND;TZID=UTC:20250312T183000
DTSTAMP:20260424T021809
CREATED:20250214T164216Z
LAST-MODIFIED:20250214T164216Z
UID:3464-1741798800-1741804200@crane-house.org
SUMMARY:Teach In Asia - Training Date
DESCRIPTION:
URL:https://crane-house.org/event/teach-in-asia-training-date-2025/
LOCATION:Asia Institute – Crane House\, 1244 S. 3rd Street\, Louisville\, KY
CATEGORIES:Event Calendar,Upcoming Event
ATTACH;FMTTYPE=image/jpeg:https://crane-house.org/wp-content/uploads/2024/06/TIA2025Header.jpg
ORGANIZER;CN="Asia Institute - Crane House":MAILTO:khamm@crane-house.org
END:VEVENT
BEGIN:VEVENT
DTSTART;TZID=UTC:20250311T160000
DTEND;TZID=UTC:20250311T170000
DTSTAMP:20260424T021809
CREATED:20250218T144413Z
LAST-MODIFIED:20250306T201945Z
UID:3479-1741708800-1741712400@crane-house.org
SUMMARY:Martial Arts Class at Eisenhower Elementary School Culture Club
DESCRIPTION:
URL:https://crane-house.org/event/martial-arts-class-at-eisenhower-elementary-school-culture-club-2/
LOCATION:Eisenhower Elementary School\, 5300 Jessamine Ln\, Louisville\, KY\, 40258\, United States
CATEGORIES:Additional Program,Event Calendar,Upcoming Event
ATTACH;FMTTYPE=image/jpeg:https://crane-house.org/wp-content/uploads/2025/02/martialParts_header.jpg
ORGANIZER;CN="Asia Institute - Crane House":MAILTO:khamm@crane-house.org
END:VEVENT
BEGIN:VEVENT
DTSTART;TZID=UTC:20250304T160000
DTEND;TZID=UTC:20250304T170000
DTSTAMP:20260424T021809
CREATED:20250218T144323Z
LAST-MODIFIED:20250218T144323Z
UID:3472-1741104000-1741107600@crane-house.org
SUMMARY:Martial Arts Class at Eisenhower Elementary School Culture Club
DESCRIPTION:
URL:https://crane-house.org/event/martial-arts-class-at-eisenhower-elementary-school-culture-club/
LOCATION:Eisenhower Elementary School\, 5300 Jessamine Ln\, Louisville\, KY\, 40258\, United States
CATEGORIES:Event Calendar,Upcoming Event
ATTACH;FMTTYPE=image/jpeg:https://crane-house.org/wp-content/uploads/2025/02/martialParts_header.jpg
ORGANIZER;CN="Asia Institute - Crane House":MAILTO:khamm@crane-house.org
END:VEVENT
END:VCALENDAR