BEGIN:VCALENDAR
VERSION:2.0
PRODID:-//Asia Institute Crane House - ECPv6.15.20//NONSGML v1.0//EN
CALSCALE:GREGORIAN
METHOD:PUBLISH
X-WR-CALNAME:Asia Institute Crane House
X-ORIGINAL-URL:https://crane-house.org
X-WR-CALDESC:Events for Asia Institute Crane House
REFRESH-INTERVAL;VALUE=DURATION:PT1H
X-Robots-Tag:noindex
X-PUBLISHED-TTL:PT1H
BEGIN:VTIMEZONE
TZID:UTC
BEGIN:STANDARD
TZOFFSETFROM:+0000
TZOFFSETTO:+0000
TZNAME:UTC
DTSTART:20210101T000000
END:STANDARD
END:VTIMEZONE
BEGIN:VEVENT
DTSTART;TZID=UTC:20220905T110000
DTEND;TZID=UTC:20220905T150000
DTSTAMP:20260425T184655
CREATED:20220902T140908Z
LAST-MODIFIED:20220902T140908Z
UID:841-1662375600-1662390000@crane-house.org
SUMMARY:Korean Day Picnic
DESCRIPTION:
URL:https://crane-house.org/event/korean-day-picnic/
LOCATION:Charlie Vettiner Park\, 5550 Charlie Vettiner Park Rd\, Louisville
END:VEVENT
BEGIN:VEVENT
DTSTART;VALUE=DATE:20220902
DTEND;VALUE=DATE:20220906
DTSTAMP:20260425T184655
CREATED:20220902T142107Z
LAST-MODIFIED:20220902T143530Z
UID:848-1662076800-1662422399@crane-house.org
SUMMARY:Worldfest 2022 Louisville
DESCRIPTION:WorldFest 2022 Labor Day Weekend is September 2 – 5\, 2022. It marks the 20th Anniversary of WorldFest\, Louisville’s premier international festival which is the most diverse\, inclusive\, and equitable event in the region.
URL:https://crane-house.org/event/worldfest-2022-louisville/
LOCATION:Downtown Louisville’s The Belvedere
END:VEVENT
BEGIN:VEVENT
DTSTART;TZID=UTC:20220826T173000
DTEND;TZID=UTC:20220826T210000
DTSTAMP:20260425T184655
CREATED:20220729T172945Z
LAST-MODIFIED:20220729T185329Z
UID:632-1661535000-1661547600@crane-house.org
SUMMARY:CHYP's August Social Event
DESCRIPTION:The votes are in!Crane House Young Professionals will be having a movie night @ Noble Funk Brewing Company on Friday\, August 26 @ 6pm!Join us at 5:30 for Happy Hour followed by the showing of Everything Everywhere All At Once. \nThere will be free snacks to enjoy during the movie!
URL:https://crane-house.org/event/chyps-august-social-event/
LOCATION:KY
CATEGORIES:CHYP
ATTACH;FMTTYPE=image/jpeg:https://crane-house.org/wp-content/uploads/2022/07/everything-ev.jpeg
END:VEVENT
BEGIN:VEVENT
DTSTART;TZID=UTC:20220813T100000
DTEND;TZID=UTC:20220813T123000
DTSTAMP:20260425T184655
CREATED:20220729T170946Z
LAST-MODIFIED:20220816T142912Z
UID:623-1660384800-1660393800@crane-house.org
SUMMARY:Health and Wellness Seminar Session II
DESCRIPTION:Join AICH’s APPSS group for another Health and Wellness Seminar session.This FREE half day event will take place at the Louisville Chinese Christian Church on August 13 from 10 am to 12:30pm.Come and spend your Saturday morning with us. There will be free lunch and prizes for all attendees. You might win a Fitbit Versa 2 or a Samsung Tablet!
URL:https://crane-house.org/event/https-youtu-be-trq0pedtjqa/
LOCATION:Louisville Chinese Christian Church\, 6120 Lovers ln\, Louisville\, 40291\, United States
CATEGORIES:APPSS
ATTACH;FMTTYPE=image/jpeg:https://crane-house.org/wp-content/uploads/2022/07/FLYER-ENGLISH-Health-Wellness-Seminar-QR-CODE-1.jpg
END:VEVENT
BEGIN:VEVENT
DTSTART;TZID=UTC:20220811T180000
DTEND;TZID=UTC:20220811T213000
DTSTAMP:20260425T184655
CREATED:20220729T161849Z
LAST-MODIFIED:20220729T161849Z
UID:615-1660240800-1660253400@crane-house.org
SUMMARY:QTAPI Movie Night
DESCRIPTION:Join QTAPI at Noble Funk on Aug 11 at 7pm for a Free Special Screening of “Xiaodi”\, a documentary of a young trans girl’s escape from a “conversion therapy” camp in China.\n\n\n\nCome early at 6pm to meet QTAPI members and order some food and drinks from Noble Funk!
URL:https://crane-house.org/event/qtapi-movie-night/
LOCATION:Noble Funk Brewing Company\, 922 S Second St\, Louisville\, 40203\, United States
CATEGORIES:QTAPI
ATTACH;FMTTYPE=image/png:https://crane-house.org/wp-content/uploads/2022/07/Movie-Night-QTAPI.png
END:VEVENT
BEGIN:VEVENT
DTSTART;TZID=UTC:20220327T140000
DTEND;TZID=UTC:20220327T160000
DTSTAMP:20260425T184655
CREATED:20220407T151702Z
LAST-MODIFIED:20220407T151702Z
UID:556-1648389600-1648396800@crane-house.org
SUMMARY:Hope: Expression through Bojagi form
DESCRIPTION:
URL:https://crane-house.org/event/hope-expression-through-bojagi-form/
LOCATION:KY
ORGANIZER;CN="Asia Institute - Crane House":MAILTO:khamm@crane-house.org
END:VEVENT
END:VCALENDAR