BEGIN:VCALENDAR
VERSION:2.0
PRODID:-//Asia Institute Crane House - ECPv6.15.20//NONSGML v1.0//EN
CALSCALE:GREGORIAN
METHOD:PUBLISH
X-WR-CALNAME:Asia Institute Crane House
X-ORIGINAL-URL:https://crane-house.org
X-WR-CALDESC:Events for Asia Institute Crane House
REFRESH-INTERVAL;VALUE=DURATION:PT1H
X-Robots-Tag:noindex
X-PUBLISHED-TTL:PT1H
BEGIN:VTIMEZONE
TZID:UTC
BEGIN:STANDARD
TZOFFSETFROM:+0000
TZOFFSETTO:+0000
TZNAME:UTC
DTSTART:20210101T000000
END:STANDARD
END:VTIMEZONE
BEGIN:VEVENT
DTSTART;TZID=UTC:20230224T173000
DTEND;TZID=UTC:20230224T200000
DTSTAMP:20260425T133659
CREATED:20230118T151654Z
LAST-MODIFIED:20230127T164224Z
UID:1788-1677259800-1677268800@crane-house.org
SUMMARY:Language Corner II Kick-off Party
DESCRIPTION:
URL:https://crane-house.org/event/language-corner-ii-kick-off-party/
LOCATION:KY
CATEGORIES:Event Calendar,Upcoming Event
ATTACH;FMTTYPE=image/png:https://crane-house.org/wp-content/uploads/2023/01/kickoff_1.png
END:VEVENT
BEGIN:VEVENT
DTSTART;TZID=UTC:20230212T180000
DTEND;TZID=UTC:20230212T200000
DTSTAMP:20260425T133659
CREATED:20221215T183059Z
LAST-MODIFIED:20230216T172920Z
UID:1738-1676224800-1676232000@crane-house.org
SUMMARY:Wok Thru Asia - A Delicious Journey with Sebastian Moh
DESCRIPTION:Talented local Chef\, Sebastian Moh is collaborating with Asia Institute – Crane House on his cooking class series\,  Wok Through Asia: A Delicious Journey by Sebastian Moh. \nChef Sebastian will present a Vietnamese menu for the February cooking class paired with alcoholic or non-alcoholic beverages. \nYou will watch Chef Sebastian make a 3-course traditional Vietnamese dinner\, and have a sit-down dinner with the class. All participants will receive a copy of the recipe the week before the class. \nLIMITED SPOTS AVAILABLE\, REGISTER TODAY TO CLAIM YOUR SPOT!
URL:https://crane-house.org/event/wok-thru-asia-a-delicious-journey-with-sebastian-moh/
LOCATION:KY
CATEGORIES:Event Calendar
ATTACH;FMTTYPE=image/jpeg:https://crane-house.org/wp-content/uploads/2022/12/vietnamese.jpg
END:VEVENT
BEGIN:VEVENT
DTSTART;TZID=UTC:20230210T163000
DTEND;TZID=UTC:20230210T183000
DTSTAMP:20260425T133659
CREATED:20221104T133903Z
LAST-MODIFIED:20230125T171631Z
UID:1110-1676046600-1676053800@crane-house.org
SUMMARY:Language Corner Special Event - Chinese Textual Recitation Competition
DESCRIPTION:Asia Institute – Crane House is hosting a Chinese Textual Recitation Competition at the University of Louisville! \nCalling on Chinese learners in Lousiville to participate in this Chinese language Recitation Competition to showcase your Chinese language skills and enhance your understanding of Chinese culture through reciting literary works! \nA panel of judges will give out comments and pick a winner from each of the 5 different age groups. \nThis competition is open to all Chinese learners living in Louisville from Elementary school age to adults. \nAll contestants will receive a certificate of participation and a souvenir.  \nIt is scheduled for Friday 2/10/23 from 3:30 – 6:30 pm at University of Louisville. K-12 students will start from 4:30 – 6:30 pm.
URL:https://crane-house.org/event/language-corner-special-event-chinese-speech-contest/
LOCATION:University of Louisville\, Bingham Humanities Room 300\, Louisville\, United States
CATEGORIES:Event Calendar,Upcoming Event
ATTACH;FMTTYPE=image/png:https://crane-house.org/wp-content/uploads/2022/11/Recitation-Contest-Flyer.png
ORGANIZER;CN="Asia Institute - Crane House":MAILTO:khamm@crane-house.org
END:VEVENT
BEGIN:VEVENT
DTSTART;TZID=UTC:20230209T180000
DTEND;TZID=UTC:20230209T200000
DTSTAMP:20260425T133659
CREATED:20221215T183547Z
LAST-MODIFIED:20230208T154633Z
UID:1743-1675965600-1675972800@crane-house.org
SUMMARY:Bento Box Making Class
DESCRIPTION:Thursday\, February 9th at 6PM\nAt Asia Institute – Crane House\n1244 S. #rd Street\, Louisville\, KY 40203\nJoin AICH and JASK in creaating your very own\nValentine’s Day Bento Box!\nWhat to Expect:\nBento Box Tutorial\nBento Box Making\n$50.00/person – Includes a JASK Bento Box
URL:https://crane-house.org/event/bento-box-making-class/
LOCATION:Asia Institute – Crane House\, 1244 S. 3rd Street\, Louisville\, KY
CATEGORIES:Event Calendar,Upcoming Event
ATTACH;FMTTYPE=image/png:https://crane-house.org/wp-content/uploads/2022/12/postponed_bento.png
END:VEVENT
BEGIN:VEVENT
DTSTART;TZID=UTC:20230204T173000
DTEND;TZID=UTC:20230204T213000
DTSTAMP:20260425T133659
CREATED:20221104T134025Z
LAST-MODIFIED:20230103T163333Z
UID:1112-1675531800-1675546200@crane-house.org
SUMMARY:Lunar New Year Dinner & Auction
DESCRIPTION:
URL:https://crane-house.org/event/lunar-new-year-dinner-auction-2/
LOCATION:Mellwood Arts & Entertainment Center\, Van Gogh Ballroom\, 1860 Mellwood Avenue\, Louisville\, KY\, 40216\, United States
CATEGORIES:Event Calendar,Upcoming Event
ATTACH;FMTTYPE=image/png:https://crane-house.org/wp-content/uploads/2022/12/Top-fold-invitation-1205-1.png
ORGANIZER;CN="Asia Institute - Crane House":MAILTO:khamm@crane-house.org
END:VEVENT
BEGIN:VEVENT
DTSTART;TZID=UTC:20230113T160000
DTEND;TZID=UTC:20230113T170000
DTSTAMP:20260425T133659
CREATED:20220912T180043Z
LAST-MODIFIED:20221212T150806Z
UID:944-1673625600-1673629200@crane-house.org
SUMMARY:Language Corner - Chinese Culture Corner @ Sacred Heart Academy
DESCRIPTION:
URL:https://crane-house.org/event/language-corner-chinese-culture-corner-sacred-heart/
LOCATION:Jasmine Szechuan Chinese Cuisine\, 13825 English Villa Dr.\, Louisville\, United States
CATEGORIES:Event Calendar,Upcoming Event
ATTACH;FMTTYPE=image/png:https://crane-house.org/wp-content/uploads/2022/09/language_corner_sac_heart_header-03.png
ORGANIZER;CN="Asia Institute - Crane House":MAILTO:khamm@crane-house.org
END:VEVENT
BEGIN:VEVENT
DTSTART;TZID=UTC:20221209T180000
DTEND;TZID=UTC:20221209T233000
DTSTAMP:20260425T133659
CREATED:20221122T165558Z
LAST-MODIFIED:20221122T165558Z
UID:1160-1670608800-1670628600@crane-house.org
SUMMARY:CHYP Holiday Potluck & Karaoke
DESCRIPTION:Crane House Young Professionals is bringing back our Annual CHYP Potluck and Karaoke night. We are excited to announce that we will partner with Louisville StrEatery this year! \nKung Fu Tea and Mochi Dog will be there to sell some spiked boba and mochi donuts! \nBring a dish to share or donate $10 at the door to support future CHYP programs! \nHappy hour will be from 6-8pm! \nCome and get your choice of Asian beers\, sake and soju from @Louisville StrEatery! \nKaraoke and games will start at 8pm! Come and sing the night away with us!
URL:https://crane-house.org/event/chyp-holiday-potluck-karaoke/
LOCATION:The StrEatery Food Hall\, 304 W Woodlawn Ave\, Louisville
CATEGORIES:Event Calendar,Upcoming Event
ATTACH;FMTTYPE=image/jpeg:https://crane-house.org/wp-content/uploads/2022/11/Chyp-holiday-potluck-2022-.jpg
END:VEVENT
BEGIN:VEVENT
DTSTART;TZID=UTC:20221204T180000
DTEND;TZID=UTC:20221204T200000
DTSTAMP:20260425T133659
CREATED:20221012T190249Z
LAST-MODIFIED:20221215T182746Z
UID:1081-1670176800-1670184000@crane-house.org
SUMMARY:Wok Tru Asia: A Delicious Journey with Sebastian Moh
DESCRIPTION:Talented local Chef\, Sebastian Moh is collaborating with Asia Institute – Crane House on his cooking class series\,  Wok Through Asia: A Delicious Journey by Sebastian Moh. \nChef Sebastian will present a Singapore menu for the December cooking class paired with alcoholic or non-alcoholic beverages. \n– Hainanese Chicken Rice \n-Wok Grilled Pork Char Siu \n-Forbidden Rice Pudding \nYou will watch Chef Sebastian make this 3-course traditional Singapore dinner\, and have a sit-down dinner with the class. All participants will receive a copy of the recipe the week before the class. \nLIMITED SPOTS AVAILABLE\, REGISTER TODAY TO CLAIM YOUR SPOT!
URL:https://crane-house.org/event/wok-tru-asia-a-delicious-journey-by-sebastian-moh/
LOCATION:Asia Institute – Crane House\, 1244 S. 3rd Street\, Louisville\, KY
CATEGORIES:Event Calendar,Upcoming Event
ATTACH;FMTTYPE=image/jpeg:https://crane-house.org/wp-content/uploads/2022/10/Wok-Thru-Asia-Signapore-Menu.jpg
ORGANIZER;CN="Asia Institute - Crane House":MAILTO:khamm@crane-house.org
END:VEVENT
BEGIN:VEVENT
DTSTART;TZID=UTC:20221203T190000
DTEND;TZID=UTC:20221203T230000
DTSTAMP:20260425T133659
CREATED:20221122T165841Z
LAST-MODIFIED:20221122T165841Z
UID:1165-1670094000-1670108400@crane-house.org
SUMMARY:QTAAPI Dinner & Karaoke Mixer
DESCRIPTION:Join Louisville’s QTAAPI (Queer Trans Asian American Pacific Islander) Chapter at Asia Institute – Crane House for a Fun Night of Food\, Drinks\, Karaoke\, and getting to know individuals in this special community. \nYou will also have the opportunity to participate in the first community survey of Louisville’s QTAAPI population\, which will help us serve our community better with future events and programming. Spread the word and register for this free event TODAY!
URL:https://crane-house.org/event/qtaapi-dinner-karaoke-mixer/
LOCATION:Asia Institute – Crane House\, 1244 S. 3rd Street\, Louisville\, KY
CATEGORIES:Event Calendar,Upcoming Event
ATTACH;FMTTYPE=image/png:https://crane-house.org/wp-content/uploads/2022/11/QTAAPI-karaoke-and-potluck-.png
ORGANIZER;CN="Asia Institute - Crane House":MAILTO:khamm@crane-house.org
END:VEVENT
BEGIN:VEVENT
DTSTART;TZID=UTC:20221203T140000
DTEND;TZID=UTC:20221203T153000
DTSTAMP:20260425T133659
CREATED:20220906T153404Z
LAST-MODIFIED:20221109T145118Z
UID:887-1670076000-1670081400@crane-house.org
SUMMARY:Language Corner Special Event - Experience Chinese Folk Dance
DESCRIPTION:Dance in China has a very long history. Records show dancing appeared almost 4\,000 years ago in China. \nChinese folk dancing commonly incorporates handkerchiefs\, bells\, drums\, stilts\, fans\, swords\, ribbons and masks to accent the dance movements. \nThis Experience Chinese Folk Dance class is scheduled for Saturday\, December 3rd from 2 pm to 3:30 pm. Participants will be introduced to Chinese Folk Dance and learn how to appreciate this ancient form of performance art. \nIn this class\, our teacher will demonstrate the moves of a few types of Chinese Folk Dance. \nAfterwards\, participants can follow and learn the basic moves of the Chinese Silk Ribbon Dance and Waist Drum Dance. \nAll dancing tools are provided. Class is free and open to the public (ages 9 and up)! \nFamilies are welcome! \nRegistration is required. Please scan QR code to register your spot!
URL:https://crane-house.org/event/language-corner-special-event-chinese-folk-dance/
LOCATION:Asia Institute – Crane House\, 1244 S. 3rd Street\, Louisville\, KY
CATEGORIES:Event Calendar,Upcoming Event
ATTACH;FMTTYPE=image/png:https://crane-house.org/wp-content/uploads/2022/09/Chinese-Folk-Dance-Flyer.png
ORGANIZER;CN="Asia Institute - Crane House":MAILTO:khamm@crane-house.org
END:VEVENT
BEGIN:VEVENT
DTSTART;TZID=UTC:20221202T154500
DTEND;TZID=UTC:20221202T170000
DTSTAMP:20260425T133659
CREATED:20220912T175745Z
LAST-MODIFIED:20221108T144712Z
UID:942-1669995900-1670000400@crane-house.org
SUMMARY:Language Corner - Chinese Culture Corner @ Sacred Heart Academy
DESCRIPTION:
URL:https://crane-house.org/event/language-corner-chinese-culture-corner-sacred-heart-academy-4/
LOCATION:Sacred Heart Academy\, 3175 Lexington Rd\, Louisville\, 40206\, United States
CATEGORIES:Upcoming Event
ATTACH;FMTTYPE=image/png:https://crane-house.org/wp-content/uploads/2022/09/language_corner_sac_heart_header-03.png
ORGANIZER;CN="Asia Institute - Crane House":MAILTO:khamm@crane-house.org
END:VEVENT
BEGIN:VEVENT
DTSTART;TZID=UTC:20221122T150000
DTEND;TZID=UTC:20221122T170000
DTSTAMP:20260425T133659
CREATED:20221117T171048Z
LAST-MODIFIED:20221117T171048Z
UID:1147-1669129200-1669136400@crane-house.org
SUMMARY:Language Corner - Chinese Club @ Anchorage Public School
DESCRIPTION:
URL:https://crane-house.org/event/language-corner-chinese-club-anchorage-public-school/
LOCATION:Anchorage Public School\, 11400 Ridge Rd\, Anchorage\, KY\, 40223\, United States
CATEGORIES:Event Calendar
ORGANIZER;CN="Asia Institute - Crane House":MAILTO:khamm@crane-house.org
END:VEVENT
BEGIN:VEVENT
DTSTART;TZID=UTC:20221118T140000
DTEND;TZID=UTC:20221118T160000
DTSTAMP:20260425T133659
CREATED:20221117T170538Z
LAST-MODIFIED:20221117T170649Z
UID:1142-1668780000-1668787200@crane-house.org
SUMMARY:Language Corner - Chinese Club @ Trinity High School
DESCRIPTION:
URL:https://crane-house.org/event/chinese-club-trinity-high-school/
LOCATION:Trinity High School\, 4011 Shelbyville Road\, Louisville\, KY\, 40207\, United States
CATEGORIES:Event Calendar
ORGANIZER;CN="Asia Institute - Crane House":MAILTO:khamm@crane-house.org
END:VEVENT
BEGIN:VEVENT
DTSTART;TZID=UTC:20221116T151500
DTEND;TZID=UTC:20221116T161500
DTSTAMP:20260425T133659
CREATED:20220912T180921Z
LAST-MODIFIED:20221108T144313Z
UID:956-1668611700-1668615300@crane-house.org
SUMMARY:Language Corner - Chinese Club @ Sacred Heart Model School
DESCRIPTION:
URL:https://crane-house.org/event/language-corner-chinese-club-sacred-heart-model-school-5/
LOCATION:Sacred Heart Model School
CATEGORIES:Upcoming Event
ATTACH;FMTTYPE=image/png:https://crane-house.org/wp-content/uploads/2022/09/language_corner_header.png
ORGANIZER;CN="Asia Institute - Crane House":MAILTO:khamm@crane-house.org
END:VEVENT
BEGIN:VEVENT
DTSTART;TZID=UTC:20221112T090000
DTEND;TZID=UTC:20221112T120000
DTSTAMP:20260425T133659
CREATED:20221012T182144Z
LAST-MODIFIED:20221108T145021Z
UID:1067-1668243600-1668254400@crane-house.org
SUMMARY:Girl Scouts of Kentuckiana Festival of the Arts
DESCRIPTION:Origami Class 9 – 10 am \nChinese Calligraphy Class 11am – 12pm
URL:https://crane-house.org/event/girl-scouts-of-kentuckiana-festival-of-the-arts/
LOCATION:Asia Institute – Crane House\, 1244 S. 3rd Street\, Louisville\, KY
CATEGORIES:Event Calendar,Upcoming Event
ATTACH;FMTTYPE=image/png:https://crane-house.org/wp-content/uploads/2022/10/girl_scouts.png
ORGANIZER;CN="Asia Institute - Crane House":MAILTO:khamm@crane-house.org
END:VEVENT
BEGIN:VEVENT
DTSTART;TZID=UTC:20221111T154500
DTEND;TZID=UTC:20221111T170000
DTSTAMP:20260425T133659
CREATED:20220912T175351Z
LAST-MODIFIED:20221108T144613Z
UID:939-1668181500-1668186000@crane-house.org
SUMMARY:Language Corner - Chinese Culture Corner @ Sacred Heart Academy
DESCRIPTION:
URL:https://crane-house.org/event/language-corner-chinese-culture-corner-sacred-heart-academy-3/
LOCATION:Sacred Heart Academy\, 3175 Lexington Rd\, Louisville\, 40206\, United States
CATEGORIES:Upcoming Event
ATTACH;FMTTYPE=image/png:https://crane-house.org/wp-content/uploads/2022/09/language_corner_sac_heart_header-03.png
ORGANIZER;CN="Asia Institute - Crane House":MAILTO:khamm@crane-house.org
END:VEVENT
BEGIN:VEVENT
DTSTART;TZID=UTC:20221109T151500
DTEND;TZID=UTC:20221109T161500
DTSTAMP:20260425T133659
CREATED:20220912T180831Z
LAST-MODIFIED:20221108T144049Z
UID:954-1668006900-1668010500@crane-house.org
SUMMARY:Language Corner - Chinese Club @ Sacred Heart Model School
DESCRIPTION:
URL:https://crane-house.org/event/language-corner-chinese-club-sacred-heart-model-school-4/
LOCATION:Sacred Heart Model School
CATEGORIES:Upcoming Event
ATTACH;FMTTYPE=image/png:https://crane-house.org/wp-content/uploads/2022/09/language_corner_header.png
ORGANIZER;CN="Asia Institute - Crane House":MAILTO:khamm@crane-house.org
END:VEVENT
BEGIN:VEVENT
DTSTART;TZID=UTC:20221106T180000
DTEND;TZID=UTC:20221106T200000
DTSTAMP:20260425T133659
CREATED:20221012T183410Z
LAST-MODIFIED:20221102T161356Z
UID:1073-1667757600-1667764800@crane-house.org
SUMMARY:Wok Tru Asia: A Delicious Journey by Sebastian Moh (CHYP Event)
DESCRIPTION:This is a series of cooking classes demonstrated by a renowned local chef\, Sebastian Moh. \nOn 11/6\, Chef Moh will showcase signature Malaysian dishes\, such as Fried calamari with salted egg yolk\, Nasi lemak with Spicy fried chicken and Ice kacang. \nThis special class is exclusive to CHYP /Crane House Young Professionals Executive Board members.
URL:https://crane-house.org/event/wok-tru-asia-a-delicious-journey-by-sebastian-moh-chip-event/
LOCATION:Asia Institute – Crane House\, 1244 S. 3rd Street\, Louisville\, KY
CATEGORIES:CHYP,Event Calendar
ORGANIZER;CN="Asia Institute - Crane House":MAILTO:khamm@crane-house.org
END:VEVENT
BEGIN:VEVENT
DTSTART;TZID=UTC:20221105T103000
DTEND;TZID=UTC:20221105T123000
DTSTAMP:20260425T133659
CREATED:20220819T172938Z
LAST-MODIFIED:20221012T185530Z
UID:744-1667644200-1667651400@crane-house.org
SUMMARY:Language Corner Special Event - Mahjong Club
DESCRIPTION:Have you heard of Mahjong Game? Do you know how to play Mahjong or are you a Mahjong lover? \nMahjong or mah-jongg is a tile-based game played by four players. It was developed in the 19th century in China and has spread throughout the world since the early 20th century. \nOur Mahjong Club will introduce this ancient game to all participants and teach each how to play Mahjong. Afterwards\, participants can practise playing Mahjong with others under the guidance of the teachers. \nThis is a fun club that is open to all interested (ages 16 and up). Registration is required. $10 per person. \nJoin us on Saturday\, Nov.5 from 10:30 am-12:30 pm for this exciting hands-on workshop!
URL:https://crane-house.org/event/language-corner-special-event-mahjong-play-club/
LOCATION:Asia Institute – Crane House\, 1244 S. 3rd Street\, Louisville\, KY
CATEGORIES:Event Calendar,Upcoming Event
ATTACH;FMTTYPE=image/png:https://crane-house.org/wp-content/uploads/2022/08/Mahjong-Club-Flyer.png
ORGANIZER;CN="Asia Institute - Crane House":MAILTO:khamm@crane-house.org
END:VEVENT
BEGIN:VEVENT
DTSTART;TZID=UTC:20221102T031500
DTEND;TZID=UTC:20221102T161500
DTSTAMP:20260425T133659
CREATED:20220912T180715Z
LAST-MODIFIED:20220912T180715Z
UID:952-1667358900-1667405700@crane-house.org
SUMMARY:Language Corner - Chinese Club @ Sacred Heart Model School
DESCRIPTION:
URL:https://crane-house.org/event/language-corner-chinese-club-sacred-heart-model-school-3/
LOCATION:Sacred Heart Model School
ORGANIZER;CN="Asia Institute - Crane House":MAILTO:khamm@crane-house.org
END:VEVENT
BEGIN:VEVENT
DTSTART;TZID=UTC:20221101T173000
DTEND;TZID=UTC:20221101T183000
DTSTAMP:20260425T133659
CREATED:20220906T154451Z
LAST-MODIFIED:20220906T154451Z
UID:898-1667323800-1667327400@crane-house.org
SUMMARY:Chinese Corner
DESCRIPTION:
URL:https://crane-house.org/event/chinese-corner-6/
LOCATION:St. Matthew Public Library\, 3940 Grandview Ave\, Louisville\, 40207\, United States
ORGANIZER;CN="Asia Institute - Crane House":MAILTO:khamm@crane-house.org
END:VEVENT
BEGIN:VEVENT
DTSTART;TZID=UTC:20221029T140000
DTEND;TZID=UTC:20221029T153000
DTSTAMP:20260425T133659
CREATED:20221006T172920Z
LAST-MODIFIED:20221012T185459Z
UID:1052-1667052000-1667057400@crane-house.org
SUMMARY:Language Corner Special Event - Chinese Folk Art Workshop
DESCRIPTION:Come to Asia Institute – Crane House and join our Chinese Fold Art workshop on Saturday\, Oct.28. \nDuring the workshop\, all participants will be introduced to Chinese Sugar Painting art and Paper-cutting art. \nThen each will make their own Paper-cutting art piece. \nAfter making their own sugar painting\, they can have a little “taste” of their Sugar Painting. \nIt’s a family-friendly event and open to the public so bring your kids along (ages 8 and up) and have family time together on a Saturday afternoon! \nPlease scan our QR code or click here to register. \nThis hands-on workshop starts at 2:00 pm and finishes at 3:30 pm. \n 
URL:https://crane-house.org/event/chinese-folk-art-workshop/
LOCATION:Asia Institute – Crane House\, 1244 S. 3rd Street\, Louisville\, KY
CATEGORIES:Event Calendar,Upcoming Event
ATTACH;FMTTYPE=image/png:https://crane-house.org/wp-content/uploads/2022/10/Chinese-Folk-Art-Flyer-2.png
ORGANIZER;CN="Asia Institute - Crane House":MAILTO:khamm@crane-house.org
END:VEVENT
BEGIN:VEVENT
DTSTART;TZID=UTC:20221026T154500
DTEND;TZID=UTC:20221026T170000
DTSTAMP:20260425T133659
CREATED:20220912T173821Z
LAST-MODIFIED:20220912T173821Z
UID:931-1666799100-1666803600@crane-house.org
SUMMARY:Language Corner - Chinese Club @ Field Elementary
DESCRIPTION:
URL:https://crane-house.org/event/language-corner-chinese-club-field-elementary-6/
LOCATION:Field Elementary\, 120 Sacred Heart Ln\, Louisville\, 40206\, United States
ORGANIZER;CN="Asia Institute - Crane House":MAILTO:khamm@crane-house.org
END:VEVENT
BEGIN:VEVENT
DTSTART;TZID=UTC:20221026T031500
DTEND;TZID=UTC:20221026T161500
DTSTAMP:20260425T133659
CREATED:20220912T180600Z
LAST-MODIFIED:20220912T180600Z
UID:950-1666754100-1666800900@crane-house.org
SUMMARY:Language Corner - Chinese Club @ Sacred Heart Model School
DESCRIPTION:
URL:https://crane-house.org/event/language-corner-chinese-club-sacred-heart-model-school-2/
LOCATION:Sacred Heart Model School
ORGANIZER;CN="Asia Institute - Crane House":MAILTO:khamm@crane-house.org
END:VEVENT
BEGIN:VEVENT
DTSTART;TZID=UTC:20221025T173000
DTEND;TZID=UTC:20221025T183000
DTSTAMP:20260425T133659
CREATED:20220906T154323Z
LAST-MODIFIED:20221017T144514Z
UID:896-1666719000-1666722600@crane-house.org
SUMMARY:Chinese Corner
DESCRIPTION:
URL:https://crane-house.org/event/chinese-corner-5/
LOCATION:St. Matthew Public Library\, 3940 Grandview Ave\, Louisville\, 40207\, United States
CATEGORIES:Upcoming Event
ORGANIZER;CN="Asia Institute - Crane House":MAILTO:khamm@crane-house.org
END:VEVENT
BEGIN:VEVENT
DTSTART;TZID=UTC:20221019T154500
DTEND;TZID=UTC:20221019T170000
DTSTAMP:20260425T133659
CREATED:20220912T173711Z
LAST-MODIFIED:20221017T142315Z
UID:929-1666194300-1666198800@crane-house.org
SUMMARY:Language Corner - Chinese Club @ Field Elementary
DESCRIPTION:
URL:https://crane-house.org/event/language-corner-chinese-club-field-elementary-5/
LOCATION:Field Elementary\, 120 Sacred Heart Ln\, Louisville\, 40206\, United States
CATEGORIES:Upcoming Event
ATTACH;FMTTYPE=image/png:https://crane-house.org/wp-content/uploads/2022/09/language_corner_field_elem_header.png
ORGANIZER;CN="Asia Institute - Crane House":MAILTO:khamm@crane-house.org
END:VEVENT
BEGIN:VEVENT
DTSTART;TZID=UTC:20221019T151500
DTEND;TZID=UTC:20221019T161500
DTSTAMP:20260425T133659
CREATED:20220912T180435Z
LAST-MODIFIED:20221017T142044Z
UID:948-1666192500-1666196100@crane-house.org
SUMMARY:Language Corner - Chinese Club @ Sacred Heart Model School
DESCRIPTION:
URL:https://crane-house.org/event/language-corner-chinese-club-sacred-heart-model-school/
LOCATION:Sacred Heart Model School
CATEGORIES:Upcoming Event
ATTACH;FMTTYPE=image/png:https://crane-house.org/wp-content/uploads/2022/09/language_corner_header.png
ORGANIZER;CN="Asia Institute - Crane House":MAILTO:khamm@crane-house.org
END:VEVENT
BEGIN:VEVENT
DTSTART;TZID=UTC:20221018T173000
DTEND;TZID=UTC:20221018T183000
DTSTAMP:20260425T133659
CREATED:20220906T154156Z
LAST-MODIFIED:20221017T144432Z
UID:894-1666114200-1666117800@crane-house.org
SUMMARY:Chinese Corner
DESCRIPTION:
URL:https://crane-house.org/event/chinese-corner-4/
LOCATION:St. Matthew Public Library\, 3940 Grandview Ave\, Louisville\, 40207\, United States
CATEGORIES:Upcoming Event
ORGANIZER;CN="Asia Institute - Crane House":MAILTO:khamm@crane-house.org
END:VEVENT
BEGIN:VEVENT
DTSTART;TZID=UTC:20221012T154500
DTEND;TZID=UTC:20221012T170000
DTSTAMP:20260425T133659
CREATED:20220912T173603Z
LAST-MODIFIED:20220912T173603Z
UID:927-1665589500-1665594000@crane-house.org
SUMMARY:Language Corner - Chinese Club @ Field Elementary
DESCRIPTION:
URL:https://crane-house.org/event/language-corner-chinese-club-field-elementary-4/
LOCATION:Field Elementary\, 120 Sacred Heart Ln\, Louisville\, 40206\, United States
ORGANIZER;CN="Asia Institute - Crane House":MAILTO:khamm@crane-house.org
END:VEVENT
BEGIN:VEVENT
DTSTART;TZID=UTC:20221011T173000
DTEND;TZID=UTC:20221011T183000
DTSTAMP:20260425T133659
CREATED:20220906T154101Z
LAST-MODIFIED:20220906T154101Z
UID:892-1665509400-1665513000@crane-house.org
SUMMARY:Chinese Corner
DESCRIPTION:
URL:https://crane-house.org/event/chinese-corner-3/
LOCATION:St. Matthew Public Library\, 3940 Grandview Ave\, Louisville\, 40207\, United States
ORGANIZER;CN="Asia Institute - Crane House":MAILTO:khamm@crane-house.org
END:VEVENT
END:VCALENDAR