BEGIN:VCALENDAR
VERSION:2.0
PRODID:-//Asia Institute Crane House - ECPv6.15.20//NONSGML v1.0//EN
CALSCALE:GREGORIAN
METHOD:PUBLISH
X-WR-CALNAME:Asia Institute Crane House
X-ORIGINAL-URL:https://crane-house.org
X-WR-CALDESC:Events for Asia Institute Crane House
REFRESH-INTERVAL;VALUE=DURATION:PT1H
X-Robots-Tag:noindex
X-PUBLISHED-TTL:PT1H
BEGIN:VTIMEZONE
TZID:UTC
BEGIN:STANDARD
TZOFFSETFROM:+0000
TZOFFSETTO:+0000
TZNAME:UTC
DTSTART:20220101T000000
END:STANDARD
END:VTIMEZONE
BEGIN:VEVENT
DTSTART;TZID=UTC:20231101T190000
DTEND;TZID=UTC:20231101T220000
DTSTAMP:20260424T143402
CREATED:20230905T141905Z
LAST-MODIFIED:20230905T141905Z
UID:2588-1698865200-1698876000@crane-house.org
SUMMARY:QTAAPI Night
DESCRIPTION:We are excited to bring back QTAAPI Nights to Big Bar. \nCome and meet people in our LGBTQ and AAPI communities every \nFirst Wednesday of the Month from 7-9pm\, and enjoy a FREE sandwich from Paris Banh Mi while supplies last. \nAt 9pm feel free to stick around for Big Bar’s Karaoke Night!
URL:https://crane-house.org/event/qtaapi-night-3/
LOCATION:Big Bar\, 1202 Bardstown Road\, Louisville\, KY
CATEGORIES:Event Calendar,QTAPI,Upcoming Event
ATTACH;FMTTYPE=image/jpeg:https://crane-house.org/wp-content/uploads/2023/09/QTAAPI_night_header.jpg
ORGANIZER;CN="Asia Institute - Crane House":MAILTO:khamm@crane-house.org
END:VEVENT
BEGIN:VEVENT
DTSTART;TZID=UTC:20231101T154500
DTEND;TZID=UTC:20231101T170000
DTSTAMP:20260424T143402
CREATED:20231003T144342Z
LAST-MODIFIED:20231003T144342Z
UID:2650-1698853500-1698858000@crane-house.org
SUMMARY:Chinese Club After School @ Field Elementary School
DESCRIPTION:
URL:https://crane-house.org/event/chinese-club-after-school-field-elementary-school-11-1-2023/
LOCATION:Field Elementary\, 120 Sacred Heart Ln\, Louisville\, 40206\, United States
CATEGORIES:Event Calendar,Upcoming Event
ATTACH;FMTTYPE=image/jpeg:https://crane-house.org/wp-content/uploads/2023/10/ChineseClub_Fields.jpg
END:VEVENT
BEGIN:VEVENT
DTSTART;TZID=UTC:20231025T154500
DTEND;TZID=UTC:20231025T170000
DTSTAMP:20260424T143402
CREATED:20231003T144211Z
LAST-MODIFIED:20231003T144211Z
UID:2648-1698248700-1698253200@crane-house.org
SUMMARY:Chinese Club After School @ Field Elementary School
DESCRIPTION:
URL:https://crane-house.org/event/chinese-club-after-school-field-elementary-school-9/
LOCATION:Field Elementary\, 120 Sacred Heart Ln\, Louisville\, 40206\, United States
CATEGORIES:Event Calendar,Upcoming Event
ATTACH;FMTTYPE=image/jpeg:https://crane-house.org/wp-content/uploads/2023/10/ChineseClub_Fields.jpg
END:VEVENT
BEGIN:VEVENT
DTSTART;TZID=UTC:20231024T181500
DTEND;TZID=UTC:20231024T191500
DTSTAMP:20260424T143402
CREATED:20230816T130638Z
LAST-MODIFIED:20230816T130638Z
UID:2524-1698171300-1698174900@crane-house.org
SUMMARY:Language Corner - Chinese Culture Corner @ Northeast Regional Library
DESCRIPTION:
URL:https://crane-house.org/event/language-corner-chinese-culture-corner-northeast-regional-library-10-24/
LOCATION:Northeast Regional Library\, 15 Bellevoir Circle\, Louisville\, KY\, United States
CATEGORIES:Event Calendar,Upcoming Event
ATTACH;FMTTYPE=image/png:https://crane-house.org/wp-content/uploads/2023/08/CLC.png
ORGANIZER;CN="Asia Institute - Crane House":MAILTO:khamm@crane-house.org
END:VEVENT
BEGIN:VEVENT
DTSTART;TZID=UTC:20231019T183000
DTEND;TZID=UTC:20231019T193000
DTSTAMP:20260424T143402
CREATED:20230816T124517Z
LAST-MODIFIED:20230816T124517Z
UID:2510-1697740200-1697743800@crane-house.org
SUMMARY:Language Corner - Japanese Culture Corner @ St Matthews
DESCRIPTION:
URL:https://crane-house.org/event/language-corner-japanese-culture-corner-st-matthews-10-19/
LOCATION:St. Matthew Public Library\, 3940 Grandview Ave\, Louisville\, 40207\, United States
CATEGORIES:Event Calendar,Upcoming Event
ATTACH;FMTTYPE=image/png:https://crane-house.org/wp-content/uploads/2023/08/JLC_st_mathews-03.png
ORGANIZER;CN="Asia Institute - Crane House":MAILTO:khamm@crane-house.org
END:VEVENT
BEGIN:VEVENT
DTSTART;TZID=UTC:20231018T154500
DTEND;TZID=UTC:20231018T170000
DTSTAMP:20260424T143402
CREATED:20231003T144028Z
LAST-MODIFIED:20231003T144038Z
UID:2644-1697643900-1697648400@crane-house.org
SUMMARY:Chinese Club After School @ Field Elementary School
DESCRIPTION:
URL:https://crane-house.org/event/chinese-club-after-school-field-elementary-school-8/
LOCATION:Field Elementary\, 120 Sacred Heart Ln\, Louisville\, 40206\, United States
CATEGORIES:Event Calendar,Upcoming Event
ATTACH;FMTTYPE=image/jpeg:https://crane-house.org/wp-content/uploads/2023/10/ChineseClub_Fields.jpg
END:VEVENT
BEGIN:VEVENT
DTSTART;TZID=UTC:20231015T180000
DTEND;TZID=UTC:20231015T200000
DTSTAMP:20260424T143402
CREATED:20230717T132122Z
LAST-MODIFIED:20230905T142713Z
UID:2463-1697392800-1697400000@crane-house.org
SUMMARY:Wok Thru Asia - A Delicious Journey with Sebastian Moh - Taiwanese Menu
DESCRIPTION:Talented local Chef\, Sebastian Moh is collaborating with Asia Institute – Crane House on his cooking class series\,  Wok Through Asia: A Delicious Journey with Sebastian Moh. \nChef Sebastian will present a Taiwanese menu for the October cooking class paired with alcoholic or non-alcoholic beverages. \nYou will watch Chef Sebastian make a 3-course traditional Taiwanese dinner\, and have a sit-down dinner with the class. All participants will receive a copy of the recipe the week before the class. \nLIMITED SPOTS AVAILABLE\nREGISTER TODAY TO CLAIM YOUR SPOT!
URL:https://crane-house.org/event/wok-thru-asia-a-delicious-journey-with-sebastian-moh-taiwanese-menu/
LOCATION:Asia Institute – Crane House\, 1244 S. 3rd Street\, Louisville\, KY
CATEGORIES:Event Calendar,Upcoming Event
ATTACH;FMTTYPE=image/jpeg:https://crane-house.org/wp-content/uploads/2022/12/vietnamese.jpg
END:VEVENT
BEGIN:VEVENT
DTSTART;TZID=UTC:20231015T150000
DTEND;TZID=UTC:20231015T190000
DTSTAMP:20260424T143402
CREATED:20231002T130247Z
LAST-MODIFIED:20231002T130255Z
UID:2638-1697382000-1697396400@crane-house.org
SUMMARY:Louisville Filipino-American Appreciation Festival
DESCRIPTION:  \nVISIT THE FACEBOOK PAGE
URL:https://crane-house.org/event/louisville-filipino-american-appreciation-festival/
LOCATION:Central Park\, 1340 S. 4th St.\, Louisville\, KY\, 40203\, United States
CATEGORIES:Event Calendar,Upcoming Event
ATTACH;FMTTYPE=image/jpeg:https://crane-house.org/wp-content/uploads/2023/10/filipino_festival_header.jpg
ORGANIZER;CN="Asia Institute - Crane House":MAILTO:khamm@crane-house.org
END:VEVENT
BEGIN:VEVENT
DTSTART;TZID=UTC:20231012T180000
DTEND;TZID=UTC:20231012T210000
DTSTAMP:20260424T143402
CREATED:20230921T143716Z
LAST-MODIFIED:20230921T143716Z
UID:2628-1697133600-1697144400@crane-house.org
SUMMARY:Jiangxi Delegation Visit - Reception
DESCRIPTION:
URL:https://crane-house.org/event/jiangxi-delegation-visit-reception/
LOCATION:Asia Institute – Crane House\, 1244 S. 3rd Street\, Louisville\, KY
CATEGORIES:Event Calendar,Upcoming Event
ORGANIZER;CN="Asia Institute - Crane House":MAILTO:khamm@crane-house.org
END:VEVENT
BEGIN:VEVENT
DTSTART;TZID=UTC:20231010T181500
DTEND;TZID=UTC:20231010T191500
DTSTAMP:20260424T143402
CREATED:20230816T130545Z
LAST-MODIFIED:20230816T130545Z
UID:2522-1696961700-1696965300@crane-house.org
SUMMARY:Language Corner - Chinese Culture Corner @ Northeast Regional Library
DESCRIPTION:
URL:https://crane-house.org/event/language-corner-chinese-culture-corner-northeast-regional-library-10-10/
LOCATION:Northeast Regional Library\, 15 Bellevoir Circle\, Louisville\, KY\, United States
CATEGORIES:Event Calendar,Upcoming Event
ATTACH;FMTTYPE=image/png:https://crane-house.org/wp-content/uploads/2023/08/CLC.png
ORGANIZER;CN="Asia Institute - Crane House":MAILTO:khamm@crane-house.org
END:VEVENT
BEGIN:VEVENT
DTSTART;TZID=UTC:20231006T140000
DTEND;TZID=UTC:20231006T160000
DTSTAMP:20260424T143402
CREATED:20230921T143400Z
LAST-MODIFIED:20230921T143400Z
UID:2626-1696600800-1696608000@crane-house.org
SUMMARY:Courage to Try - A Solo Exhibit by Makara Thach Sernett - Opening Reception
DESCRIPTION:
URL:https://crane-house.org/event/courage-to-try-a-solo-exhibit-by-makara-thach-sernett-opening-reception/
LOCATION:Asia Institute – Crane House\, 1244 S. 3rd Street\, Louisville\, KY
CATEGORIES:Event Calendar,Exhibitions,Upcoming Event
ATTACH;FMTTYPE=image/jpeg:https://crane-house.org/wp-content/uploads/2023/09/makara_header.jpg
ORGANIZER;CN="Asia Institute - Crane House":MAILTO:khamm@crane-house.org
END:VEVENT
BEGIN:VEVENT
DTSTART;TZID=UTC:20231005T183000
DTEND;TZID=UTC:20231005T193000
DTSTAMP:20260424T143402
CREATED:20230816T124433Z
LAST-MODIFIED:20230816T124433Z
UID:2508-1696530600-1696534200@crane-house.org
SUMMARY:Language Corner - Japanese Culture Corner @ St Matthews
DESCRIPTION:
URL:https://crane-house.org/event/language-corner-japanese-culture-corner-st-matthews-10-5/
LOCATION:St. Matthew Public Library\, 3940 Grandview Ave\, Louisville\, 40207\, United States
CATEGORIES:Event Calendar,Upcoming Event
ATTACH;FMTTYPE=image/png:https://crane-house.org/wp-content/uploads/2023/08/JLC_st_mathews-03.png
ORGANIZER;CN="Asia Institute - Crane House":MAILTO:khamm@crane-house.org
END:VEVENT
BEGIN:VEVENT
DTSTART;TZID=UTC:20231004T190000
DTEND;TZID=UTC:20231004T220000
DTSTAMP:20260424T143402
CREATED:20230905T141745Z
LAST-MODIFIED:20230905T141804Z
UID:2586-1696446000-1696456800@crane-house.org
SUMMARY:QTAAPI Night
DESCRIPTION:We are excited to bring back QTAAPI Nights to Big Bar. \nCome and meet people in our LGBTQ and AAPI communities every \nFirst Wednesday of the Month from 7-9pm\, and enjoy a FREE sandwich from Paris Banh Mi while supplies last. \nAt 9pm feel free to stick around for Big Bar’s Karaoke Night!
URL:https://crane-house.org/event/qtaapi-night-2/
LOCATION:Big Bar\, 1202 Bardstown Road\, Louisville\, KY
CATEGORIES:Event Calendar,QTAPI,Upcoming Event
ATTACH;FMTTYPE=image/jpeg:https://crane-house.org/wp-content/uploads/2023/09/QTAAPI_night_header.jpg
ORGANIZER;CN="Asia Institute - Crane House":MAILTO:khamm@crane-house.org
END:VEVENT
BEGIN:VEVENT
DTSTART;VALUE=DATE:20231004
DTEND;VALUE=DATE:20231209
DTSTAMP:20260424T143402
CREATED:20230921T143224Z
LAST-MODIFIED:20230921T143224Z
UID:2622-1696377600-1702079999@crane-house.org
SUMMARY:Courage to Try - A Solo Exhibit by Makara Thach Sernett
DESCRIPTION:
URL:https://crane-house.org/event/courage-to-try-a-solo-exhibit-by-makara-thach-sernett/
LOCATION:Asia Institute – Crane House\, 1244 S. 3rd Street\, Louisville\, KY
CATEGORIES:Event Calendar,Exhibitions,Upcoming Event
ATTACH;FMTTYPE=image/jpeg:https://crane-house.org/wp-content/uploads/2023/09/makara_header.jpg
ORGANIZER;CN="Asia Institute - Crane House":MAILTO:khamm@crane-house.org
END:VEVENT
BEGIN:VEVENT
DTSTART;VALUE=DATE:20230930
DTEND;VALUE=DATE:20231001
DTSTAMP:20260424T143402
CREATED:20230427T140522Z
LAST-MODIFIED:20230928T132456Z
UID:2072-1696032000-1696118399@crane-house.org
SUMMARY:Asian Night Market
DESCRIPTION:
URL:https://crane-house.org/event/asian-night-market-2/
LOCATION:Fourth Street Live\, 411 S Fourth St\, Louisville\, KY\, 40202\, United States
CATEGORIES:Event Calendar,QTAPI,Upcoming Event
ATTACH;FMTTYPE=image/jpeg:https://crane-house.org/wp-content/uploads/2023/04/FSL_AsianNightMarket_2023_header.jpg
ORGANIZER;CN="Asia Institute - Crane House":MAILTO:khamm@crane-house.org
END:VEVENT
BEGIN:VEVENT
DTSTART;TZID=UTC:20230926T181500
DTEND;TZID=UTC:20230926T191500
DTSTAMP:20260424T143402
CREATED:20230816T130425Z
LAST-MODIFIED:20230816T130425Z
UID:2520-1695752100-1695755700@crane-house.org
SUMMARY:Language Corner - Chinese Culture Corner @ Northeast Regional Library
DESCRIPTION:
URL:https://crane-house.org/event/language-corner-chinese-culture-corner-northeast-regional-library-9-26/
LOCATION:Northeast Regional Library\, 15 Bellevoir Circle\, Louisville\, KY\, United States
CATEGORIES:Event Calendar,Upcoming Event
ATTACH;FMTTYPE=image/png:https://crane-house.org/wp-content/uploads/2023/08/CLC.png
ORGANIZER;CN="Asia Institute - Crane House":MAILTO:khamm@crane-house.org
END:VEVENT
BEGIN:VEVENT
DTSTART;TZID=UTC:20230926T170000
DTEND;TZID=UTC:20230926T180000
DTSTAMP:20260424T143402
CREATED:20230818T132043Z
LAST-MODIFIED:20230818T132050Z
UID:2548-1695747600-1695751200@crane-house.org
SUMMARY:Tai Chi Classes
DESCRIPTION:
URL:https://crane-house.org/event/tai-chi-classes-4/
LOCATION:Asia Institute – Crane House\, 1244 S. 3rd Street\, Louisville\, KY
CATEGORIES:Event Calendar,Upcoming Event
ATTACH;FMTTYPE=image/jpeg:https://crane-house.org/wp-content/uploads/2023/08/tai-chi.jpg
ORGANIZER;CN="Asia Institute - Crane House":MAILTO:khamm@crane-house.org
END:VEVENT
BEGIN:VEVENT
DTSTART;TZID=UTC:20230921T183000
DTEND;TZID=UTC:20230921T193000
DTSTAMP:20260424T143402
CREATED:20230816T124323Z
LAST-MODIFIED:20230816T124323Z
UID:2506-1695321000-1695324600@crane-house.org
SUMMARY:Language Corner - Japanese Culture Corner Coffee Social
DESCRIPTION:
URL:https://crane-house.org/event/language-corner-japanese-culture-corner-coffee-social/
LOCATION:St. Matthew Public Library\, 3940 Grandview Ave\, Louisville\, 40207\, United States
CATEGORIES:Event Calendar,Upcoming Event
ATTACH;FMTTYPE=image/png:https://crane-house.org/wp-content/uploads/2023/08/JLC_st_mathews-03.png
ORGANIZER;CN="Asia Institute - Crane House":MAILTO:khamm@crane-house.org
END:VEVENT
BEGIN:VEVENT
DTSTART;TZID=UTC:20230919T180000
DTEND;TZID=UTC:20230919T200000
DTSTAMP:20260424T143402
CREATED:20230905T134806Z
LAST-MODIFIED:20230905T134806Z
UID:2579-1695146400-1695153600@crane-house.org
SUMMARY:CHYP SPEED NETWORKING
DESCRIPTION:Crane House Young Professionals is happy to host our very \nFIRST Speed Networking event at AICH. \nCome and meet other young professionals around town\, take a professional headshot and explore career options! \nFREE for CHYP members and $10 for non-members. \nSPEED NETWORKING REGISTRATION
URL:https://crane-house.org/event/chyp-speed-networking/
LOCATION:Speed Museum\, 2035 S Third St\, Louisville\, KY\, 40208\, United States
CATEGORIES:CHYP,Event Calendar,Upcoming Event
ATTACH;FMTTYPE=image/jpeg:https://crane-house.org/wp-content/uploads/2023/09/speed_networking_header.jpg
ORGANIZER;CN="Asia Institute - Crane House":MAILTO:khamm@crane-house.org
END:VEVENT
BEGIN:VEVENT
DTSTART;TZID=UTC:20230919T170000
DTEND;TZID=UTC:20230919T180000
DTSTAMP:20260424T143402
CREATED:20230818T132002Z
LAST-MODIFIED:20230818T132009Z
UID:2546-1695142800-1695146400@crane-house.org
SUMMARY:Tai Chi Classes
DESCRIPTION:
URL:https://crane-house.org/event/tai-chi-classes-3/
LOCATION:Asia Institute – Crane House\, 1244 S. 3rd Street\, Louisville\, KY
CATEGORIES:Event Calendar,Upcoming Event
ATTACH;FMTTYPE=image/jpeg:https://crane-house.org/wp-content/uploads/2023/08/tai-chi.jpg
ORGANIZER;CN="Asia Institute - Crane House":MAILTO:khamm@crane-house.org
END:VEVENT
BEGIN:VEVENT
DTSTART;TZID=UTC:20230917T180000
DTEND;TZID=UTC:20230917T200000
DTSTAMP:20260424T143402
CREATED:20230717T131910Z
LAST-MODIFIED:20230905T143343Z
UID:2461-1694973600-1694980800@crane-house.org
SUMMARY:Wok Thru Asia - A Delicious Journey with Sebastian Moh - Japanese Menu
DESCRIPTION:Talented local Chef\, Sebastian Moh is collaborating with Asia Institute – Crane House on his cooking class series\,  Wok Through Asia: A Delicious Journey with Sebastian Moh. \nChef Sebastian will present a Japanese menu for the September cooking class paired with alcoholic or non-alcoholic beverages. \nYou will watch Chef Sebastian make a 3-course traditional Japanese dinner\, and have a sit-down dinner with the class. All participants will receive a copy of the recipe the week before the class. \nLIMITED SPOTS AVAILABLE\nREGISTER TODAY TO CLAIM YOUR SPOT!
URL:https://crane-house.org/event/wok-thru-asia-a-delicious-journey-with-sebastian-moh-japanese-menu/
LOCATION:Asia Institute – Crane House\, 1244 S. 3rd Street\, Louisville\, KY
CATEGORIES:Event Calendar,Upcoming Event
ATTACH;FMTTYPE=image/jpeg:https://crane-house.org/wp-content/uploads/2022/12/vietnamese.jpg
END:VEVENT
BEGIN:VEVENT
DTSTART;TZID=UTC:20230913T183000
DTEND;TZID=UTC:20230913T220000
DTSTAMP:20260424T143402
CREATED:20230905T133928Z
LAST-MODIFIED:20230905T134014Z
UID:2572-1694629800-1694642400@crane-house.org
SUMMARY:CHYP Dinner: It's Sushi Time
DESCRIPTION:Crane House Young Professionals will be dining in at Dragon King’s Daughter for September’s Restaurant Night!\nEmail us at cranehouseyp@gmail.com to reserve your spot!
URL:https://crane-house.org/event/chyp-dinner-its-sushi-time/
LOCATION:Dragon Kings Daughter\, 1543 Bardstown Road\, Louisville\, KY\, 40205\, United States
CATEGORIES:CHYP,Event Calendar,Upcoming Event
ATTACH;FMTTYPE=image/jpeg:https://crane-house.org/wp-content/uploads/2023/09/sushi.jpg
ORGANIZER;CN="Asia Institute - Crane House":MAILTO:khamm@crane-house.org
END:VEVENT
BEGIN:VEVENT
DTSTART;TZID=UTC:20230912T181500
DTEND;TZID=UTC:20230912T191500
DTSTAMP:20260424T143402
CREATED:20230816T130324Z
LAST-MODIFIED:20230816T130324Z
UID:2518-1694542500-1694546100@crane-house.org
SUMMARY:Language Corner - Chinese Culture Corner @ Northeast Regional Library
DESCRIPTION:
URL:https://crane-house.org/event/language-corner-chinese-culture-corner-northeast-regional-library-9-12/
LOCATION:Northeast Regional Library\, 15 Bellevoir Circle\, Louisville\, KY\, United States
CATEGORIES:Event Calendar,Upcoming Event
ATTACH;FMTTYPE=image/png:https://crane-house.org/wp-content/uploads/2023/08/CLC.png
ORGANIZER;CN="Asia Institute - Crane House":MAILTO:khamm@crane-house.org
END:VEVENT
BEGIN:VEVENT
DTSTART;TZID=UTC:20230912T170000
DTEND;TZID=UTC:20230912T180000
DTSTAMP:20260424T143402
CREATED:20230818T131911Z
LAST-MODIFIED:20230818T131918Z
UID:2544-1694538000-1694541600@crane-house.org
SUMMARY:Tai Chi Classes
DESCRIPTION:
URL:https://crane-house.org/event/tai-chi-classes-2/
LOCATION:Asia Institute – Crane House\, 1244 S. 3rd Street\, Louisville\, KY
CATEGORIES:Event Calendar,Upcoming Event
ATTACH;FMTTYPE=image/jpeg:https://crane-house.org/wp-content/uploads/2023/08/tai-chi.jpg
ORGANIZER;CN="Asia Institute - Crane House":MAILTO:khamm@crane-house.org
END:VEVENT
BEGIN:VEVENT
DTSTART;TZID=UTC:20230907T183000
DTEND;TZID=UTC:20230907T193000
DTSTAMP:20260424T143402
CREATED:20230816T123128Z
LAST-MODIFIED:20230816T123128Z
UID:2499-1694111400-1694115000@crane-house.org
SUMMARY:Language Corner - Japanese Culture Corner @ St Matthews
DESCRIPTION:
URL:https://crane-house.org/event/language-corner-japanese-culture-corner-st-matthews-7/
LOCATION:St. Matthew Public Library\, 3940 Grandview Ave\, Louisville\, 40207\, United States
CATEGORIES:Event Calendar,Upcoming Event
ATTACH;FMTTYPE=image/png:https://crane-house.org/wp-content/uploads/2023/08/JLC_st_mathews-03.png
ORGANIZER;CN="Asia Institute - Crane House":MAILTO:khamm@crane-house.org
END:VEVENT
BEGIN:VEVENT
DTSTART;TZID=UTC:20230906T190000
DTEND;TZID=UTC:20230906T220000
DTSTAMP:20260424T143402
CREATED:20230905T141649Z
LAST-MODIFIED:20230905T141649Z
UID:2582-1694026800-1694037600@crane-house.org
SUMMARY:QTAAPI Night
DESCRIPTION:We are excited to bring back QTAAPI Nights to Big Bar. \nCome and meet people in our LGBTQ and AAPI communities every \nFirst Wednesday of the Month from 7-9pm\, and enjoy a FREE sandwich from Paris Banh Mi while supplies last. \nAt 9pm feel free to stick around for Big Bar’s Karaoke Night!
URL:https://crane-house.org/event/qtaapi_night/
LOCATION:Big Bar\, 1202 Bardstown Road\, Louisville\, KY
CATEGORIES:Event Calendar,QTAPI,Upcoming Event
ATTACH;FMTTYPE=image/jpeg:https://crane-house.org/wp-content/uploads/2023/09/QTAAPI_night_header.jpg
ORGANIZER;CN="Asia Institute - Crane House":MAILTO:khamm@crane-house.org
END:VEVENT
BEGIN:VEVENT
DTSTART;TZID=UTC:20230905T170000
DTEND;TZID=UTC:20230905T180000
DTSTAMP:20260424T143402
CREATED:20230818T131817Z
LAST-MODIFIED:20230818T131827Z
UID:2540-1693933200-1693936800@crane-house.org
SUMMARY:Tai Chi Classes
DESCRIPTION:
URL:https://crane-house.org/event/tai-chi-classes/
LOCATION:Asia Institute – Crane House\, 1244 S. 3rd Street\, Louisville\, KY
CATEGORIES:Event Calendar,Upcoming Event
ATTACH;FMTTYPE=image/jpeg:https://crane-house.org/wp-content/uploads/2023/08/tai-chi.jpg
ORGANIZER;CN="Asia Institute - Crane House":MAILTO:khamm@crane-house.org
END:VEVENT
BEGIN:VEVENT
DTSTART;TZID=UTC:20230829T181500
DTEND;TZID=UTC:20230829T191500
DTSTAMP:20260424T143402
CREATED:20230816T130158Z
LAST-MODIFIED:20230816T130158Z
UID:2514-1693332900-1693336500@crane-house.org
SUMMARY:Language Corner - Chinese Culture Corner @ Northeast Regional Library
DESCRIPTION:
URL:https://crane-house.org/event/language-corner-chinese-culture-corner-8-29/
LOCATION:Northeast Regional Library\, 15 Bellevoir Circle\, Louisville\, KY\, United States
CATEGORIES:Event Calendar,Upcoming Event
ATTACH;FMTTYPE=image/png:https://crane-house.org/wp-content/uploads/2023/08/CLC.png
ORGANIZER;CN="Asia Institute - Crane House":MAILTO:khamm@crane-house.org
END:VEVENT
BEGIN:VEVENT
DTSTART;TZID=UTC:20230820T180000
DTEND;TZID=UTC:20230820T200000
DTSTAMP:20260424T143402
CREATED:20230720T153627Z
LAST-MODIFIED:20230720T153627Z
UID:2469-1692554400-1692561600@crane-house.org
SUMMARY:Wok Thru Asia - A Delicious Journey with Sebastian Moh - Chinese Menu
DESCRIPTION:Talented local Chef\, Sebastian Moh is collaborating with Asia Institute – Crane House on his cooking class series\,  Wok Through Asia: A Delicious Journey with Sebastian Moh. \nChef Sebastian will present a Chinese menu for the August cooking class paired with alcoholic or non-alcoholic beverages. \nYou will watch Chef Sebastian make a 3-course traditional Chinese dinner\, and have a sit-down dinner with the class. All participants will receive a copy of the recipe the week before the class. \nLIMITED SPOTS AVAILABLE\, REGISTER TODAY TO CLAIM YOUR SPOT!
URL:https://crane-house.org/event/wok-thru-asia-a-delicious-journey-with-sebastian-moh-chinese-menu-2/
LOCATION:Asia Institute – Crane House\, 1244 S. 3rd Street\, Louisville\, KY
CATEGORIES:Event Calendar,Upcoming Event
ATTACH;FMTTYPE=image/jpeg:https://crane-house.org/wp-content/uploads/2022/12/vietnamese.jpg
END:VEVENT
BEGIN:VEVENT
DTSTART;TZID=UTC:20230818T170000
DTEND;TZID=UTC:20230818T220000
DTSTAMP:20260424T143402
CREATED:20230713T160817Z
LAST-MODIFIED:20230713T161432Z
UID:2455-1692378000-1692396000@crane-house.org
SUMMARY:After Hours at the Speed
DESCRIPTION:
URL:https://crane-house.org/event/after-hours-at-the-speed/
LOCATION:Speed Museum\, 2035 S Third St\, Louisville\, KY\, 40208\, United States
CATEGORIES:Event Calendar,Upcoming Event
ATTACH;FMTTYPE=image/jpeg:https://crane-house.org/wp-content/uploads/2023/07/after_hours_header.jpg
ORGANIZER;CN="Asia Institute - Crane House":MAILTO:khamm@crane-house.org
END:VEVENT
END:VCALENDAR