BEGIN:VCALENDAR
VERSION:2.0
PRODID:-//Asia Institute Crane House - ECPv6.15.20//NONSGML v1.0//EN
CALSCALE:GREGORIAN
METHOD:PUBLISH
X-ORIGINAL-URL:https://crane-house.org
X-WR-CALDESC:Events for Asia Institute Crane House
REFRESH-INTERVAL;VALUE=DURATION:PT1H
X-Robots-Tag:noindex
X-PUBLISHED-TTL:PT1H
BEGIN:VTIMEZONE
TZID:UTC
BEGIN:STANDARD
TZOFFSETFROM:+0000
TZOFFSETTO:+0000
TZNAME:UTC
DTSTART:20240101T000000
END:STANDARD
END:VTIMEZONE
BEGIN:VEVENT
DTSTART;TZID=UTC:20250910T190000
DTEND;TZID=UTC:20250910T200000
DTSTAMP:20260423T231228
CREATED:20250730T142817Z
LAST-MODIFIED:20250807T130729Z
UID:3854-1757530800-1757534400@crane-house.org
SUMMARY:Chinese Corner - Session at Jasmine Asian Bistro
DESCRIPTION:
URL:https://crane-house.org/event/chinese-corner-session-at-jasmine-asian-bistro/
LOCATION:Jasmine Szechuan Chinese Cuisine\, 13825 English Villa Dr.\, Louisville\, United States
CATEGORIES:Asian Language Program,Event Calendar,Upcoming Event
ATTACH;FMTTYPE=image/png:https://crane-house.org/wp-content/uploads/2025/07/FINAL-Fall-Language-Corner-Flyer_header.png
ORGANIZER;CN="Asia Institute - Crane House":MAILTO:khamm@crane-house.org
END:VEVENT
BEGIN:VEVENT
DTSTART;TZID=UTC:20250913T170000
DTEND;TZID=UTC:20250913T220000
DTSTAMP:20260423T231228
CREATED:20250224T151139Z
LAST-MODIFIED:20250716T162049Z
UID:3513-1757782800-1757800800@crane-house.org
SUMMARY:Asian Night Market
DESCRIPTION:
URL:https://crane-house.org/event/asian-night-market-4/
LOCATION:Fourth Street Live\, 411 S Fourth St\, Louisville\, KY\, 40202\, United States
CATEGORIES:Event Calendar,QTAPI,Upcoming Event
ATTACH;FMTTYPE=image/png:https://crane-house.org/wp-content/uploads/2025/07/ANM-2025-1080-x-1350.png
ORGANIZER;CN="Asia Institute - Crane House":MAILTO:khamm@crane-house.org
END:VEVENT
BEGIN:VEVENT
DTSTART;TZID=UTC:20250916T180000
DTEND;TZID=UTC:20250916T190000
DTSTAMP:20260423T231228
CREATED:20250625T132300Z
LAST-MODIFIED:20250625T132752Z
UID:3768-1758045600-1758049200@crane-house.org
SUMMARY:Summer 2026 Tour to China with the Asia Institute - Information Session
DESCRIPTION:  \nRSVP
URL:https://crane-house.org/event/summer-2026-tour-to-china-with-the-asia-institute-information-session-2/
LOCATION:Asia Institute – Crane House\, 1244 S. 3rd Street\, Louisville\, KY
CATEGORIES:Additional Program,Event Calendar,Upcoming Event
ATTACH;FMTTYPE=image/jpeg:https://crane-house.org/wp-content/uploads/2025/04/China_2026_header.jpg
ORGANIZER;CN="Asia Institute - Crane House":MAILTO:khamm@crane-house.org
END:VEVENT
BEGIN:VEVENT
DTSTART;VALUE=DATE:20250918
DTEND;VALUE=DATE:20250919
DTSTAMP:20260423T231228
CREATED:20250730T143234Z
LAST-MODIFIED:20250731T145538Z
UID:3858-1758153600-1758239999@crane-house.org
SUMMARY:Give For Good Louisville 2025
DESCRIPTION:  \n\n      \nThis is an opportunity for you\, our friends to show how much you support our mission of celebrating Asian cultures and heritage through education\, outreach\, and the arts.
URL:https://crane-house.org/event/give-for-good-louisville-2025/
LOCATION:Asia Institute – Crane House\, 1244 S. 3rd Street\, Louisville\, KY
CATEGORIES:Event Calendar,Upcoming Event
ATTACH;FMTTYPE=image/png:https://crane-house.org/wp-content/uploads/2022/08/give-for.png
END:VEVENT
BEGIN:VEVENT
DTSTART;TZID=UTC:20250920T100000
DTEND;TZID=UTC:20250920T120000
DTSTAMP:20260423T231228
CREATED:20250822T204948Z
LAST-MODIFIED:20250908T190031Z
UID:3896-1758362400-1758369600@crane-house.org
SUMMARY:Mahjong Workshop
DESCRIPTION:Asia Institure Crane is hosting a series of Mahjong workshops in partnership with EDULINK as of this month.\nBeginner Class (perfect for those brand new to Mahjong) — $40 per person (2 hours) \nOpen Play Table (for experienced players who prefer to play independently) — $15 per person (2 hours) \nRSVP is required. Registration email – oreya2010@yahoo.com
URL:https://crane-house.org/event/mahjong-workshop-4/
LOCATION:Asia Institute – Crane House\, 1244 S. 3rd Street\, Louisville\, KY
CATEGORIES:Event Calendar,Upcoming Event
ATTACH;FMTTYPE=image/png:https://crane-house.org/wp-content/uploads/2025/04/Mahjong_header.png
ORGANIZER;CN="Asia Institute - Crane House":MAILTO:khamm@crane-house.org
END:VEVENT
BEGIN:VEVENT
DTSTART;TZID=UTC:20250924T190000
DTEND;TZID=UTC:20250924T200000
DTSTAMP:20260423T231228
CREATED:20250730T143322Z
LAST-MODIFIED:20250807T130824Z
UID:3860-1758740400-1758744000@crane-house.org
SUMMARY:Chinese Corner - Session at Jasmine Asian Bistro
DESCRIPTION:
URL:https://crane-house.org/event/chinese-corner-session-at-jasmine-asian-bistro-2/
LOCATION:Jasmine Szechuan Chinese Cuisine\, 13825 English Villa Dr.\, Louisville\, United States
CATEGORIES:Asian Language Program,Event Calendar,Upcoming Event
ATTACH;FMTTYPE=image/png:https://crane-house.org/wp-content/uploads/2025/07/FINAL-Fall-Language-Corner-Flyer_header.png
ORGANIZER;CN="Asia Institute - Crane House":MAILTO:khamm@crane-house.org
END:VEVENT
BEGIN:VEVENT
DTSTART;TZID=UTC:20251008T190000
DTEND;TZID=UTC:20251008T200000
DTSTAMP:20260423T231228
CREATED:20250730T143423Z
LAST-MODIFIED:20250807T131427Z
UID:3862-1759950000-1759953600@crane-house.org
SUMMARY:Chinese Corner - Session at Jasmine Asian Bistro
DESCRIPTION:
URL:https://crane-house.org/event/chinese-corner-session-at-jasmine-asian-bistro-3/
LOCATION:Jasmine Szechuan Chinese Cuisine\, 13825 English Villa Dr.\, Louisville\, United States
CATEGORIES:Asian Language Program,Event Calendar,Upcoming Event
ATTACH;FMTTYPE=image/png:https://crane-house.org/wp-content/uploads/2025/07/FINAL-Fall-Language-Corner-Flyer_header.png
ORGANIZER;CN="Asia Institute - Crane House":MAILTO:khamm@crane-house.org
END:VEVENT
BEGIN:VEVENT
DTSTART;TZID=UTC:20251011T140000
DTEND;TZID=UTC:20251011T160000
DTSTAMP:20260423T231228
CREATED:20250904T171825Z
LAST-MODIFIED:20250904T171825Z
UID:3917-1760191200-1760198400@crane-house.org
SUMMARY:Chinese Corner - Hands-On Bao Making Workshop
DESCRIPTION:
URL:https://crane-house.org/event/chinese-corner-hands-on-bao-making-workshop/
LOCATION:Asia Institute – Crane House\, 1244 S. 3rd Street\, Louisville\, KY
CATEGORIES:Additional Program,Event Calendar,Upcoming Event
ATTACH;FMTTYPE=image/jpeg:https://crane-house.org/wp-content/uploads/2025/09/BaoWorkshopHeader.jpg
ORGANIZER;CN="Asia Institute - Crane House":MAILTO:khamm@crane-house.org
END:VEVENT
BEGIN:VEVENT
DTSTART;TZID=UTC:20251022T190000
DTEND;TZID=UTC:20251022T200000
DTSTAMP:20260423T231228
CREATED:20250730T143518Z
LAST-MODIFIED:20250807T132034Z
UID:3864-1761159600-1761163200@crane-house.org
SUMMARY:Chinese Corner - Session at Jasmine Asian Bistro
DESCRIPTION:
URL:https://crane-house.org/event/chinese-corner-session-at-jasmine-asian-bistro-4/
LOCATION:Jasmine Szechuan Chinese Cuisine\, 13825 English Villa Dr.\, Louisville\, United States
CATEGORIES:Asian Language Program,Event Calendar,Upcoming Event
ATTACH;FMTTYPE=image/png:https://crane-house.org/wp-content/uploads/2025/07/FINAL-Fall-Language-Corner-Flyer_header.png
ORGANIZER;CN="Asia Institute - Crane House":MAILTO:khamm@crane-house.org
END:VEVENT
BEGIN:VEVENT
DTSTART;TZID=UTC:20251025T140000
DTEND;TZID=UTC:20251025T160000
DTSTAMP:20260423T231228
CREATED:20250822T205046Z
LAST-MODIFIED:20250908T185940Z
UID:3898-1761400800-1761408000@crane-house.org
SUMMARY:Mahjong Workshop
DESCRIPTION:Asia Institure Crane is hosting a series of Mahjong workshops in partnership with EDULINK as of this month.\nBeginner Class (perfect for those brand new to Mahjong) — $40 per person (2 hours) \nOpen Play Table (for experienced players who prefer to play independently) — $15 per person (2 hours) \nRSVP is required. Registration email – oreya2010@yahoo.com
URL:https://crane-house.org/event/mahjong-workshop-5/
LOCATION:107 Crescent Ave.\, 107 Crescent Avenue\, Louisville\, KY\, 40206\, United States
CATEGORIES:Event Calendar,Upcoming Event
ATTACH;FMTTYPE=image/png:https://crane-house.org/wp-content/uploads/2025/04/Mahjong_header.png
ORGANIZER;CN="Asia Institute - Crane House":MAILTO:khamm@crane-house.org
END:VEVENT
BEGIN:VEVENT
DTSTART;TZID=UTC:20251101T180000
DTEND;TZID=UTC:20251101T203000
DTSTAMP:20260423T231228
CREATED:20251103T174901Z
LAST-MODIFIED:20251103T174901Z
UID:3937-1762020000-1762029000@crane-house.org
SUMMARY:A Culinary Journey Through Southeast Asia
DESCRIPTION:
URL:https://crane-house.org/event/a-culinary-journey-through-southeast-asia/
LOCATION:Asia Institute – Crane House\, 1244 S. 3rd Street\, Louisville\, KY
CATEGORIES:Event Calendar,Upcoming Event
ATTACH;FMTTYPE=image/png:https://crane-house.org/wp-content/uploads/2025/04/Mahjong_header.png
ORGANIZER;CN="Asia Institute - Crane House":MAILTO:khamm@crane-house.org
END:VEVENT
BEGIN:VEVENT
DTSTART;TZID=UTC:20251108T140000
DTEND;TZID=UTC:20251108T160000
DTSTAMP:20260423T231228
CREATED:20250822T205242Z
LAST-MODIFIED:20250908T185914Z
UID:3902-1762610400-1762617600@crane-house.org
SUMMARY:Mahjong Workshop
DESCRIPTION:Asia Institure Crane is hosting a series of Mahjong workshops in partnership with EDULINK as of this month.\nBeginner Class (perfect for those brand new to Mahjong) — $40 per person (2 hours) \nOpen Play Table (for experienced players who prefer to play independently) — $15 per person (2 hours) \nRSVP is required. Registration email – oreya2010@yahoo.com
URL:https://crane-house.org/event/mahjong-workshop-6/
LOCATION:107 Crescent Ave.\, 107 Crescent Avenue\, Louisville\, KY\, 40206\, United States
CATEGORIES:Event Calendar,Upcoming Event
ATTACH;FMTTYPE=image/png:https://crane-house.org/wp-content/uploads/2025/04/Mahjong_header.png
ORGANIZER;CN="Asia Institute - Crane House":MAILTO:khamm@crane-house.org
END:VEVENT
BEGIN:VEVENT
DTSTART;TZID=UTC:20251114T093000
DTEND;TZID=UTC:20251114T113000
DTSTAMP:20260423T231228
CREATED:20251103T180855Z
LAST-MODIFIED:20251103T181057Z
UID:3956-1763112600-1763119800@crane-house.org
SUMMARY:Francis Parker Student Community Services at AICH
DESCRIPTION:
URL:https://crane-house.org/event/francis-parker-student-community-services-at-aich/
LOCATION:Asia Institute – Crane House\, 1244 S. 3rd Street\, Louisville\, KY
CATEGORIES:Event Calendar,Upcoming Event
ORGANIZER;CN="Asia Institute - Crane House":MAILTO:khamm@crane-house.org
END:VEVENT
BEGIN:VEVENT
DTSTART;TZID=UTC:20251115T090000
DTEND;TZID=UTC:20251115T120000
DTSTAMP:20260423T231228
CREATED:20251103T181027Z
LAST-MODIFIED:20251103T181027Z
UID:3958-1763197200-1763208000@crane-house.org
SUMMARY:Girl Scouts Festival of the Arts – Chinese Calligraphy and Henna Arts
DESCRIPTION:
URL:https://crane-house.org/event/girl-scouts-festival-of-the-arts-chinese-calligraphy-and-henna-arts/
LOCATION:Asia Institute – Crane House\, 1244 S. 3rd Street\, Louisville\, KY
CATEGORIES:Event Calendar,Upcoming Event
ORGANIZER;CN="Asia Institute - Crane House":MAILTO:khamm@crane-house.org
END:VEVENT
BEGIN:VEVENT
DTSTART;TZID=UTC:20251122T140000
DTEND;TZID=UTC:20251122T160000
DTSTAMP:20260423T231228
CREATED:20250822T205328Z
LAST-MODIFIED:20250908T185853Z
UID:3904-1763820000-1763827200@crane-house.org
SUMMARY:Mahjong Workshop
DESCRIPTION:Asia Institure Crane is hosting a series of Mahjong workshops in partnership with EDULINK as of this month.\nBeginner Class (perfect for those brand new to Mahjong) — $40 per person (2 hours) \nOpen Play Table (for experienced players who prefer to play independently) — $15 per person (2 hours) \nRSVP is required. Registration email – oreya2010@yahoo.com
URL:https://crane-house.org/event/mahjong-workshop-7/
LOCATION:107 Crescent Ave.\, 107 Crescent Avenue\, Louisville\, KY\, 40206\, United States
CATEGORIES:Event Calendar,Upcoming Event
ATTACH;FMTTYPE=image/png:https://crane-house.org/wp-content/uploads/2025/04/Mahjong_header.png
ORGANIZER;CN="Asia Institute - Crane House":MAILTO:khamm@crane-house.org
END:VEVENT
BEGIN:VEVENT
DTSTART;TZID=UTC:20251206T100000
DTEND;TZID=UTC:20251206T120000
DTSTAMP:20260423T231228
CREATED:20250822T205409Z
LAST-MODIFIED:20250908T185819Z
UID:3906-1765015200-1765022400@crane-house.org
SUMMARY:Mahjong Workshop
DESCRIPTION:Asia Institure Crane is hosting a series of Mahjong workshops in partnership with EDULINK as of this month.\nBeginner Class (perfect for those brand new to Mahjong) — $40 per person (2 hours) \nOpen Play Table (for experienced players who prefer to play independently) — $15 per person (2 hours) \nRSVP is required. Registration email – oreya2010@yahoo.com
URL:https://crane-house.org/event/mahjong-workshop-8/
LOCATION:Asia Institute – Crane House\, 1244 S. 3rd Street\, Louisville\, KY
CATEGORIES:Event Calendar,Upcoming Event
ATTACH;FMTTYPE=image/png:https://crane-house.org/wp-content/uploads/2025/04/Mahjong_header.png
ORGANIZER;CN="Asia Institute - Crane House":MAILTO:khamm@crane-house.org
END:VEVENT
BEGIN:VEVENT
DTSTART;TZID=UTC:20251213T140000
DTEND;TZID=UTC:20251213T160000
DTSTAMP:20260423T231228
CREATED:20250822T205453Z
LAST-MODIFIED:20251210T204203Z
UID:3908-1765634400-1765641600@crane-house.org
SUMMARY:Mahjong Workshop
DESCRIPTION:Asia Institure Crane is hosting a series of Mahjong workshops in partnership with EDULINK as of this month.\nBeginner Class (perfect for those brand new to Mahjong) — $40 per person (2 hours)\nOpen Play Table (for experienced players who prefer to play independently) — $15 per person (2 hours) \nRSVP is required. Registration email – oreya2010@yahoo.com \n     \n 
URL:https://crane-house.org/event/mahjong-workshop-9/
LOCATION:107 Crescent Ave.\, 107 Crescent Avenue\, Louisville\, KY\, 40206\, United States
CATEGORIES:Event Calendar,Upcoming Event
ATTACH;FMTTYPE=image/png:https://crane-house.org/wp-content/uploads/2025/04/Mahjong_header.png
ORGANIZER;CN="Asia Institute - Crane House":MAILTO:khamm@crane-house.org
END:VEVENT
BEGIN:VEVENT
DTSTART;TZID=UTC:20260108T130000
DTEND;TZID=UTC:20260108T140000
DTSTAMP:20260423T231228
CREATED:20260107T135757Z
LAST-MODIFIED:20260107T135757Z
UID:4055-1767877200-1767880800@crane-house.org
SUMMARY:Leadership Louisville Visit
DESCRIPTION:  \n 
URL:https://crane-house.org/event/leadership-louisville-visit/
LOCATION:Asia Institute – Crane House\, 1244 S. 3rd Street\, Louisville\, KY
CATEGORIES:Event Calendar,Upcoming Event
ORGANIZER;CN="Asia Institute - Crane House":MAILTO:khamm@crane-house.org
END:VEVENT
BEGIN:VEVENT
DTSTART;TZID=UTC:20260118T130000
DTEND;TZID=UTC:20260118T160000
DTSTAMP:20260423T231228
CREATED:20260105T145235Z
LAST-MODIFIED:20260116T162004Z
UID:4038-1768741200-1768752000@crane-house.org
SUMMARY:Lunar New Year at the Speed
DESCRIPTION:
URL:https://crane-house.org/event/lunar-new-year-at-the-speed/
LOCATION:Speed Museum\, 2035 S Third St\, Louisville\, KY\, 40208\, United States
CATEGORIES:Event Calendar,Upcoming Event
ATTACH;FMTTYPE=image/png:https://crane-house.org/wp-content/uploads/2026/01/2025-new-year.png
ORGANIZER;CN="Asia Institute - Crane House":MAILTO:khamm@crane-house.org
END:VEVENT
BEGIN:VEVENT
DTSTART;TZID=UTC:20260211T170000
DTEND;TZID=UTC:20260211T183000
DTSTAMP:20260423T231228
CREATED:20260107T143551Z
LAST-MODIFIED:20260116T213840Z
UID:4065-1770829200-1770834600@crane-house.org
SUMMARY:Teach In Asia – Training Date
DESCRIPTION: 
URL:https://crane-house.org/event/teach-in-asia-training-date-5/
LOCATION:Asia Institute – Crane House\, 1244 S. 3rd Street\, Louisville\, KY
CATEGORIES:Additional Program,Event Calendar,Upcoming Event
ORGANIZER;CN="Asia Institute - Crane House":MAILTO:khamm@crane-house.org
END:VEVENT
BEGIN:VEVENT
DTSTART;TZID=UTC:20260221T173000
DTEND;TZID=UTC:20260221T213000
DTSTAMP:20260423T231228
CREATED:20250224T151333Z
LAST-MODIFIED:20260106T192022Z
UID:3515-1771695000-1771709400@crane-house.org
SUMMARY:Lunar New Year Dinner & Auction
DESCRIPTION:YEAR OF THE FIRE HORSE – Lunar New Year Dinner and Auction\nTICKETS $298\nFOR TICKETS AND MORE INFORMATION VISIT\nbidpal.net/horse2026\n5:30PM – 9:30PM\nSaturday\, 21st February\, 2026\nSpeed Art Museum
URL:https://crane-house.org/event/lunar-new-year-dinner-auction/
LOCATION:Speed Museum\, 2035 S Third St\, Louisville\, KY\, 40208\, United States
CATEGORIES:Event Calendar,Upcoming Event
ATTACH;FMTTYPE=image/jpeg:https://crane-house.org/wp-content/uploads/2025/12/Year-of-the-Fire-Horse_horiz.jpg
ORGANIZER;CN="Asia Institute - Crane House":MAILTO:khamm@crane-house.org
END:VEVENT
BEGIN:VEVENT
DTSTART;TZID=UTC:20260304T190000
DTEND;TZID=UTC:20260304T200000
DTSTAMP:20260423T231228
CREATED:20260107T140826Z
LAST-MODIFIED:20260116T165429Z
UID:4057-1772650800-1772654400@crane-house.org
SUMMARY:Chinese Corner
DESCRIPTION:
URL:https://crane-house.org/event/chinese-corner-7/
LOCATION:Asia Institute – Crane House\, 1244 S. 3rd Street\, Louisville\, KY
CATEGORIES:Additional Program,Asian Language Program,Event Calendar,Upcoming Event
ATTACH;FMTTYPE=image/png:https://crane-house.org/wp-content/uploads/2023/08/CLC.png
ORGANIZER;CN="Asia Institute - Crane House":MAILTO:khamm@crane-house.org
END:VEVENT
BEGIN:VEVENT
DTSTART;TZID=UTC:20260311T170000
DTEND;TZID=UTC:20260311T183000
DTSTAMP:20260423T231228
CREATED:20260107T143713Z
LAST-MODIFIED:20260116T212426Z
UID:4067-1773248400-1773253800@crane-house.org
SUMMARY:Teach In Asia – Training Date
DESCRIPTION: 
URL:https://crane-house.org/event/teach-in-asia-training-date-6/
LOCATION:Asia Institute – Crane House\, 1244 S. 3rd Street\, Louisville\, KY
CATEGORIES:Additional Program,Event Calendar,Upcoming Event
ORGANIZER;CN="Asia Institute - Crane House":MAILTO:khamm@crane-house.org
END:VEVENT
BEGIN:VEVENT
DTSTART;TZID=UTC:20260314T130000
DTEND;TZID=UTC:20260314T150000
DTSTAMP:20260423T231228
CREATED:20260107T145412Z
LAST-MODIFIED:20260204T141953Z
UID:4077-1773493200-1773500400@crane-house.org
SUMMARY:Chinese Dumpling-Making Workshop
DESCRIPTION:SOLD OUT!\n\n 
URL:https://crane-house.org/event/chinese-dumpling-making-workshop/
LOCATION:Asia Institute – Crane House\, 1244 S. 3rd Street\, Louisville\, KY
CATEGORIES:Additional Program,Event Calendar,Upcoming Event
ATTACH;FMTTYPE=image/png:https://crane-house.org/wp-content/uploads/2026/01/FINAL_Chinese-Corner-dumpling-makingheader.png
ORGANIZER;CN="Asia Institute - Crane House":MAILTO:khamm@crane-house.org
END:VEVENT
BEGIN:VEVENT
DTSTART;TZID=UTC:20260318T190000
DTEND;TZID=UTC:20260318T200000
DTSTAMP:20260423T231228
CREATED:20260107T140947Z
LAST-MODIFIED:20260116T165505Z
UID:4059-1773860400-1773864000@crane-house.org
SUMMARY:Chinese Corner
DESCRIPTION:
URL:https://crane-house.org/event/chinese-corner-8/
LOCATION:Asia Institute – Crane House\, 1244 S. 3rd Street\, Louisville\, KY
CATEGORIES:Additional Program,Asian Language Program,Event Calendar,Upcoming Event
ATTACH;FMTTYPE=image/png:https://crane-house.org/wp-content/uploads/2023/08/CLC.png
ORGANIZER;CN="Asia Institute - Crane House":MAILTO:khamm@crane-house.org
END:VEVENT
BEGIN:VEVENT
DTSTART;TZID=UTC:20260322T120000
DTEND;TZID=UTC:20260322T150000
DTSTAMP:20260423T231228
CREATED:20260316T191318Z
LAST-MODIFIED:20260316T191318Z
UID:4179-1774180800-1774191600@crane-house.org
SUMMARY:CeLOUbrate Print & AICH - Woodcut Workshop
DESCRIPTION:
URL:https://crane-house.org/event/celoubrate-print-aich-woodcut-workshop-2/
LOCATION:Asia Institute – Crane House\, 1244 S. 3rd Street\, Louisville\, KY
CATEGORIES:Additional Program,Event Calendar,Upcoming Event
ATTACH;FMTTYPE=image/jpeg:https://crane-house.org/wp-content/uploads/2026/03/woodcut_header.jpg
END:VEVENT
BEGIN:VEVENT
DTSTART;TZID=UTC:20260328T130000
DTEND;TZID=UTC:20260328T150000
DTSTAMP:20260423T231228
CREATED:20260316T190928Z
LAST-MODIFIED:20260316T190928Z
UID:4171-1774702800-1774710000@crane-house.org
SUMMARY:Chinese Dumpling-Making Workshop
DESCRIPTION: 
URL:https://crane-house.org/event/chinese-dumpling-making-workshop-2/
LOCATION:Asia Institute – Crane House\, 1244 S. 3rd Street\, Louisville\, KY
CATEGORIES:Additional Program,Event Calendar,Upcoming Event
ATTACH;FMTTYPE=image/png:https://crane-house.org/wp-content/uploads/2026/01/FINAL_Chinese-Corner-dumpling-makingheader.png
ORGANIZER;CN="Asia Institute - Crane House":MAILTO:khamm@crane-house.org
END:VEVENT
BEGIN:VEVENT
DTSTART;TZID=UTC:20260401T190000
DTEND;TZID=UTC:20260401T200000
DTSTAMP:20260423T231228
CREATED:20260107T143133Z
LAST-MODIFIED:20260116T214829Z
UID:4061-1775070000-1775073600@crane-house.org
SUMMARY:Chinese Corner
DESCRIPTION:
URL:https://crane-house.org/event/chinese-corner-9/
LOCATION:Asia Institute – Crane House\, 1244 S. 3rd Street\, Louisville\, KY
CATEGORIES:Additional Program,Asian Language Program,Event Calendar,Upcoming Event
ATTACH;FMTTYPE=image/png:https://crane-house.org/wp-content/uploads/2023/08/CLC.png
ORGANIZER;CN="Asia Institute - Crane House":MAILTO:khamm@crane-house.org
END:VEVENT
BEGIN:VEVENT
DTSTART;TZID=UTC:20260411T130000
DTEND;TZID=UTC:20260411T150000
DTSTAMP:20260423T231229
CREATED:20260316T191042Z
LAST-MODIFIED:20260316T191042Z
UID:4177-1775912400-1775919600@crane-house.org
SUMMARY:Chinese Dumpling-Making Workshop
DESCRIPTION: 
URL:https://crane-house.org/event/chinese-dumpling-making-workshop-3/
LOCATION:Asia Institute – Crane House\, 1244 S. 3rd Street\, Louisville\, KY
CATEGORIES:Additional Program,Event Calendar,Upcoming Event
ATTACH;FMTTYPE=image/png:https://crane-house.org/wp-content/uploads/2026/01/FINAL_Chinese-Corner-dumpling-makingheader.png
ORGANIZER;CN="Asia Institute - Crane House":MAILTO:khamm@crane-house.org
END:VEVENT
BEGIN:VEVENT
DTSTART;TZID=UTC:20260414T093000
DTEND;TZID=UTC:20260414T120000
DTSTAMP:20260423T231229
CREATED:20260319T184929Z
LAST-MODIFIED:20260319T184929Z
UID:4210-1776159000-1776168000@crane-house.org
SUMMARY:AICH Tabling at YMCA Vendor Meeting
DESCRIPTION:AICH Tabling at YMCA Vendor Meeting
URL:https://crane-house.org/event/aich-tabling-at-ymca-vendor-meeting/
LOCATION:Asia Institute – Crane House\, 1244 S. 3rd Street\, Louisville\, KY
CATEGORIES:Event Calendar,Upcoming Event
END:VEVENT
END:VCALENDAR