BEGIN:VCALENDAR
VERSION:2.0
PRODID:-//Asia Institute Crane House - ECPv6.15.20//NONSGML v1.0//EN
CALSCALE:GREGORIAN
METHOD:PUBLISH
X-WR-CALNAME:Asia Institute Crane House
X-ORIGINAL-URL:https://crane-house.org
X-WR-CALDESC:Events for Asia Institute Crane House
REFRESH-INTERVAL;VALUE=DURATION:PT1H
X-Robots-Tag:noindex
X-PUBLISHED-TTL:PT1H
BEGIN:VTIMEZONE
TZID:UTC
BEGIN:STANDARD
TZOFFSETFROM:+0000
TZOFFSETTO:+0000
TZNAME:UTC
DTSTART:20250101T000000
END:STANDARD
END:VTIMEZONE
BEGIN:VEVENT
DTSTART;TZID=UTC:20260211T170000
DTEND;TZID=UTC:20260211T183000
DTSTAMP:20260423T220704
CREATED:20260107T143551Z
LAST-MODIFIED:20260116T213840Z
UID:4065-1770829200-1770834600@crane-house.org
SUMMARY:Teach In Asia – Training Date
DESCRIPTION: 
URL:https://crane-house.org/event/teach-in-asia-training-date-5/
LOCATION:Asia Institute – Crane House\, 1244 S. 3rd Street\, Louisville\, KY
CATEGORIES:Additional Program,Event Calendar,Upcoming Event
ORGANIZER;CN="Asia Institute - Crane House":MAILTO:khamm@crane-house.org
END:VEVENT
BEGIN:VEVENT
DTSTART;TZID=UTC:20260221T173000
DTEND;TZID=UTC:20260221T213000
DTSTAMP:20260423T220704
CREATED:20250224T151333Z
LAST-MODIFIED:20260106T192022Z
UID:3515-1771695000-1771709400@crane-house.org
SUMMARY:Lunar New Year Dinner & Auction
DESCRIPTION:YEAR OF THE FIRE HORSE – Lunar New Year Dinner and Auction\nTICKETS $298\nFOR TICKETS AND MORE INFORMATION VISIT\nbidpal.net/horse2026\n5:30PM – 9:30PM\nSaturday\, 21st February\, 2026\nSpeed Art Museum
URL:https://crane-house.org/event/lunar-new-year-dinner-auction/
LOCATION:Speed Museum\, 2035 S Third St\, Louisville\, KY\, 40208\, United States
CATEGORIES:Event Calendar,Upcoming Event
ATTACH;FMTTYPE=image/jpeg:https://crane-house.org/wp-content/uploads/2025/12/Year-of-the-Fire-Horse_horiz.jpg
ORGANIZER;CN="Asia Institute - Crane House":MAILTO:khamm@crane-house.org
END:VEVENT
BEGIN:VEVENT
DTSTART;TZID=UTC:20260304T190000
DTEND;TZID=UTC:20260304T200000
DTSTAMP:20260423T220704
CREATED:20260107T140826Z
LAST-MODIFIED:20260116T165429Z
UID:4057-1772650800-1772654400@crane-house.org
SUMMARY:Chinese Corner
DESCRIPTION:
URL:https://crane-house.org/event/chinese-corner-7/
LOCATION:Asia Institute – Crane House\, 1244 S. 3rd Street\, Louisville\, KY
CATEGORIES:Additional Program,Asian Language Program,Event Calendar,Upcoming Event
ATTACH;FMTTYPE=image/png:https://crane-house.org/wp-content/uploads/2023/08/CLC.png
ORGANIZER;CN="Asia Institute - Crane House":MAILTO:khamm@crane-house.org
END:VEVENT
BEGIN:VEVENT
DTSTART;TZID=UTC:20260311T170000
DTEND;TZID=UTC:20260311T183000
DTSTAMP:20260423T220704
CREATED:20260107T143713Z
LAST-MODIFIED:20260116T212426Z
UID:4067-1773248400-1773253800@crane-house.org
SUMMARY:Teach In Asia – Training Date
DESCRIPTION: 
URL:https://crane-house.org/event/teach-in-asia-training-date-6/
LOCATION:Asia Institute – Crane House\, 1244 S. 3rd Street\, Louisville\, KY
CATEGORIES:Additional Program,Event Calendar,Upcoming Event
ORGANIZER;CN="Asia Institute - Crane House":MAILTO:khamm@crane-house.org
END:VEVENT
BEGIN:VEVENT
DTSTART;TZID=UTC:20260314T130000
DTEND;TZID=UTC:20260314T150000
DTSTAMP:20260423T220704
CREATED:20260107T145412Z
LAST-MODIFIED:20260204T141953Z
UID:4077-1773493200-1773500400@crane-house.org
SUMMARY:Chinese Dumpling-Making Workshop
DESCRIPTION:SOLD OUT!\n\n 
URL:https://crane-house.org/event/chinese-dumpling-making-workshop/
LOCATION:Asia Institute – Crane House\, 1244 S. 3rd Street\, Louisville\, KY
CATEGORIES:Additional Program,Event Calendar,Upcoming Event
ATTACH;FMTTYPE=image/png:https://crane-house.org/wp-content/uploads/2026/01/FINAL_Chinese-Corner-dumpling-makingheader.png
ORGANIZER;CN="Asia Institute - Crane House":MAILTO:khamm@crane-house.org
END:VEVENT
BEGIN:VEVENT
DTSTART;TZID=UTC:20260318T190000
DTEND;TZID=UTC:20260318T200000
DTSTAMP:20260423T220704
CREATED:20260107T140947Z
LAST-MODIFIED:20260116T165505Z
UID:4059-1773860400-1773864000@crane-house.org
SUMMARY:Chinese Corner
DESCRIPTION:
URL:https://crane-house.org/event/chinese-corner-8/
LOCATION:Asia Institute – Crane House\, 1244 S. 3rd Street\, Louisville\, KY
CATEGORIES:Additional Program,Asian Language Program,Event Calendar,Upcoming Event
ATTACH;FMTTYPE=image/png:https://crane-house.org/wp-content/uploads/2023/08/CLC.png
ORGANIZER;CN="Asia Institute - Crane House":MAILTO:khamm@crane-house.org
END:VEVENT
BEGIN:VEVENT
DTSTART;TZID=UTC:20260322T120000
DTEND;TZID=UTC:20260322T150000
DTSTAMP:20260423T220704
CREATED:20260316T191318Z
LAST-MODIFIED:20260316T191318Z
UID:4179-1774180800-1774191600@crane-house.org
SUMMARY:CeLOUbrate Print & AICH - Woodcut Workshop
DESCRIPTION:
URL:https://crane-house.org/event/celoubrate-print-aich-woodcut-workshop-2/
LOCATION:Asia Institute – Crane House\, 1244 S. 3rd Street\, Louisville\, KY
CATEGORIES:Additional Program,Event Calendar,Upcoming Event
ATTACH;FMTTYPE=image/jpeg:https://crane-house.org/wp-content/uploads/2026/03/woodcut_header.jpg
END:VEVENT
BEGIN:VEVENT
DTSTART;TZID=UTC:20260328T130000
DTEND;TZID=UTC:20260328T150000
DTSTAMP:20260423T220704
CREATED:20260316T190928Z
LAST-MODIFIED:20260316T190928Z
UID:4171-1774702800-1774710000@crane-house.org
SUMMARY:Chinese Dumpling-Making Workshop
DESCRIPTION: 
URL:https://crane-house.org/event/chinese-dumpling-making-workshop-2/
LOCATION:Asia Institute – Crane House\, 1244 S. 3rd Street\, Louisville\, KY
CATEGORIES:Additional Program,Event Calendar,Upcoming Event
ATTACH;FMTTYPE=image/png:https://crane-house.org/wp-content/uploads/2026/01/FINAL_Chinese-Corner-dumpling-makingheader.png
ORGANIZER;CN="Asia Institute - Crane House":MAILTO:khamm@crane-house.org
END:VEVENT
BEGIN:VEVENT
DTSTART;TZID=UTC:20260401T190000
DTEND;TZID=UTC:20260401T200000
DTSTAMP:20260423T220704
CREATED:20260107T143133Z
LAST-MODIFIED:20260116T214829Z
UID:4061-1775070000-1775073600@crane-house.org
SUMMARY:Chinese Corner
DESCRIPTION:
URL:https://crane-house.org/event/chinese-corner-9/
LOCATION:Asia Institute – Crane House\, 1244 S. 3rd Street\, Louisville\, KY
CATEGORIES:Additional Program,Asian Language Program,Event Calendar,Upcoming Event
ATTACH;FMTTYPE=image/png:https://crane-house.org/wp-content/uploads/2023/08/CLC.png
ORGANIZER;CN="Asia Institute - Crane House":MAILTO:khamm@crane-house.org
END:VEVENT
BEGIN:VEVENT
DTSTART;TZID=UTC:20260411T130000
DTEND;TZID=UTC:20260411T150000
DTSTAMP:20260423T220704
CREATED:20260316T191042Z
LAST-MODIFIED:20260316T191042Z
UID:4177-1775912400-1775919600@crane-house.org
SUMMARY:Chinese Dumpling-Making Workshop
DESCRIPTION: 
URL:https://crane-house.org/event/chinese-dumpling-making-workshop-3/
LOCATION:Asia Institute – Crane House\, 1244 S. 3rd Street\, Louisville\, KY
CATEGORIES:Additional Program,Event Calendar,Upcoming Event
ATTACH;FMTTYPE=image/png:https://crane-house.org/wp-content/uploads/2026/01/FINAL_Chinese-Corner-dumpling-makingheader.png
ORGANIZER;CN="Asia Institute - Crane House":MAILTO:khamm@crane-house.org
END:VEVENT
BEGIN:VEVENT
DTSTART;TZID=UTC:20260414T093000
DTEND;TZID=UTC:20260414T120000
DTSTAMP:20260423T220704
CREATED:20260319T184929Z
LAST-MODIFIED:20260319T184929Z
UID:4210-1776159000-1776168000@crane-house.org
SUMMARY:AICH Tabling at YMCA Vendor Meeting
DESCRIPTION:AICH Tabling at YMCA Vendor Meeting
URL:https://crane-house.org/event/aich-tabling-at-ymca-vendor-meeting/
LOCATION:Asia Institute – Crane House\, 1244 S. 3rd Street\, Louisville\, KY
CATEGORIES:Event Calendar,Upcoming Event
END:VEVENT
BEGIN:VEVENT
DTSTART;TZID=UTC:20260414T170000
DTEND;TZID=UTC:20260414T183000
DTSTAMP:20260423T220704
CREATED:20260107T143807Z
LAST-MODIFIED:20260319T184034Z
UID:4069-1776186000-1776191400@crane-house.org
SUMMARY:Teach In Asia – Training Date
DESCRIPTION: 
URL:https://crane-house.org/event/teach-in-asia-training-date-7/
LOCATION:Asia Institute – Crane House\, 1244 S. 3rd Street\, Louisville\, KY
CATEGORIES:Additional Program,Event Calendar,Upcoming Event
ORGANIZER;CN="Asia Institute - Crane House":MAILTO:khamm@crane-house.org
END:VEVENT
BEGIN:VEVENT
DTSTART;TZID=UTC:20260415T190000
DTEND;TZID=UTC:20260415T200000
DTSTAMP:20260423T220704
CREATED:20260107T143240Z
LAST-MODIFIED:20260116T214932Z
UID:4063-1776279600-1776283200@crane-house.org
SUMMARY:Chinese Corner
DESCRIPTION:
URL:https://crane-house.org/event/chinese-corner-10/
LOCATION:Asia Institute – Crane House\, 1244 S. 3rd Street\, Louisville\, KY
CATEGORIES:Additional Program,Asian Language Program,Event Calendar,Upcoming Event
ATTACH;FMTTYPE=image/png:https://crane-house.org/wp-content/uploads/2023/08/CLC.png
ORGANIZER;CN="Asia Institute - Crane House":MAILTO:khamm@crane-house.org
END:VEVENT
BEGIN:VEVENT
DTSTART;TZID=UTC:20260421T170000
DTEND;TZID=UTC:20260421T190000
DTSTAMP:20260423T220704
CREATED:20260319T184726Z
LAST-MODIFIED:20260319T184726Z
UID:4207-1776790800-1776798000@crane-house.org
SUMMARY:Watterson Elementary Multi-cultural Night Tabling
DESCRIPTION:Watterson Elementary Multi-cultural Night Tabling
URL:https://crane-house.org/event/watterson-elementary-multi-cultural-night-tabling/
LOCATION:Watterson Elementary School\, 3900 Breckenridge Ln\, Louisville\, Kentucky\, 40218
CATEGORIES:Additional Program,Event Calendar,Upcoming Event
END:VEVENT
BEGIN:VEVENT
DTSTART;VALUE=DATE:20260428
DTEND;VALUE=DATE:20260429
DTSTAMP:20260423T220704
CREATED:20260319T185115Z
LAST-MODIFIED:20260319T185115Z
UID:4212-1777334400-1777420799@crane-house.org
SUMMARY:Winsday Sale Last Day
DESCRIPTION:Winsday Sale Last Day \nTicket Sale ends at 12:45p
URL:https://crane-house.org/event/winsday-sale-last-day/
LOCATION:Asia Institute – Crane House\, 1244 S. 3rd Street\, Louisville\, KY
CATEGORIES:Event Calendar
ORGANIZER;CN="Asia Institute - Crane House":MAILTO:khamm@crane-house.org
END:VEVENT
BEGIN:VEVENT
DTSTART;TZID=UTC:20260507T110000
DTEND;TZID=UTC:20260507T130000
DTSTAMP:20260423T220704
CREATED:20260319T185415Z
LAST-MODIFIED:20260319T185415Z
UID:4214-1778151600-1778158800@crane-house.org
SUMMARY:AAPI Month Celebration
DESCRIPTION:AAPI Month Celebration
URL:https://crane-house.org/event/aapi-month-celebration/
LOCATION:Louisville Water Company\, 3018 Frankfort Ave\, Louisville\, KY\, 40206
CATEGORIES:Event Calendar,Upcoming Event
ORGANIZER;CN="Asia Institute - Crane House":MAILTO:khamm@crane-house.org
END:VEVENT
BEGIN:VEVENT
DTSTART;TZID=UTC:20260509T100000
DTEND;TZID=UTC:20260509T170000
DTSTAMP:20260423T220704
CREATED:20260409T124321Z
LAST-MODIFIED:20260409T124321Z
UID:4253-1778320800-1778346000@crane-house.org
SUMMARY:Locust Grove 2026 Gardeners’ Fair
DESCRIPTION:Locust Grove 2026 Gardeners’ Fair\n\nMay 9th – 10:00am-5:00pm\n\nAddress: Locust Grove – 561 Blankenbaker Lane\, Louisville\, KY 40207\n\n\nFamily friendly and open to the public\n\n\nAICH will be providing calligraphy and a couple of live Asian performances\n\n\nAdmission fee\n\n\nVisit https://locustgrove.org/event/2026-gardeners-fair/ for more information
URL:https://crane-house.org/event/locust-grove-2026-gardeners-fair/
LOCATION:Locust Grove\, 561 Blankenbaker Lane\, Louisville\, KY\, 40207
CATEGORIES:Event Calendar,Upcoming Event
END:VEVENT
BEGIN:VEVENT
DTSTART;TZID=UTC:20260513T170000
DTEND;TZID=UTC:20260513T183000
DTSTAMP:20260423T220704
CREATED:20260107T143901Z
LAST-MODIFIED:20260116T215220Z
UID:4071-1778691600-1778697000@crane-house.org
SUMMARY:Teach In Asia – Training Date
DESCRIPTION: 
URL:https://crane-house.org/event/teach-in-asia-training-date-8/
LOCATION:Asia Institute – Crane House\, 1244 S. 3rd Street\, Louisville\, KY
CATEGORIES:Additional Program,Event Calendar,Upcoming Event
ORGANIZER;CN="Asia Institute - Crane House":MAILTO:khamm@crane-house.org
END:VEVENT
BEGIN:VEVENT
DTSTART;TZID=UTC:20260514T110000
DTEND;TZID=UTC:20260514T130000
DTSTAMP:20260423T220704
CREATED:20260422T184650Z
LAST-MODIFIED:20260422T184650Z
UID:4275-1778756400-1778763600@crane-house.org
SUMMARY:AAPI Celebration on Campus at Brown Forman
DESCRIPTION:
URL:https://crane-house.org/event/aapi-celebration-on-campus-at-brown-forman/
LOCATION:Brown-Forman Campus\, 850 Dixie Hwy\, Louisville\, KY\, 40210\, United States
CATEGORIES:Event Calendar,Upcoming Event
ORGANIZER;CN="Asia Institute - Crane House":MAILTO:khamm@crane-house.org
END:VEVENT
BEGIN:VEVENT
DTSTART;TZID=UTC:20260519T100000
DTEND;TZID=UTC:20260519T120000
DTSTAMP:20260423T220704
CREATED:20260319T185910Z
LAST-MODIFIED:20260319T190053Z
UID:4217-1779184800-1779192000@crane-house.org
SUMMARY:Chinese Calligraphy Workshop
DESCRIPTION:Chinese Calligraphy Workshop- AAPI Month Special Event at JFCS
URL:https://crane-house.org/event/chinese-calligraphy-workshop/
LOCATION:JFCS\, 2821 Klempner Way\, Louisville\, KY\, 40205\, United States
CATEGORIES:Additional Program,Event Calendar,Upcoming Event
ATTACH;FMTTYPE=image/jpeg:https://crane-house.org/wp-content/uploads/2025/02/calligraphy_header.jpg
ORGANIZER;CN="Asia Institute - Crane House":MAILTO:khamm@crane-house.org
END:VEVENT
BEGIN:VEVENT
DTSTART;TZID=UTC:20260520T150000
DTEND;TZID=UTC:20260520T200000
DTSTAMP:20260423T220704
CREATED:20260409T123609Z
LAST-MODIFIED:20260409T123609Z
UID:4248-1779289200-1779307200@crane-house.org
SUMMARY:AAPI Month Celebration at Amazon
DESCRIPTION:AAPI Celebration at Amazon Shepherdsville\n\n\nMay 20th – two Calligraphy workshops (3:00-4:00pm and 7:00-8:00pm)\n\n\nAddress: Amazon Shepherdsville\n\n\nInternal event
URL:https://crane-house.org/event/aapi-month-celebration-at-amazon/
LOCATION:Amazon Shepherdsville
CATEGORIES:Asian Language Program,Event Calendar,Upcoming Event
ORGANIZER;CN="Asia Institute - Crane House":MAILTO:khamm@crane-house.org
END:VEVENT
BEGIN:VEVENT
DTSTART;TZID=UTC:20260523T130000
DTEND;TZID=UTC:20260523T150000
DTSTAMP:20260423T220704
CREATED:20260409T125038Z
LAST-MODIFIED:20260409T125038Z
UID:4265-1779541200-1779548400@crane-house.org
SUMMARY:Language Corner Special Event - Chinese Pastry Workshop 1
DESCRIPTION:
URL:https://crane-house.org/event/language-corner-special-event-chinese-pastry-workshop-1/
LOCATION:Asia Institute – Crane House\, 1244 S. 3rd Street\, Louisville\, KY
CATEGORIES:Additional Program,Asian Language Program,Event Calendar,Upcoming Event
ATTACH;FMTTYPE=image/jpeg:https://crane-house.org/wp-content/uploads/2026/04/Chinese-Pastry-Workshop-Flyer-2026_header.jpg
ORGANIZER;CN="Asia Institute - Crane House":MAILTO:khamm@crane-house.org
END:VEVENT
BEGIN:VEVENT
DTSTART;VALUE=DATE:20260530
DTEND;VALUE=DATE:20260531
DTSTAMP:20260423T220704
CREATED:20250221T144928Z
LAST-MODIFIED:20260320T133036Z
UID:3504-1780099200-1780185599@crane-house.org
SUMMARY:Aloha Lou! Polynesian Cultural Festival
DESCRIPTION:Location: Central Park\nLouisville’s second Polynesian festival will offer a full lineup of Polynesian dance and a variety of arts and food vendors representing Polynesian culture. Free\, family friendly\, and open to the public.
URL:https://crane-house.org/event/aloha-lou-polynesian-cultural-festival/
LOCATION:Central Park\, 1340 S. 4th St.\, Louisville\, KY\, 40203\, United States
CATEGORIES:Event Calendar,Upcoming Event
ATTACH;FMTTYPE=image/png:https://crane-house.org/wp-content/uploads/2025/02/aloha_header_2.png
END:VEVENT
BEGIN:VEVENT
DTSTART;TZID=UTC:20260530T130000
DTEND;TZID=UTC:20260530T150000
DTSTAMP:20260423T220704
CREATED:20260409T124729Z
LAST-MODIFIED:20260409T124729Z
UID:4263-1780146000-1780153200@crane-house.org
SUMMARY:Chinese Corner – Hands-On Bao Making Workshop
DESCRIPTION:
URL:https://crane-house.org/event/chinese-corner-hands-on-bao-making-workshop-2/
LOCATION:Asia Institute – Crane House\, 1244 S. 3rd Street\, Louisville\, KY
CATEGORIES:Additional Program,Asian Language Program,Event Calendar,Upcoming Event
ATTACH;FMTTYPE=image/jpeg:https://crane-house.org/wp-content/uploads/2026/04/Bao-Making-Workshop_header.jpg
ORGANIZER;CN="Asia Institute - Crane House":MAILTO:khamm@crane-house.org
END:VEVENT
BEGIN:VEVENT
DTSTART;VALUE=DATE:20260531
DTEND;VALUE=DATE:20260601
DTSTAMP:20260423T220704
CREATED:20240620T123526Z
LAST-MODIFIED:20260320T133650Z
UID:3081-1780185600-1780271999@crane-house.org
SUMMARY:Bonsai Weekend
DESCRIPTION:Location: Waterfront Botanical Gardens – 1435 Frankfort Ave\, Louisville\, KY 40206\nAICH is excited to partner with Waterfront Botanical Gardens to host a special AICH Day on the Sunday (May 31) of Bonsai Weekend! Spend the day enjoying live performances\, browsing local vendors\, and celebrating Asian culture and community in a beautiful garden setting. (Tickets Required)
URL:https://crane-house.org/event/bonsai-weekend/
LOCATION:Waterfront Botanical Gardens\, 1435 Frankfort Ave\, Louisville\, KY\, 40206\, United States
CATEGORIES:Event Calendar,Upcoming Event
ATTACH;FMTTYPE=image/jpeg:https://crane-house.org/wp-content/uploads/2025/02/Bonsai_header.jpg
ORGANIZER;CN="Asia Institute - Crane House":MAILTO:khamm@crane-house.org
END:VEVENT
BEGIN:VEVENT
DTSTART;TZID=UTC:20260601T090000
DTEND;TZID=UTC:20260601T153000
DTSTAMP:20260423T220704
CREATED:20260107T145226Z
LAST-MODIFIED:20260423T170806Z
UID:4075-1780304400-1780327800@crane-house.org
SUMMARY:Kids Summer Camp
DESCRIPTION:
URL:https://crane-house.org/event/kids-summer-camp/
LOCATION:Asia Institute – Crane House\, 1244 S. 3rd Street\, Louisville\, KY
CATEGORIES:Additional Program,Event Calendar,Upcoming Event
ATTACH;FMTTYPE=image/png:https://crane-house.org/wp-content/uploads/2026/01/summercampheader.png
ORGANIZER;CN="Asia Institute - Crane House":MAILTO:khamm@crane-house.org
END:VEVENT
BEGIN:VEVENT
DTSTART;TZID=UTC:20260602T090000
DTEND;TZID=UTC:20260602T153000
DTSTAMP:20260423T220704
CREATED:20260107T145457Z
LAST-MODIFIED:20260423T170729Z
UID:4079-1780390800-1780414200@crane-house.org
SUMMARY:Kids Summer Camp
DESCRIPTION:
URL:https://crane-house.org/event/kids-summer-camp-2/
LOCATION:Asia Institute – Crane House\, 1244 S. 3rd Street\, Louisville\, KY
CATEGORIES:Additional Program,Event Calendar,Upcoming Event
ATTACH;FMTTYPE=image/png:https://crane-house.org/wp-content/uploads/2026/01/summercampheader.png
ORGANIZER;CN="Asia Institute - Crane House":MAILTO:khamm@crane-house.org
END:VEVENT
BEGIN:VEVENT
DTSTART;TZID=UTC:20260603T090000
DTEND;TZID=UTC:20260603T153000
DTSTAMP:20260423T220704
CREATED:20260107T145541Z
LAST-MODIFIED:20260423T170653Z
UID:4081-1780477200-1780500600@crane-house.org
SUMMARY:Kids Summer Camp
DESCRIPTION:
URL:https://crane-house.org/event/kids-summer-camp-3/
LOCATION:Asia Institute – Crane House\, 1244 S. 3rd Street\, Louisville\, KY
CATEGORIES:Additional Program,Event Calendar,Upcoming Event
ATTACH;FMTTYPE=image/png:https://crane-house.org/wp-content/uploads/2026/01/summercampheader.png
ORGANIZER;CN="Asia Institute - Crane House":MAILTO:khamm@crane-house.org
END:VEVENT
BEGIN:VEVENT
DTSTART;TZID=UTC:20260604T090000
DTEND;TZID=UTC:20260604T153000
DTSTAMP:20260423T220704
CREATED:20260107T145652Z
LAST-MODIFIED:20260423T170303Z
UID:4083-1780563600-1780587000@crane-house.org
SUMMARY:Kids Summer Camp
DESCRIPTION:
URL:https://crane-house.org/event/kids-summer-camp-4/
LOCATION:Asia Institute – Crane House\, 1244 S. 3rd Street\, Louisville\, KY
CATEGORIES:Additional Program,Event Calendar,Upcoming Event
ATTACH;FMTTYPE=image/png:https://crane-house.org/wp-content/uploads/2026/01/summercampheader.png
ORGANIZER;CN="Asia Institute - Crane House":MAILTO:khamm@crane-house.org
END:VEVENT
BEGIN:VEVENT
DTSTART;TZID=UTC:20260605T090000
DTEND;TZID=UTC:20260605T153000
DTSTAMP:20260423T220704
CREATED:20260107T145727Z
LAST-MODIFIED:20260423T170204Z
UID:4085-1780650000-1780673400@crane-house.org
SUMMARY:Kids Summer Camp
DESCRIPTION:
URL:https://crane-house.org/event/kids-summer-camp-5/
LOCATION:Asia Institute – Crane House\, 1244 S. 3rd Street\, Louisville\, KY
CATEGORIES:Additional Program,Event Calendar,Upcoming Event
ATTACH;FMTTYPE=image/png:https://crane-house.org/wp-content/uploads/2026/01/summercampheader.png
ORGANIZER;CN="Asia Institute - Crane House":MAILTO:khamm@crane-house.org
END:VEVENT
END:VCALENDAR