BEGIN:VCALENDAR
VERSION:2.0
PRODID:-//Asia Institute Crane House - ECPv6.15.20//NONSGML v1.0//EN
CALSCALE:GREGORIAN
METHOD:PUBLISH
X-ORIGINAL-URL:https://crane-house.org
X-WR-CALDESC:Events for Asia Institute Crane House
REFRESH-INTERVAL;VALUE=DURATION:PT1H
X-Robots-Tag:noindex
X-PUBLISHED-TTL:PT1H
BEGIN:VTIMEZONE
TZID:UTC
BEGIN:STANDARD
TZOFFSETFROM:+0000
TZOFFSETTO:+0000
TZNAME:UTC
DTSTART:20220101T000000
END:STANDARD
END:VTIMEZONE
BEGIN:VEVENT
DTSTART;TZID=UTC:20230510T180000
DTEND;TZID=UTC:20230510T220000
DTSTAMP:20260425T165202
CREATED:20230427T142017Z
LAST-MODIFIED:20230427T142630Z
UID:2076-1683741600-1683756000@crane-house.org
SUMMARY:CHYP Restaurant Night: Village Market
DESCRIPTION:
URL:https://crane-house.org/event/chyp-march-restaurant-night-village-night/
LOCATION:Sarap Filipino Eatery\, 712 Brent St\, Louisville\, KY\, 40204
CATEGORIES:CHYP,Event Calendar,Upcoming Event
ATTACH;FMTTYPE=image/png:https://crane-house.org/wp-content/uploads/2023/04/chyp_village_market_header.png
ORGANIZER;CN="Asia Institute - Crane House":MAILTO:khamm@crane-house.org
END:VEVENT
END:VCALENDAR