BEGIN:VCALENDAR
VERSION:2.0
PRODID:-//Asia Institute Crane House - ECPv6.15.20//NONSGML v1.0//EN
CALSCALE:GREGORIAN
METHOD:PUBLISH
X-ORIGINAL-URL:https://crane-house.org
X-WR-CALDESC:Events for Asia Institute Crane House
REFRESH-INTERVAL;VALUE=DURATION:PT1H
X-Robots-Tag:noindex
X-PUBLISHED-TTL:PT1H
BEGIN:VTIMEZONE
TZID:UTC
BEGIN:STANDARD
TZOFFSETFROM:+0000
TZOFFSETTO:+0000
TZNAME:UTC
DTSTART:20220101T000000
END:STANDARD
END:VTIMEZONE
BEGIN:VEVENT
DTSTART;TZID=UTC:20230308T180000
DTEND;TZID=UTC:20230308T220000
DTSTAMP:20260425T192914
CREATED:20230301T152210Z
LAST-MODIFIED:20230301T152210Z
UID:1962-1678298400-1678312800@crane-house.org
SUMMARY:CHYP March Restaurant Night
DESCRIPTION:
URL:https://crane-house.org/event/chyp-march-restaurant-night/
LOCATION:1115 Herr Ln\, Suite 130\, 1115 Herr Ln\, Suit 130\, Louisville\, KY
CATEGORIES:CHYP,Event Calendar,Upcoming Event
ATTACH;FMTTYPE=image/png:https://crane-house.org/wp-content/uploads/2023/03/hiko-a-mon-header.png
END:VEVENT
BEGIN:VEVENT
DTSTART;TZID=UTC:20230314T173000
DTEND;TZID=UTC:20230314T190000
DTSTAMP:20260425T192914
CREATED:20230301T151013Z
LAST-MODIFIED:20230301T155640Z
UID:1957-1678815000-1678820400@crane-house.org
SUMMARY:CHYP Home Buying Workshop
DESCRIPTION:
URL:https://crane-house.org/event/chyp-home-buying-workshop/
LOCATION:Asia Institute – Crane House\, 1244 S. 3rd Street\, Louisville\, KY
CATEGORIES:CHYP,Event Calendar,Upcoming Event
ATTACH;FMTTYPE=image/png:https://crane-house.org/wp-content/uploads/2023/03/home_buying_workshop.png
END:VEVENT
END:VCALENDAR