BEGIN:VCALENDAR
VERSION:2.0
PRODID:-//Asia Institute Crane House - ECPv6.15.20//NONSGML v1.0//EN
CALSCALE:GREGORIAN
METHOD:PUBLISH
X-WR-CALNAME:Asia Institute Crane House
X-ORIGINAL-URL:https://crane-house.org
X-WR-CALDESC:Events for Asia Institute Crane House
REFRESH-INTERVAL;VALUE=DURATION:PT1H
X-Robots-Tag:noindex
X-PUBLISHED-TTL:PT1H
BEGIN:VTIMEZONE
TZID:UTC
BEGIN:STANDARD
TZOFFSETFROM:+0000
TZOFFSETTO:+0000
TZNAME:UTC
DTSTART:20240101T000000
END:STANDARD
END:VTIMEZONE
BEGIN:VEVENT
DTSTART;TZID=UTC:20250126T130000
DTEND;TZID=UTC:20250126T160000
DTSTAMP:20260424T091841
CREATED:20241209T154255Z
LAST-MODIFIED:20241209T154255Z
UID:3401-1737896400-1737907200@crane-house.org
SUMMARY:January Community Day
DESCRIPTION:
URL:https://crane-house.org/event/january-community-day/
LOCATION:Speed Museum\, 2035 S Third St\, Louisville\, KY\, 40208\, United States
CATEGORIES:Additional Program,Event Calendar,Upcoming Event
ATTACH;FMTTYPE=image/jpeg:https://crane-house.org/wp-content/uploads/2024/12/Community-Day_header.jpg
ORGANIZER;CN="Asia Institute - Crane House":MAILTO:khamm@crane-house.org
END:VEVENT
END:VCALENDAR