BEGIN:VCALENDAR
VERSION:2.0
PRODID:-//Asia Institute Crane House - ECPv6.15.20//NONSGML v1.0//EN
CALSCALE:GREGORIAN
METHOD:PUBLISH
X-ORIGINAL-URL:https://crane-house.org
X-WR-CALDESC:Events for Asia Institute Crane House
REFRESH-INTERVAL;VALUE=DURATION:PT1H
X-Robots-Tag:noindex
X-PUBLISHED-TTL:PT1H
BEGIN:VTIMEZONE
TZID:UTC
BEGIN:STANDARD
TZOFFSETFROM:+0000
TZOFFSETTO:+0000
TZNAME:UTC
DTSTART:20240101T000000
END:STANDARD
END:VTIMEZONE
BEGIN:VEVENT
DTSTART;TZID=UTC:20250118T160000
DTEND;TZID=UTC:20250118T170000
DTSTAMP:20260424T092003
CREATED:20250107T201124Z
LAST-MODIFIED:20250107T201124Z
UID:3420-1737216000-1737219600@crane-house.org
SUMMARY:Magnolia Springs Assisted Living LNY Celebration
DESCRIPTION:
URL:https://crane-house.org/event/magnolia-springs-assisted-living-lny-celebration/
LOCATION:Asia Institute – Crane House\, 1244 S. 3rd Street\, Louisville\, KY
CATEGORIES:Additional Program,Event Calendar,Upcoming Event
ORGANIZER;CN="Asia Institute - Crane House":MAILTO:khamm@crane-house.org
END:VEVENT
END:VCALENDAR