BEGIN:VCALENDAR
VERSION:2.0
PRODID:-//Asia Institute Crane House - ECPv6.15.20//NONSGML v1.0//EN
CALSCALE:GREGORIAN
METHOD:PUBLISH
X-WR-CALNAME:Asia Institute Crane House
X-ORIGINAL-URL:https://crane-house.org
X-WR-CALDESC:Events for Asia Institute Crane House
REFRESH-INTERVAL;VALUE=DURATION:PT1H
X-Robots-Tag:noindex
X-PUBLISHED-TTL:PT1H
BEGIN:VTIMEZONE
TZID:UTC
BEGIN:STANDARD
TZOFFSETFROM:+0000
TZOFFSETTO:+0000
TZNAME:UTC
DTSTART:20230101T000000
END:STANDARD
END:VTIMEZONE
BEGIN:VEVENT
DTSTART;TZID=UTC:20241016T163000
DTEND;TZID=UTC:20241016T173000
DTSTAMP:20260424T130423
CREATED:20240910T154752Z
LAST-MODIFIED:20240910T155551Z
UID:3203-1729096200-1729099800@crane-house.org
SUMMARY:Chinese Club @ Field Elementary
DESCRIPTION:
URL:https://crane-house.org/event/chinese-club-field-elementary-2/
LOCATION:Field Elementary\, 120 Sacred Heart Ln\, Louisville\, 40206\, United States
CATEGORIES:Additional Program,Event Calendar,Upcoming Event
ATTACH;FMTTYPE=image/jpeg:https://crane-house.org/wp-content/uploads/2023/10/ChineseClub_Fields.jpg
ORGANIZER;CN="Asia Institute - Crane House":MAILTO:khamm@crane-house.org
END:VEVENT
END:VCALENDAR