BEGIN:VCALENDAR
VERSION:2.0
PRODID:-//Asia Institute Crane House - ECPv6.15.20//NONSGML v1.0//EN
CALSCALE:GREGORIAN
METHOD:PUBLISH
X-WR-CALNAME:Asia Institute Crane House
X-ORIGINAL-URL:https://crane-house.org
X-WR-CALDESC:Events for Asia Institute Crane House
REFRESH-INTERVAL;VALUE=DURATION:PT1H
X-Robots-Tag:noindex
X-PUBLISHED-TTL:PT1H
BEGIN:VTIMEZONE
TZID:UTC
BEGIN:STANDARD
TZOFFSETFROM:+0000
TZOFFSETTO:+0000
TZNAME:UTC
DTSTART:20230101T000000
END:STANDARD
END:VTIMEZONE
BEGIN:VEVENT
DTSTART;TZID=UTC:20240623T090000
DTEND;TZID=UTC:20240627T153000
DTSTAMP:20260424T180336
CREATED:20250317T133340Z
LAST-MODIFIED:20250527T161413Z
UID:3603-1719133200-1719502200@crane-house.org
SUMMARY:Crane House Explorers: A Chinese Adventure - Summer Camp
DESCRIPTION:
URL:https://crane-house.org/event/crane-house-explorers-a-chinese-adventure-summer-camp/
LOCATION:Asia Institute – Crane House\, 1244 S. 3rd Street\, Louisville\, KY
CATEGORIES:Additional Program,Event Calendar,Upcoming Event
ATTACH;FMTTYPE=image/png:https://crane-house.org/wp-content/uploads/2025/03/Summer-Camp-Flyer-2025_header.png
ORGANIZER;CN="Asia Institute - Crane House":MAILTO:khamm@crane-house.org
END:VEVENT
END:VCALENDAR