BEGIN:VCALENDAR
VERSION:2.0
PRODID:-//Asia Institute Crane House - ECPv6.15.20//NONSGML v1.0//EN
CALSCALE:GREGORIAN
METHOD:PUBLISH
X-WR-CALNAME:Asia Institute Crane House
X-ORIGINAL-URL:https://crane-house.org
X-WR-CALDESC:Events for Asia Institute Crane House
REFRESH-INTERVAL;VALUE=DURATION:PT1H
X-Robots-Tag:noindex
X-PUBLISHED-TTL:PT1H
BEGIN:VTIMEZONE
TZID:UTC
BEGIN:STANDARD
TZOFFSETFROM:+0000
TZOFFSETTO:+0000
TZNAME:UTC
DTSTART:20230101T000000
END:STANDARD
END:VTIMEZONE
BEGIN:VEVENT
DTSTART;TZID=UTC:20240507T180000
DTEND;TZID=UTC:20240507T190000
DTSTAMP:20260424T180343
CREATED:20240208T180144Z
LAST-MODIFIED:20240430T151318Z
UID:2820-1715104800-1715108400@crane-house.org
SUMMARY:Asian Language Corner – Chinese Corner @ St Matthews
DESCRIPTION:Location: St. Matthews-Eline Library\nThe last session of our biweekly Spring 2024 Chinese Language Corner Series; join a group and practice your Chinese language skills with native speakers and professional teachers. Free and open to the public. Please email ming.wu@louisville.edu to RSVP.
URL:https://crane-house.org/event/language-corner-chinese-culture-corner-st-matthews-2024-5-7/
LOCATION:St. Matthew Public Library\, 3940 Grandview Ave\, Louisville\, 40207\, United States
CATEGORIES:Additional Program,Event Calendar,Upcoming Event
ATTACH;FMTTYPE=image/png:https://crane-house.org/wp-content/uploads/2023/08/CLC.png
ORGANIZER;CN="Asia Institute - Crane House":MAILTO:khamm@crane-house.org
END:VEVENT
END:VCALENDAR